From mboxrd@z Thu Jan 1 00:00:00 1970 Return-Path: Received: from mails.dpdk.org (mails.dpdk.org [217.70.189.124]) by inbox.dpdk.org (Postfix) with ESMTP id 4F41F48B33 for ; Mon, 17 Nov 2025 16:18:24 +0100 (CET) Received: from mails.dpdk.org (localhost [127.0.0.1]) by mails.dpdk.org (Postfix) with ESMTP id 2F15C4025A; Mon, 17 Nov 2025 16:18:24 +0100 (CET) Received: from mail-yw1-f227.google.com (mail-yw1-f227.google.com [209.85.128.227]) by mails.dpdk.org (Postfix) with ESMTP id 642D64025A for ; Mon, 17 Nov 2025 16:18:23 +0100 (CET) Received: by mail-yw1-f227.google.com with SMTP id 00721157ae682-78677ff31c2so36681067b3.2 for ; Mon, 17 Nov 2025 07:18:23 -0800 (PST) DKIM-Signature: v=1; a=rsa-sha256; c=relaxed/relaxed; d=iol.unh.edu; s=unh-iol; t=1763392702; x=1763997502; darn=dpdk.org; h=references:in-reply-to:cc:to:from:subject:message-id:date:from:to :cc:subject:date:message-id:reply-to; bh=Cy30I6rJgMTcAAJdQ+2MXE0nneSHWiCMKdBOG0yZNdM=; b=PpNW3U9tDm0SAvVk/pkv+DB8uopNdL5kqZP7m1iQ76i+yleBpHlLFfMOUzjiuVi9fg FqcvU/WUBLYfVwyQgzF5BHyFq1VWQVzGpSctFaFq/kbnjMK5tW596gelW3cP346tpN9r BILkzI7omNUbTQTQJhPtO92kk0gPT65m3GOFc= X-Google-DKIM-Signature: v=1; a=rsa-sha256; c=relaxed/relaxed; d=1e100.net; s=20230601; t=1763392702; x=1763997502; h=references:in-reply-to:cc:to:from:subject:message-id:date:x-gm-gg :x-gm-message-state:from:to:cc:subject:date:message-id:reply-to; bh=Cy30I6rJgMTcAAJdQ+2MXE0nneSHWiCMKdBOG0yZNdM=; b=bR7zgXntWFGittAtEXB+ldJ0ruI4OseXG82xszzuwTt2S4rLMa09r+u8QVQWF9x9Ns utcJIe8NY2zDdM9gpriZkkQcs+xUSPjgSJ7YLZHg8x3sKjBDyF7eNY/BaG+PHXTAjvop XQBm81ki6NlpZS+geqFtiNjGalPLXe5Tgj4deQsGrBedCSOs367wd2Mj1EfwjNy5QxEQ CUVQN34pKDqpdNog0AXEChnjY5frs9vBnqCaDbURcS+7qFLFFgUJMyY9nLSo6/nrwyg8 hFM1nr0hgpht7kqU2LJMyCdCmnNo2Cwt0w3knBe0Af3YrpPSn/u+9jg5GHEAZV/KJtAA 3JUw== X-Gm-Message-State: AOJu0YwY7b/JC8QY113NI8souKChWQEEHgw66YvGG9V/j7FahmARPiS9 D7F+Nn9kyed6QL2LJ55HspvljyM98hmUAxkm0ZzSZMym/QSpxp6XqXGbahAo3eqCmvRicY2ZlcL rKvuUX1vSbzoL0f+s7cICtXomQPVsv4UE2dXbZrT6HaWF X-Gm-Gg: ASbGncu3XwnN9T0FKrecoeYS8X3LxbbVzCcotWs1mJRJwqkSFhDz7mk4lP/rkaGm07H vYmbleyg7411A0JFT7TaVWL+gYZGaw6klBjfz4qwavxU9AB0L9AUUd96Mv5Nl0r97BkTjpjTSvE LFvaPSSMv424Gcy4394KmKZk+K9xfcnnxIwX2fRuzUSN28yf+Ep6ZtQJgsqQZEpERoby37gM+Zo RSY0FkLunI1suqTN4AwZjjAKuOZ64hwc8S4dSSTKSLh3cT5Vimr5dW7Rv7qLuNiGAIdD1RPyb/g RnWuvk1b5gCw4olfdVrLQ4DEY7abuxOUpz6CcbdYwDptblilfheaMxDJxG2Y1jJXTd+h7UoaaW8 Zal6NoNr4Mx+3SZd8kYT+HLjBC0cSNWE= X-Google-Smtp-Source: AGHT+IHdLx/pp0rC0RVWeojpI4/7MbVyrAC12P7d791awqQOHDlvbaaJawRzhsQS2VQ8w9x/jW7jcWQZZzYX X-Received: by 2002:a05:690e:1513:b0:641:f5bc:696a with SMTP id 956f58d0204a3-641f5bc740bmr6534229d50.70.1763392702458; Mon, 17 Nov 2025 07:18:22 -0800 (PST) Received: from postal.iol.unh.edu (postal.iol.unh.edu. [132.177.123.84]) by smtp-relay.gmail.com with ESMTPS id 00721157ae682-7895017c703sm1797077b3.20.2025.11.17.07.18.22 (version=TLS1_2 cipher=ECDHE-ECDSA-AES128-GCM-SHA256 bits=128/128); Mon, 17 Nov 2025 07:18:22 -0800 (PST) X-Relaying-Domain: iol.unh.edu Date: Mon, 17 Nov 2025 07:18:22 -0800 (PST) Message-ID: <691b3cbe.050a0220.27527b.8f80SMTPIN_ADDED_MISSING@mx.google.com> Received: from [172.21.0.5] (unknown [172.18.0.240]) by postal.iol.unh.edu (Postfix) with ESMTP id 26934604D420; Mon, 17 Nov 2025 10:18:22 -0500 (EST) Subject: |SUCCESS| pw158847 [PATCH] net/mlx5: fix segmentation fault in flow From: dpdklab@iol.unh.edu To: Test Report Cc: dpdk-test-reports@iol.unh.edu In-Reply-To: <20251117071536.205328-1-mkashani@nvidia.com> References: <20251117071536.205328-1-mkashani@nvidia.com> Content-Type: text/plain X-BeenThere: test-report@dpdk.org X-Mailman-Version: 2.1.29 Precedence: list List-Id: automatic DPDK test reports List-Unsubscribe: , List-Archive: List-Post: List-Help: List-Subscribe: , Errors-To: test-report-bounces@dpdk.org Test-Label: iol-compile-arm64-testing Test-Status: SUCCESS http://dpdk.org/patch/158847 _Testing PASS_ Submitter: Maayan Kashani Date: Monday, November 17 2025 07:15:36 DPDK git baseline: Repo:dpdk-next-net-mlx Branch: master CommitID:6c8ab18883d4a51ac512a969d36b47272a63b61b 158847 --> testing pass Upstream job id: Generic-DPDK-Compile-Meson#445504 Test environment and result as below: +------------------------------+--------------------+ | Environment | dpdk_meson_compile | +==============================+====================+ | Red Hat Enterprise Linux 9.5 | PASS | +------------------------------+--------------------+ | Ubuntu 20.04 | PASS | +------------------------------+--------------------+ | Debian GNU/Linux 12 | PASS | +------------------------------+--------------------+ | Fedora Linux 42 | PASS | +------------------------------+--------------------+ | Ubuntu 24.04 | PASS | +------------------------------+--------------------+ | Ubuntu 22.04 | PASS | +------------------------------+--------------------+ | CentOS Stream 10 | PASS | +------------------------------+--------------------+ | CentOS Stream 9 | PASS | +------------------------------+--------------------+ Red Hat Enterprise Linux 9.5 Kernel: 5.4 Compiler: gcc gcc (GCC) 11.5.0 20240719 (Red Hat 11.5.0-2) Ubuntu 20.04 Kernel: 5.15 Compiler: aarch64-linux-gnu-gcc gcc (Ubuntu 9.4.0-1ubuntu1~20.04.2) 9.4.0 Debian GNU/Linux 12 Kernel: 5.4 Compiler: gcc gcc (Debian 12.2.0-14+deb12u1) 12.2.0 Fedora Linux 42 Kernel: 5.4 Compiler: gcc gcc (GCC) 15.2.1 20250808 (Red Hat 15.2.1-1) Ubuntu 24.04 Kernel: 5.4 Compiler: gcc gcc (Ubuntu 13.3.0-6ubuntu2~24.04) 13.3.0 Ubuntu 22.04 Kernel: 5.4 Compiler: gcc gcc (Ubuntu 11.4.0-1ubuntu1~22.04) 11.4.0 CentOS Stream 10 Kernel: 5.4 Compiler: gcc gcc (GCC) 14.2.1 20250110 (Red Hat 14.2.1-8) CentOS Stream 9 Kernel: 5.4 Compiler: gcc gcc (GCC) 11.5.0 20240719 (Red Hat 11.5.0-11) To view detailed results, visit: https://lab.dpdk.org/results/dashboard/patchsets/34618/ UNH-IOL DPDK Community Lab To manage your email subscriptions, visit: https://lab.dpdk.org/results/dashboard/preferences/subscriptions/