From mboxrd@z Thu Jan 1 00:00:00 1970 Return-Path: Received: from mails.dpdk.org (mails.dpdk.org [217.70.189.124]) by inbox.dpdk.org (Postfix) with ESMTP id 17D9E48B33 for ; Mon, 17 Nov 2025 16:33:55 +0100 (CET) Received: from mails.dpdk.org (localhost [127.0.0.1]) by mails.dpdk.org (Postfix) with ESMTP id 020A84025A; Mon, 17 Nov 2025 16:33:55 +0100 (CET) Received: from mail-vs1-f98.google.com (mail-vs1-f98.google.com [209.85.217.98]) by mails.dpdk.org (Postfix) with ESMTP id CCD7D4025A for ; Mon, 17 Nov 2025 16:33:53 +0100 (CET) Received: by mail-vs1-f98.google.com with SMTP id ada2fe7eead31-5dfa9c01c54so2819825137.0 for ; Mon, 17 Nov 2025 07:33:53 -0800 (PST) DKIM-Signature: v=1; a=rsa-sha256; c=relaxed/relaxed; d=iol.unh.edu; s=unh-iol; t=1763393633; x=1763998433; darn=dpdk.org; h=references:in-reply-to:cc:to:from:subject:message-id:date:from:to :cc:subject:date:message-id:reply-to; bh=0fK1JMOg/EI7KyPokE6Ys5Mjjq/U0biUIup5mhGnH/Y=; b=erRKGCyWEpi5CQTlkFTV+aZTuwmYicRLFmAu6aVGvS2+x7B4WQ/mu1Pk+/0X7/O/7O 5qDfJzOVoh2PWfyuW5O3thb1fqV++6OJsi7eSBFINV+lhM2UfCPlEo7Fhs5BzKOqpzm+ goz1rZE6vcd4w30lcqYTFN6547svFwt2z0sgQ= X-Google-DKIM-Signature: v=1; a=rsa-sha256; c=relaxed/relaxed; d=1e100.net; s=20230601; t=1763393633; x=1763998433; h=references:in-reply-to:cc:to:from:subject:message-id:date:x-gm-gg :x-gm-message-state:from:to:cc:subject:date:message-id:reply-to; bh=0fK1JMOg/EI7KyPokE6Ys5Mjjq/U0biUIup5mhGnH/Y=; b=VNZ42u/JZamM5WGL02QkfSiZDE9FaHS/E8GFFheBlajUAMQKUxJ3E8mkGj1EzFl0Ek Y85eoxclT4MI0BNJCw+dUDvL+EzPVHncb4fdR213rlaLYH4Ya1MKHF77B8zn70idCfh5 vHnFmrhmE0mJ9MAk/WdbZj/EGJgUmYXF5j6tqJs7zi3zkmddXI9EYzspCaHnwXSeC5UV Udh1rwes93laZTjr8uHdTho6myXPIJNKXN7erBW3PopXA3YlNa6q5HXq6SIT+diQBSoA GH16uZK21ngVvqpVdqMFlI+R4QxnlmhRxKZUXRV8nYodR/fpLz9ntAseFYyWovKUd42d i3zw== X-Gm-Message-State: AOJu0YzzX/isQysQUqXoZwsGFvBl609T2UlR9aYiob3rQNYHlHK1YXI0 vy1ChrUF7rOtIKBXVa/Q0PwgpI67UFECwGQdWKCLFAFKYkrqLuXNF0BDTDJ75ck6/VsTR3s1yfu 9hiIjUb1F9scJhITcN+ZXNeg7L/uY6+bFSEu4FD1fPFbt X-Gm-Gg: ASbGncsraDeEp+o5jJ+hVaXZgZEvEFu0syvHGIc1aQlxUyZobNYz2Rjhhig+HWeDlqk IqX+hQaQLlbOtHnkhRwGV9/XIZdCM0wtLulR9zwnJgYFbxXw8PUDCVtNHXE8ZNf/2p/fFfCHSvE 3cSc/ZE5sFQt6Ge0BZNFvTYpw0p5BErmMS+UKkzU92P2U/nk1+uHh89obwFRkPwbx7bOATHuW02 kNONCbbiwv+4NRTmpGi8fO+EQvFkhmpKdoz3Z4rG7SZ2hMAjOpyX98PjikbxgraNRRZDeodTWq1 xvQT6JRkJD1PFvlAMhGKH7RChOICoLebg6gvxT11/xNfbjm57et5A1AAHTUyVliyHI6tHIQuoqI 4bqlO1qUhfP1CQyUmeqP9CSA4NL00sHM= X-Google-Smtp-Source: AGHT+IHymIklHZGHAkCB2qmye2b83U+WZ3cctcKufzl/aNZmA3Xs3nZgcT3JsmjAFvDPp8zzPeg2/Gp82kQS X-Received: by 2002:a05:6102:442a:b0:5dd:c3ec:b66 with SMTP id ada2fe7eead31-5dfc5a64aa6mr4015696137.30.1763393633147; Mon, 17 Nov 2025 07:33:53 -0800 (PST) Received: from postal.iol.unh.edu (postal.iol.unh.edu. [132.177.123.84]) by smtp-relay.gmail.com with ESMTPS id ada2fe7eead31-5dfb721d4b2sm1466090137.4.2025.11.17.07.33.53 (version=TLS1_2 cipher=ECDHE-ECDSA-AES128-GCM-SHA256 bits=128/128); Mon, 17 Nov 2025 07:33:53 -0800 (PST) X-Relaying-Domain: iol.unh.edu Date: Mon, 17 Nov 2025 07:33:53 -0800 (PST) Message-ID: <691b4061.050a0220.35a5e6.894cSMTPIN_ADDED_MISSING@mx.google.com> Received: from [172.21.0.4] (unknown [172.18.0.240]) by postal.iol.unh.edu (Postfix) with ESMTP id CF9A3604D420; Mon, 17 Nov 2025 10:33:52 -0500 (EST) Subject: |SUCCESS| pw158847 [PATCH] net/mlx5: fix segmentation fault in flow From: dpdklab@iol.unh.edu To: Test Report Cc: dpdk-test-reports@iol.unh.edu In-Reply-To: <20251117071536.205328-1-mkashani@nvidia.com> References: <20251117071536.205328-1-mkashani@nvidia.com> Content-Type: text/plain X-BeenThere: test-report@dpdk.org X-Mailman-Version: 2.1.29 Precedence: list List-Id: automatic DPDK test reports List-Unsubscribe: , List-Archive: List-Post: List-Help: List-Subscribe: , Errors-To: test-report-bounces@dpdk.org Test-Label: iol-compile-amd64-testing Test-Status: SUCCESS http://dpdk.org/patch/158847 _Testing PASS_ Submitter: Maayan Kashani Date: Monday, November 17 2025 07:15:36 DPDK git baseline: Repo:dpdk-next-net-mlx Branch: master CommitID:6c8ab18883d4a51ac512a969d36b47272a63b61b 158847 --> testing pass Upstream job id: Windows-Compile-DPDK-Native#32478 Test environment and result as below: +-------------------------------+--------------------+------------------+-------------------+-------------------------+ | Environment | dpdk_meson_compile | dpdk_compile_ovs | dpdk_msvc_compile | dpdk_llvm_clang_compile | +===============================+====================+==================+===================+=========================+ | FreeBSD 14.2 | PASS | SKIPPED | SKIPPED | SKIPPED | +-------------------------------+--------------------+------------------+-------------------+-------------------------+ | Ubuntu 20.04 | PASS | SKIPPED | SKIPPED | SKIPPED | +-------------------------------+--------------------+------------------+-------------------+-------------------------+ | CentOS Stream 9 | PASS | SKIPPED | SKIPPED | SKIPPED | +-------------------------------+--------------------+------------------+-------------------+-------------------------+ | CentOS Stream 10 | PASS | SKIPPED | SKIPPED | SKIPPED | +-------------------------------+--------------------+------------------+-------------------+-------------------------+ | Debian GNU/Linux 12 | PASS | SKIPPED | SKIPPED | SKIPPED | +-------------------------------+--------------------+------------------+-------------------+-------------------------+ | Fedora Linux 42 | PASS | PASS | SKIPPED | SKIPPED | +-------------------------------+--------------------+------------------+-------------------+-------------------------+ | openSUSE Leap 15.6 | PASS | SKIPPED | SKIPPED | SKIPPED | +-------------------------------+--------------------+------------------+-------------------+-------------------------+ | Red Hat Enterprise Linux 8.10 | PASS | SKIPPED | SKIPPED | SKIPPED | +-------------------------------+--------------------+------------------+-------------------+-------------------------+ | Red Hat Enterprise Linux 9.5 | PASS | SKIPPED | SKIPPED | SKIPPED | +-------------------------------+--------------------+------------------+-------------------+-------------------------+ | Ubuntu 22.04 | PASS | SKIPPED | SKIPPED | SKIPPED | +-------------------------------+--------------------+------------------+-------------------+-------------------------+ | Ubuntu 24.04 | PASS | PASS | SKIPPED | SKIPPED | +-------------------------------+--------------------+------------------+-------------------+-------------------------+ | Alpine Linux 3.22.0 | PASS | SKIPPED | SKIPPED | SKIPPED | +-------------------------------+--------------------+------------------+-------------------+-------------------------+ | Windows Server 2022 | SKIPPED | SKIPPED | PASS | PASS | +-------------------------------+--------------------+------------------+-------------------+-------------------------+ FreeBSD 14.2 Kernel: 14.2-RELEASE Compiler: clang 18.1.6 Ubuntu 20.04 Kernel: 4.19 Compiler: gcc gcc (Ubuntu 9.4.0-1ubuntu1~20.04.2) 9.4.0 CentOS Stream 9 Kernel: 5.15 Compiler: gcc gcc (GCC) 11.5.0 20240719 (Red Hat 11.5.0-11) CentOS Stream 10 Kernel: 5.15 Compiler: gcc gcc (GCC) 14.2.1 20250110 (Red Hat 14.2.1-8) Debian GNU/Linux 12 Kernel: 5.15 Compiler: gcc gcc (Debian 12.2.0-14+deb12u1) 12.2.0 Fedora Linux 42 Kernel: 5.15 Compiler: clang gcc (GCC) 15.2.1 20250808 (Red Hat 15.2.1-1) openSUSE Leap 15.6 Kernel: 5.15 Compiler: gcc gcc (SUSE Linux) 7.5.0 Red Hat Enterprise Linux 8.10 Kernel: 5.15 Compiler: gcc gcc (GCC) 8.5.0 20210514 (Red Hat 8.5.0-22) Red Hat Enterprise Linux 9.5 Kernel: 5.15 Compiler: gcc gcc (GCC) 11.5.0 20240719 (Red Hat 11.5.0-2) Ubuntu 22.04 Kernel: 5.15 Compiler: gcc gcc (Ubuntu 11.4.0-1ubuntu1~22.04) 11.4.0 Ubuntu 24.04 Kernel: 5.15 Compiler: gcc gcc (Ubuntu 13.3.0-6ubuntu2~24.04) 13.3.0 Alpine Linux 3.22.0 Kernel: 5.15 Compiler: gcc gcc (Alpine 14.2.0) 14.2.0 Windows Server 2022 Kernel: 10.0.20348.2031 Compiler: clang 15.0.7, gcc 14.1.0 (MinGW), and MSVC VS 19.39.33521 To view detailed results, visit: https://lab.dpdk.org/results/dashboard/patchsets/34618/ UNH-IOL DPDK Community Lab To manage your email subscriptions, visit: https://lab.dpdk.org/results/dashboard/preferences/subscriptions/