From mboxrd@z Thu Jan 1 00:00:00 1970 Return-Path: Received: from mails.dpdk.org (mails.dpdk.org [217.70.189.124]) by inbox.dpdk.org (Postfix) with ESMTP id D961748B33 for ; Mon, 17 Nov 2025 16:42:27 +0100 (CET) Received: from mails.dpdk.org (localhost [127.0.0.1]) by mails.dpdk.org (Postfix) with ESMTP id D3DFB4025A; Mon, 17 Nov 2025 16:42:27 +0100 (CET) Received: from mail-qt1-f226.google.com (mail-qt1-f226.google.com [209.85.160.226]) by mails.dpdk.org (Postfix) with ESMTP id 72ECE4025A for ; Mon, 17 Nov 2025 16:42:27 +0100 (CET) Received: by mail-qt1-f226.google.com with SMTP id d75a77b69052e-4ee2293e6a2so8275041cf.0 for ; Mon, 17 Nov 2025 07:42:27 -0800 (PST) DKIM-Signature: v=1; a=rsa-sha256; c=relaxed/relaxed; d=iol.unh.edu; s=unh-iol; t=1763394147; x=1763998947; darn=dpdk.org; h=references:in-reply-to:cc:to:from:subject:message-id:date:from:to :cc:subject:date:message-id:reply-to; bh=BRvbVEk4tg+7bzF4xaqf9uvDvqphw5C8GPp5XRqpWAM=; b=elPWm7Jt3V1xNahokYIqxHS9p9MBr1I8VGLaQlzEg5QqWvj7HgF2WsU4ByYaUE3N3E BgF8LG5Guy14Vbrr1MckJHRoX0T62rAXZnKIEYtN8M6n+uu0aKFEoSi2VowJDusOFoQ+ bkMhMOamqDhHTnekVihQSQciw/dzAdl3bAnH4= X-Google-DKIM-Signature: v=1; a=rsa-sha256; c=relaxed/relaxed; d=1e100.net; s=20230601; t=1763394147; x=1763998947; h=references:in-reply-to:cc:to:from:subject:message-id:date:x-gm-gg :x-gm-message-state:from:to:cc:subject:date:message-id:reply-to; bh=BRvbVEk4tg+7bzF4xaqf9uvDvqphw5C8GPp5XRqpWAM=; b=r9njIFkH3LWZo46qRabYtcjr9/u3cDuMO/Xi1LCiXtNMhJw6R4lIGYqQB17bvMbT7L nWDhjjs8Sa8nPs0MQ1Zx6EDutSpM3FfHelShgxWby3h+KSFG38Qkeh5Mevo7DZICSJs+ fRPWfoA8CByl7+e23DSXw2dtzKd84KhDFfzeNJqVqzp4EiXnlvkuNXSpICPxr9vTiCEX UZ8pohXa9mY4K+behwTKXP5dNPsNvx62hFNkGLZIAdgu/O9JlQYgISg9jJ7PdyVkv+wM WOShOUkOvklKHbNOcOQ/tgUibRRlVPLsMlAY4hZjzWV4OgM3OjsUF2Svua4a1SpGinJx RPCQ== X-Gm-Message-State: AOJu0YzU6KSOxUj7WbOoeIaUv+bJKCVVuJyxULZZcfvw/Gh/0pL4kNEa 7t641QQa5QQ6/+q9ETeq7u1LrsvJWczrCowUNMHD3g+O/xYFu4YJeaKQNnEfWNUpD4F22TrhvnQ bYcd07UgJqI4sQxXvztfRARQiAvtggKgz2yFiax2buNJsSSMJYM5sTX6/J6R/ X-Gm-Gg: ASbGncvKiElMrcIwck9rBqHZzEttPLztQSUife5IcnjS47nUQhS5iOpoSS5u9vPHKUU lqdUr8tWXZRHZfWt5sBAr/SqS5OdDk+op5NJjiC4MHYewMcR8/T4Lo1oREOMOZN7U/QYVCkv02u qft1jhl3iV+qtg4zA3EXs/gEUzm0EnZUGDOFs5lvWBds6CUlNISTMUFj9g/pmGJFHdhVIkP54F+ 51lHAoUjCFnTPYK58jAS3Qg4JeNJflw3YgvumAtUTrsnpu56egSXLN4P6OSShuR5ji41WjwZkOH qHrgKAcGYCNfaCWdsABv72opNy8Qholq3U5pe8ooF1w1ha6XCWF5Rd5ov0Mbnhg+wk+mbPZnmOq 9KZv6LM6Q X-Google-Smtp-Source: AGHT+IFsY8Nje5k2VIcIPA8g8JaIROdaeQX6ep1d1m/4B3ooN/V/jBfmeOOwWGmT1Ab1OihA7tGIyjr+RZEM X-Received: by 2002:ac8:5a12:0:b0:4ee:219e:e7b with SMTP id d75a77b69052e-4ee219e1d50mr44868731cf.77.1763394146624; Mon, 17 Nov 2025 07:42:26 -0800 (PST) Received: from postal.iol.unh.edu (postal.iol.unh.edu. [2606:4100:3880:1234::84]) by smtp-relay.gmail.com with ESMTPS id d75a77b69052e-4ee06ee71c0sm4541381cf.8.2025.11.17.07.42.26 (version=TLS1_2 cipher=ECDHE-ECDSA-AES128-GCM-SHA256 bits=128/128); Mon, 17 Nov 2025 07:42:26 -0800 (PST) X-Relaying-Domain: iol.unh.edu Date: Mon, 17 Nov 2025 07:42:26 -0800 (PST) Message-ID: <691b4262.c80a0220.1de01a.6b02SMTPIN_ADDED_MISSING@mx.google.com> Received: from [172.21.0.2] (unknown [172.18.0.240]) by postal.iol.unh.edu (Postfix) with ESMTP id 543A6604D420; Mon, 17 Nov 2025 10:42:26 -0500 (EST) Subject: |SUCCESS| pw158847 [PATCH] net/mlx5: fix segmentation fault in flow From: dpdklab@iol.unh.edu To: Test Report Cc: dpdk-test-reports@iol.unh.edu In-Reply-To: <20251117071536.205328-1-mkashani@nvidia.com> References: <20251117071536.205328-1-mkashani@nvidia.com> Content-Type: text/plain X-BeenThere: test-report@dpdk.org X-Mailman-Version: 2.1.29 Precedence: list List-Id: automatic DPDK test reports List-Unsubscribe: , List-Archive: List-Post: List-Help: List-Subscribe: , Errors-To: test-report-bounces@dpdk.org Test-Label: iol-compile-amd64-testing Test-Status: SUCCESS http://dpdk.org/patch/158847 _Testing PASS_ Submitter: Maayan Kashani Date: Monday, November 17 2025 07:15:36 DPDK git baseline: Repo:dpdk-next-net-mlx Branch: master CommitID:6c8ab18883d4a51ac512a969d36b47272a63b61b 158847 --> testing pass Upstream job id: Windows-Compile-DPDK-Native#32479 Test environment and result as below: +-------------------------------+--------------------+------------------+-------------------+-------------------------+----------------------+ | Environment | dpdk_meson_compile | dpdk_compile_ovs | dpdk_msvc_compile | dpdk_llvm_clang_compile | dpdk_mingw64_compile | +===============================+====================+==================+===================+=========================+======================+ | FreeBSD 14.2 | PASS | SKIPPED | SKIPPED | SKIPPED | SKIPPED | +-------------------------------+--------------------+------------------+-------------------+-------------------------+----------------------+ | Ubuntu 20.04 | PASS | SKIPPED | SKIPPED | SKIPPED | SKIPPED | +-------------------------------+--------------------+------------------+-------------------+-------------------------+----------------------+ | CentOS Stream 9 | PASS | SKIPPED | SKIPPED | SKIPPED | SKIPPED | +-------------------------------+--------------------+------------------+-------------------+-------------------------+----------------------+ | CentOS Stream 10 | PASS | SKIPPED | SKIPPED | SKIPPED | SKIPPED | +-------------------------------+--------------------+------------------+-------------------+-------------------------+----------------------+ | Debian GNU/Linux 12 | PASS | SKIPPED | SKIPPED | SKIPPED | SKIPPED | +-------------------------------+--------------------+------------------+-------------------+-------------------------+----------------------+ | Fedora Linux 42 | PASS | PASS | SKIPPED | SKIPPED | SKIPPED | +-------------------------------+--------------------+------------------+-------------------+-------------------------+----------------------+ | openSUSE Leap 15.6 | PASS | SKIPPED | SKIPPED | SKIPPED | SKIPPED | +-------------------------------+--------------------+------------------+-------------------+-------------------------+----------------------+ | Red Hat Enterprise Linux 8.10 | PASS | SKIPPED | SKIPPED | SKIPPED | SKIPPED | +-------------------------------+--------------------+------------------+-------------------+-------------------------+----------------------+ | Red Hat Enterprise Linux 9.5 | PASS | SKIPPED | SKIPPED | SKIPPED | SKIPPED | +-------------------------------+--------------------+------------------+-------------------+-------------------------+----------------------+ | Ubuntu 22.04 | PASS | SKIPPED | SKIPPED | SKIPPED | SKIPPED | +-------------------------------+--------------------+------------------+-------------------+-------------------------+----------------------+ | Ubuntu 24.04 | PASS | PASS | SKIPPED | SKIPPED | SKIPPED | +-------------------------------+--------------------+------------------+-------------------+-------------------------+----------------------+ | Alpine Linux 3.22.0 | PASS | SKIPPED | SKIPPED | SKIPPED | SKIPPED | +-------------------------------+--------------------+------------------+-------------------+-------------------------+----------------------+ | Windows Server 2022 | SKIPPED | SKIPPED | PASS | PASS | PASS | +-------------------------------+--------------------+------------------+-------------------+-------------------------+----------------------+ FreeBSD 14.2 Kernel: 14.2-RELEASE Compiler: clang 18.1.6 Ubuntu 20.04 Kernel: 4.19 Compiler: gcc gcc (Ubuntu 9.4.0-1ubuntu1~20.04.2) 9.4.0 CentOS Stream 9 Kernel: 5.15 Compiler: gcc gcc (GCC) 11.5.0 20240719 (Red Hat 11.5.0-11) CentOS Stream 10 Kernel: 5.15 Compiler: gcc gcc (GCC) 14.2.1 20250110 (Red Hat 14.2.1-8) Debian GNU/Linux 12 Kernel: 5.15 Compiler: gcc gcc (Debian 12.2.0-14+deb12u1) 12.2.0 Fedora Linux 42 Kernel: 5.15 Compiler: clang gcc (GCC) 15.2.1 20250808 (Red Hat 15.2.1-1) openSUSE Leap 15.6 Kernel: 5.15 Compiler: gcc gcc (SUSE Linux) 7.5.0 Red Hat Enterprise Linux 8.10 Kernel: 5.15 Compiler: gcc gcc (GCC) 8.5.0 20210514 (Red Hat 8.5.0-22) Red Hat Enterprise Linux 9.5 Kernel: 5.15 Compiler: gcc gcc (GCC) 11.5.0 20240719 (Red Hat 11.5.0-2) Ubuntu 22.04 Kernel: 5.15 Compiler: gcc gcc (Ubuntu 11.4.0-1ubuntu1~22.04) 11.4.0 Ubuntu 24.04 Kernel: 5.15 Compiler: gcc gcc (Ubuntu 13.3.0-6ubuntu2~24.04) 13.3.0 Alpine Linux 3.22.0 Kernel: 5.15 Compiler: gcc gcc (Alpine 14.2.0) 14.2.0 Windows Server 2022 Kernel: 10.0.20348.2031 Compiler: clang 15.0.7, gcc 14.1.0 (MinGW), and MSVC VS 19.39.33521 To view detailed results, visit: https://lab.dpdk.org/results/dashboard/patchsets/34618/ UNH-IOL DPDK Community Lab To manage your email subscriptions, visit: https://lab.dpdk.org/results/dashboard/preferences/subscriptions/