From: dpdklab@iol.unh.edu
To: Test Report <test-report@dpdk.org>
Cc: dpdk-test-reports@iol.unh.edu
Subject: |SUCCESS| pw158857 [PATCH] [v2] net/mlx5/windows: fix match criteria
Date: Mon, 17 Nov 2025 07:45:52 -0800 (PST) [thread overview]
Message-ID: <691b4330.050a0220.dc9cb.ed50SMTPIN_ADDED_MISSING@mx.google.com> (raw)
In-Reply-To: <20251117084500.1276-1-isharoni@nvidia.com>
Test-Label: iol-compile-amd64-testing
Test-Status: SUCCESS
http://dpdk.org/patch/158857
_Testing PASS_
Submitter: Itai Sharoni <isharoni@nvidia.com>
Date: Monday, November 17 2025 08:45:00
DPDK git baseline: Repo:dpdk-next-net-mlx
Branch: master
CommitID:6c8ab18883d4a51ac512a969d36b47272a63b61b
158857 --> testing pass
Upstream job id: Generic-DPDK-Compile-Meson#445613
Test environment and result as below:
+-------------------------------+--------------------+-------------------+------------------+
| Environment | dpdk_meson_compile | dpdk_msvc_compile | dpdk_compile_ovs |
+===============================+====================+===================+==================+
| Ubuntu 20.04 | PASS | SKIPPED | SKIPPED |
+-------------------------------+--------------------+-------------------+------------------+
| FreeBSD 14.2 | PASS | SKIPPED | SKIPPED |
+-------------------------------+--------------------+-------------------+------------------+
| openSUSE Leap 15.6 | PASS | SKIPPED | SKIPPED |
+-------------------------------+--------------------+-------------------+------------------+
| CentOS Stream 9 | PASS | SKIPPED | SKIPPED |
+-------------------------------+--------------------+-------------------+------------------+
| CentOS Stream 10 | PASS | SKIPPED | SKIPPED |
+-------------------------------+--------------------+-------------------+------------------+
| Debian GNU/Linux 12 | PASS | SKIPPED | SKIPPED |
+-------------------------------+--------------------+-------------------+------------------+
| Fedora Linux 42 | PASS | SKIPPED | PASS |
+-------------------------------+--------------------+-------------------+------------------+
| Red Hat Enterprise Linux 8.10 | PASS | SKIPPED | SKIPPED |
+-------------------------------+--------------------+-------------------+------------------+
| Red Hat Enterprise Linux 9.5 | PASS | SKIPPED | SKIPPED |
+-------------------------------+--------------------+-------------------+------------------+
| Ubuntu 22.04 | PASS | SKIPPED | SKIPPED |
+-------------------------------+--------------------+-------------------+------------------+
| Ubuntu 24.04 | PASS | SKIPPED | PASS |
+-------------------------------+--------------------+-------------------+------------------+
| Alpine Linux 3.22.0 | PASS | SKIPPED | SKIPPED |
+-------------------------------+--------------------+-------------------+------------------+
| Windows Server 2022 | SKIPPED | PASS | SKIPPED |
+-------------------------------+--------------------+-------------------+------------------+
Ubuntu 20.04
Kernel: 4.19
Compiler: gcc gcc (Ubuntu 9.4.0-1ubuntu1~20.04.2) 9.4.0
FreeBSD 14.2
Kernel: 14.2-RELEASE
Compiler: clang 18.1.6
openSUSE Leap 15.6
Kernel: 5.15
Compiler: gcc gcc (SUSE Linux) 7.5.0
CentOS Stream 9
Kernel: 5.15
Compiler: gcc gcc (GCC) 11.5.0 20240719 (Red Hat 11.5.0-11)
CentOS Stream 10
Kernel: 5.15
Compiler: gcc gcc (GCC) 14.2.1 20250110 (Red Hat 14.2.1-8)
Debian GNU/Linux 12
Kernel: 5.15
Compiler: gcc gcc (Debian 12.2.0-14+deb12u1) 12.2.0
Fedora Linux 42
Kernel: 5.15
Compiler: clang gcc (GCC) 15.2.1 20250808 (Red Hat 15.2.1-1)
Red Hat Enterprise Linux 8.10
Kernel: 5.15
Compiler: gcc gcc (GCC) 8.5.0 20210514 (Red Hat 8.5.0-22)
Red Hat Enterprise Linux 9.5
Kernel: 5.15
Compiler: gcc gcc (GCC) 11.5.0 20240719 (Red Hat 11.5.0-2)
Ubuntu 22.04
Kernel: 5.15
Compiler: gcc gcc (Ubuntu 11.4.0-1ubuntu1~22.04) 11.4.0
Ubuntu 24.04
Kernel: 5.15
Compiler: gcc gcc (Ubuntu 13.3.0-6ubuntu2~24.04) 13.3.0
Alpine Linux 3.22.0
Kernel: 5.15
Compiler: gcc gcc (Alpine 14.2.0) 14.2.0
Windows Server 2022
Kernel: 10.0.20348.2031
Compiler: clang 15.0.7, gcc 14.1.0 (MinGW), and MSVC VS 19.39.33521
To view detailed results, visit:
https://lab.dpdk.org/results/dashboard/patchsets/34626/
UNH-IOL DPDK Community Lab
To manage your email subscriptions, visit:
https://lab.dpdk.org/results/dashboard/preferences/subscriptions/
next prev parent reply other threads:[~2025-11-17 15:45 UTC|newest]
Thread overview: 24+ messages / expand[flat|nested] mbox.gz Atom feed top
[not found] <20251117084500.1276-1-isharoni@nvidia.com>
2025-11-17 8:11 ` |SUCCESS| pw158857 [PATCH v2] net/mlx5/windows: fix match criteria in flow creation qemudev
2025-11-17 8:16 ` qemudev
2025-11-17 8:44 ` checkpatch
2025-11-17 9:43 ` 0-day Robot
2025-11-17 9:43 ` 0-day Robot
2025-11-17 10:18 ` |PENDING| pw158857 [PATCH] [v2] net/mlx5/windows: fix match criteria dpdklab
2025-11-17 10:22 ` |SUCCESS| " dpdklab
2025-11-17 10:27 ` dpdklab
2025-11-17 10:27 ` dpdklab
2025-11-17 10:40 ` dpdklab
2025-11-17 11:48 ` dpdklab
2025-11-17 11:50 ` |PENDING| " dpdklab
2025-11-17 13:50 ` dpdklab
2025-11-17 15:03 ` dpdklab
2025-11-17 15:43 ` |SUCCESS| " dpdklab
2025-11-17 15:45 ` dpdklab [this message]
2025-11-17 16:08 ` dpdklab
2025-11-17 16:10 ` dpdklab
2025-11-17 16:24 ` dpdklab
2025-11-17 16:47 ` dpdklab
2025-11-17 17:24 ` dpdklab
2025-11-17 17:46 ` dpdklab
2025-11-17 18:08 ` dpdklab
2025-11-17 18:40 ` dpdklab
Reply instructions:
You may reply publicly to this message via plain-text email
using any one of the following methods:
* Save the following mbox file, import it into your mail client,
and reply-to-all from there: mbox
Avoid top-posting and favor interleaved quoting:
https://en.wikipedia.org/wiki/Posting_style#Interleaved_style
* Reply using the --to, --cc, and --in-reply-to
switches of git-send-email(1):
git send-email \
--in-reply-to=691b4330.050a0220.dc9cb.ed50SMTPIN_ADDED_MISSING@mx.google.com \
--to=dpdklab@iol.unh.edu \
--cc=dpdk-test-reports@iol.unh.edu \
--cc=test-report@dpdk.org \
/path/to/YOUR_REPLY
https://kernel.org/pub/software/scm/git/docs/git-send-email.html
* If your mail client supports setting the In-Reply-To header
via mailto: links, try the mailto: link
Be sure your reply has a Subject: header at the top and a blank line
before the message body.
This is a public inbox, see mirroring instructions
for how to clone and mirror all data and code used for this inbox;
as well as URLs for NNTP newsgroup(s).