From mboxrd@z Thu Jan 1 00:00:00 1970 Return-Path: Received: from mails.dpdk.org (mails.dpdk.org [217.70.189.124]) by inbox.dpdk.org (Postfix) with ESMTP id 4A7F348B33 for ; Mon, 17 Nov 2025 16:45:54 +0100 (CET) Received: from mails.dpdk.org (localhost [127.0.0.1]) by mails.dpdk.org (Postfix) with ESMTP id 450F74025A; Mon, 17 Nov 2025 16:45:54 +0100 (CET) Received: from mail-oi1-f227.google.com (mail-oi1-f227.google.com [209.85.167.227]) by mails.dpdk.org (Postfix) with ESMTP id 70D844025A for ; Mon, 17 Nov 2025 16:45:53 +0100 (CET) Received: by mail-oi1-f227.google.com with SMTP id 5614622812f47-45085a4ab72so2079226b6e.1 for ; Mon, 17 Nov 2025 07:45:53 -0800 (PST) DKIM-Signature: v=1; a=rsa-sha256; c=relaxed/relaxed; d=iol.unh.edu; s=unh-iol; t=1763394352; x=1763999152; darn=dpdk.org; h=references:in-reply-to:cc:to:from:subject:message-id:date:from:to :cc:subject:date:message-id:reply-to; bh=FLEPrmmdJujt9PDQQ1an/5h7cNtAbTm43I+e6M2NDBw=; b=EmhyPaGA7/kHsC5680BKQ8qYWhGJeeeei+uCfEleIGZca1n1mUlzrsSsPCFdcdnnJY YY9+b8jzImLlcMr92GoKsiMTPom46FAsu1xV+dpk9K48cevZEfYKLSVrF7gnfgVtIGcI vWwUlRDYcrV2TXcDOKzAGpHjTI/4oqZYycjno= X-Google-DKIM-Signature: v=1; a=rsa-sha256; c=relaxed/relaxed; d=1e100.net; s=20230601; t=1763394352; x=1763999152; h=references:in-reply-to:cc:to:from:subject:message-id:date:x-gm-gg :x-gm-message-state:from:to:cc:subject:date:message-id:reply-to; bh=FLEPrmmdJujt9PDQQ1an/5h7cNtAbTm43I+e6M2NDBw=; b=NkBOxENaF+zzhq8oGF31F4aKPbGROWKAcbLJlINGfYkBr5moFm8VrXcqc5wW3DhwbM 915YvEeTo3WBELHuOkIxywHJ5N18NBopi4mPvOo5iz76zu9xbpMPKH7QDOi1UzOYTEeI rhZMikKVJiUca3zGpQ+ODhvz+fP2UahoRjcP/KsWZzT+o85elzgcXrQ+XVsDeQvKlfqI cL089Wf5KlU2NtlEcoH324RRz1JUthVr4vkhApPM+LyaiA+GLfjwYDDu5UrTj2F19hXV fDmQj7Bg2g+frvxwNQ6Zqi9o1cx+03o8ukuAleX1zq0KQ1+vkNPkwlYHa1B4itjGRopX KP/g== X-Gm-Message-State: AOJu0YxiSFdCjwobCE716auJ8R/4jbZuVDL7CjARHCTDdioR3Wni2hH1 ZAUjYpRdYO6/2XJMVv2hkdKY4idyurc0qPbnjvDOr+BxnnNQFPCLmZpvneDnM/g7vOaW48LXYqW uY+FalMCOXhnU56h0pAV6Ql8r6v5PGdnKs7EJG54DNrwqKQCG56osZ2hIR6v0 X-Gm-Gg: ASbGncsqPMTtYI0yhzG+p3H3ysHiraJFGjPrQ3/kt/1SdCKL+tJyz12vqyoeKuGJomD rN7Mz2qU0q3r+1YkUTvyT9E37L4KGYB0QhUbVNuca8VO5qT732dLl/vRHIJsTGvh4dOMBIbpoZb tQ2S9mfxcR/mQAX2nFjYfuZuqOQ5N4zUVAFrlpJbi7VMdsNYkU6MpcLZrUpEVCVbpr995wWIrDu NCkD7yNO2tYaxQJPmJ8oO7QBGCXYyTXBgXQsbkXUYWojKZhGBYkDtNzACp2VXOHSPWcrplZDgat zQeZ+fDk4pJKa0FkPPpKNsJkM9+9OvLc853Sx/zst52aeaSKmy0NJ/PF29lLGEj7BlP0QI6+LUQ 8OotV4WZ8 X-Google-Smtp-Source: AGHT+IHMLUShhOMhqq1ZZmqh1U3IUUpQHgqf+i7DUIavRLvvnuOaEMz+ZGBXs6XEVWe42hBMgs3CfSZHHfFY X-Received: by 2002:a05:6808:221b:b0:450:4628:e3ce with SMTP id 5614622812f47-4509743c8d8mr6349239b6e.15.1763394352536; Mon, 17 Nov 2025 07:45:52 -0800 (PST) Received: from postal.iol.unh.edu (postal.iol.unh.edu. [2606:4100:3880:1234::84]) by smtp-relay.gmail.com with ESMTPS id 586e51a60fabf-3e8522207d3sm1256827fac.12.2025.11.17.07.45.52 (version=TLS1_2 cipher=ECDHE-ECDSA-AES128-GCM-SHA256 bits=128/128); Mon, 17 Nov 2025 07:45:52 -0800 (PST) X-Relaying-Domain: iol.unh.edu Date: Mon, 17 Nov 2025 07:45:52 -0800 (PST) Message-ID: <691b4330.050a0220.dc9cb.ed50SMTPIN_ADDED_MISSING@mx.google.com> Received: from [172.21.0.4] (unknown [172.18.0.240]) by postal.iol.unh.edu (Postfix) with ESMTP id 0759C604D420; Mon, 17 Nov 2025 10:45:52 -0500 (EST) Subject: |SUCCESS| pw158857 [PATCH] [v2] net/mlx5/windows: fix match criteria From: dpdklab@iol.unh.edu To: Test Report Cc: dpdk-test-reports@iol.unh.edu In-Reply-To: <20251117084500.1276-1-isharoni@nvidia.com> References: <20251117084500.1276-1-isharoni@nvidia.com> Content-Type: text/plain X-BeenThere: test-report@dpdk.org X-Mailman-Version: 2.1.29 Precedence: list List-Id: automatic DPDK test reports List-Unsubscribe: , List-Archive: List-Post: List-Help: List-Subscribe: , Errors-To: test-report-bounces@dpdk.org Test-Label: iol-compile-amd64-testing Test-Status: SUCCESS http://dpdk.org/patch/158857 _Testing PASS_ Submitter: Itai Sharoni Date: Monday, November 17 2025 08:45:00 DPDK git baseline: Repo:dpdk-next-net-mlx Branch: master CommitID:6c8ab18883d4a51ac512a969d36b47272a63b61b 158857 --> testing pass Upstream job id: Generic-DPDK-Compile-Meson#445613 Test environment and result as below: +-------------------------------+--------------------+-------------------+------------------+ | Environment | dpdk_meson_compile | dpdk_msvc_compile | dpdk_compile_ovs | +===============================+====================+===================+==================+ | Ubuntu 20.04 | PASS | SKIPPED | SKIPPED | +-------------------------------+--------------------+-------------------+------------------+ | FreeBSD 14.2 | PASS | SKIPPED | SKIPPED | +-------------------------------+--------------------+-------------------+------------------+ | openSUSE Leap 15.6 | PASS | SKIPPED | SKIPPED | +-------------------------------+--------------------+-------------------+------------------+ | CentOS Stream 9 | PASS | SKIPPED | SKIPPED | +-------------------------------+--------------------+-------------------+------------------+ | CentOS Stream 10 | PASS | SKIPPED | SKIPPED | +-------------------------------+--------------------+-------------------+------------------+ | Debian GNU/Linux 12 | PASS | SKIPPED | SKIPPED | +-------------------------------+--------------------+-------------------+------------------+ | Fedora Linux 42 | PASS | SKIPPED | PASS | +-------------------------------+--------------------+-------------------+------------------+ | Red Hat Enterprise Linux 8.10 | PASS | SKIPPED | SKIPPED | +-------------------------------+--------------------+-------------------+------------------+ | Red Hat Enterprise Linux 9.5 | PASS | SKIPPED | SKIPPED | +-------------------------------+--------------------+-------------------+------------------+ | Ubuntu 22.04 | PASS | SKIPPED | SKIPPED | +-------------------------------+--------------------+-------------------+------------------+ | Ubuntu 24.04 | PASS | SKIPPED | PASS | +-------------------------------+--------------------+-------------------+------------------+ | Alpine Linux 3.22.0 | PASS | SKIPPED | SKIPPED | +-------------------------------+--------------------+-------------------+------------------+ | Windows Server 2022 | SKIPPED | PASS | SKIPPED | +-------------------------------+--------------------+-------------------+------------------+ Ubuntu 20.04 Kernel: 4.19 Compiler: gcc gcc (Ubuntu 9.4.0-1ubuntu1~20.04.2) 9.4.0 FreeBSD 14.2 Kernel: 14.2-RELEASE Compiler: clang 18.1.6 openSUSE Leap 15.6 Kernel: 5.15 Compiler: gcc gcc (SUSE Linux) 7.5.0 CentOS Stream 9 Kernel: 5.15 Compiler: gcc gcc (GCC) 11.5.0 20240719 (Red Hat 11.5.0-11) CentOS Stream 10 Kernel: 5.15 Compiler: gcc gcc (GCC) 14.2.1 20250110 (Red Hat 14.2.1-8) Debian GNU/Linux 12 Kernel: 5.15 Compiler: gcc gcc (Debian 12.2.0-14+deb12u1) 12.2.0 Fedora Linux 42 Kernel: 5.15 Compiler: clang gcc (GCC) 15.2.1 20250808 (Red Hat 15.2.1-1) Red Hat Enterprise Linux 8.10 Kernel: 5.15 Compiler: gcc gcc (GCC) 8.5.0 20210514 (Red Hat 8.5.0-22) Red Hat Enterprise Linux 9.5 Kernel: 5.15 Compiler: gcc gcc (GCC) 11.5.0 20240719 (Red Hat 11.5.0-2) Ubuntu 22.04 Kernel: 5.15 Compiler: gcc gcc (Ubuntu 11.4.0-1ubuntu1~22.04) 11.4.0 Ubuntu 24.04 Kernel: 5.15 Compiler: gcc gcc (Ubuntu 13.3.0-6ubuntu2~24.04) 13.3.0 Alpine Linux 3.22.0 Kernel: 5.15 Compiler: gcc gcc (Alpine 14.2.0) 14.2.0 Windows Server 2022 Kernel: 10.0.20348.2031 Compiler: clang 15.0.7, gcc 14.1.0 (MinGW), and MSVC VS 19.39.33521 To view detailed results, visit: https://lab.dpdk.org/results/dashboard/patchsets/34626/ UNH-IOL DPDK Community Lab To manage your email subscriptions, visit: https://lab.dpdk.org/results/dashboard/preferences/subscriptions/