From mboxrd@z Thu Jan 1 00:00:00 1970 Return-Path: Received: from mails.dpdk.org (mails.dpdk.org [217.70.189.124]) by inbox.dpdk.org (Postfix) with ESMTP id 6F01948B33 for ; Mon, 17 Nov 2025 16:46:52 +0100 (CET) Received: from mails.dpdk.org (localhost [127.0.0.1]) by mails.dpdk.org (Postfix) with ESMTP id 6B6874025A; Mon, 17 Nov 2025 16:46:52 +0100 (CET) Received: from mail-pg1-f226.google.com (mail-pg1-f226.google.com [209.85.215.226]) by mails.dpdk.org (Postfix) with ESMTP id E38B34025A for ; Mon, 17 Nov 2025 16:46:50 +0100 (CET) Received: by mail-pg1-f226.google.com with SMTP id 41be03b00d2f7-bc09b3d3afeso2639622a12.0 for ; Mon, 17 Nov 2025 07:46:50 -0800 (PST) DKIM-Signature: v=1; a=rsa-sha256; c=relaxed/relaxed; d=iol.unh.edu; s=unh-iol; t=1763394410; x=1763999210; darn=dpdk.org; h=references:in-reply-to:cc:to:from:subject:message-id:date:from:to :cc:subject:date:message-id:reply-to; bh=Ivr72RPdTAAruur01sTn+XCwJnjDy4FkfohLLgo866M=; b=jsrX3+nm7irNpCqzfboCxdwdVQpK8lN1Zu+JsofciGDyWdeWcvTOTGSlVYS7gnNX5f deNZpHQUl75dF9OJ5xMcc5OPSxjhMOUrHIKv4YvsuNTSzkdOh4YsUMEf3fA//RBHA+fG 26mdRJMf0VjVZim5gVpeMHCuJclZV2ZH4hG44= X-Google-DKIM-Signature: v=1; a=rsa-sha256; c=relaxed/relaxed; d=1e100.net; s=20230601; t=1763394410; x=1763999210; h=references:in-reply-to:cc:to:from:subject:message-id:date:x-gm-gg :x-gm-message-state:from:to:cc:subject:date:message-id:reply-to; bh=Ivr72RPdTAAruur01sTn+XCwJnjDy4FkfohLLgo866M=; b=PjQmohg2Aph0nFUfnkUcgqxN9cIztbFeXmjdCU50q5Z2NyufPKY3fVPsDKwP8sMdXm bg0gJQkJRt6yJ7bU10tNXwUPVGQl1I6SkhUOoGGE0F1dkAU+5qNnL1Cnkd6hGAjuqH/Y jTNGz8EGDmkJjIvMQNuLw6XMRPf01akV/TkCiHzxRoEYAnkQRGIAu+YAW66RRWE8/2Fc YrrpVIhJspfzXeys5y0Clnk4Uvn9zHrHuqhI07KXrkh8b1CvZ/AJe/7IAn8vIMIe26xE jt2xPvN2au0u6eFfqpKCMW/jWt7x+tH7WP/+fWGcispzPzarUtGRNUKwW8UDRAdChJad 9KHA== X-Gm-Message-State: AOJu0YxiR5YQwtD71e3bW2KfhvYeNQsevs4NNtll1wUHQQCPKHZyYaSO KHMFyPrT7aLU8Ey5StJuhcXdQun0JOajCDf2C+xJriVIhl7KYU6hXpiAVwy+xF2uoBwV7njPu+J 1/oXcDNTTQouDJ8vhg+uKr+oISVjKwQvMYKAPjVW1vh4Dskb2nwhYxep8XPmb X-Gm-Gg: ASbGncsFseLAn/REmPTSK2WMHO0gQjiLP0gy01uDh1WA0ZrUezaP0gSNZDda3/Oo9uJ uA50Sf7xPDWhzDtYqcgVi6t+8PzJrF4AkffSeTmQoIOEFfuysqQJKolHA/dVh1pYRIo7B6WXEjH Tg2BlXt7sFsJwHOI8A4Vr/Vy+P5oIqFNUQqh+YoHCSgrgBuCVyKHMgLSiYIoiqrNpU9rvg8cwF+ xO172nNkjrfF1gHAYurzuPMD9NGIIv3L81hVSRMW1w01cl2JHEKAX5ek19pByitvobz9ZZykXxP +sOZoUxcDwgKAIjezTKGKjLu0lhuTHg0tMUqtxaOTlTzcYygI72ayL8s/LzQwmO2tmlxM7bC+WU 5l3yqLM+G X-Google-Smtp-Source: AGHT+IE/RpEGeYKO/55ZXa22XuAWDyi8LN9HwTbJ+JAD0JXVESl/KjA/Dq7pvtP8hdFH8Vr9MQ35TFt86yW+ X-Received: by 2002:a05:7301:4d08:b0:2a4:3593:ddd8 with SMTP id 5a478bee46e88-2a4abab9e19mr4086041eec.5.1763394409871; Mon, 17 Nov 2025 07:46:49 -0800 (PST) Received: from postal.iol.unh.edu (postal.iol.unh.edu. [2606:4100:3880:1234::84]) by smtp-relay.gmail.com with ESMTPS id 5a478bee46e88-2a49da02784sm1323290eec.1.2025.11.17.07.46.49 (version=TLS1_2 cipher=ECDHE-ECDSA-AES128-GCM-SHA256 bits=128/128); Mon, 17 Nov 2025 07:46:49 -0800 (PST) X-Relaying-Domain: iol.unh.edu Date: Mon, 17 Nov 2025 07:46:49 -0800 (PST) Message-ID: <691b4369.050a0220.3d5c8.21a6SMTPIN_ADDED_MISSING@mx.google.com> Received: from [172.21.0.2] (unknown [172.18.0.240]) by postal.iol.unh.edu (Postfix) with ESMTP id EA9FE60003E7; Mon, 17 Nov 2025 10:46:48 -0500 (EST) Subject: |SUCCESS| pw158856 [PATCH] [v3] net/mlx5: use private structure for From: dpdklab@iol.unh.edu To: Test Report Cc: dpdk-test-reports@iol.unh.edu In-Reply-To: <20251117084443.10264-1-bingz@nvidia.com> References: <20251117084443.10264-1-bingz@nvidia.com> Content-Type: text/plain X-BeenThere: test-report@dpdk.org X-Mailman-Version: 2.1.29 Precedence: list List-Id: automatic DPDK test reports List-Unsubscribe: , List-Archive: List-Post: List-Help: List-Subscribe: , Errors-To: test-report-bounces@dpdk.org Test-Label: iol-compile-amd64-testing Test-Status: SUCCESS http://dpdk.org/patch/158856 _Testing PASS_ Submitter: Bing Zhao Date: Monday, November 17 2025 08:44:43 DPDK git baseline: Repo:dpdk-next-net-mlx Branch: master CommitID:6c8ab18883d4a51ac512a969d36b47272a63b61b 158856 --> testing pass Upstream job id: Windows-Compile-DPDK-Native#32480 Test environment and result as below: +-------------------------------+--------------------+------------------+-------------------+-------------------------+ | Environment | dpdk_meson_compile | dpdk_compile_ovs | dpdk_msvc_compile | dpdk_llvm_clang_compile | +===============================+====================+==================+===================+=========================+ | FreeBSD 14.2 | PASS | SKIPPED | SKIPPED | SKIPPED | +-------------------------------+--------------------+------------------+-------------------+-------------------------+ | Ubuntu 20.04 | PASS | SKIPPED | SKIPPED | SKIPPED | +-------------------------------+--------------------+------------------+-------------------+-------------------------+ | CentOS Stream 9 | PASS | SKIPPED | SKIPPED | SKIPPED | +-------------------------------+--------------------+------------------+-------------------+-------------------------+ | CentOS Stream 10 | PASS | SKIPPED | SKIPPED | SKIPPED | +-------------------------------+--------------------+------------------+-------------------+-------------------------+ | Debian GNU/Linux 12 | PASS | SKIPPED | SKIPPED | SKIPPED | +-------------------------------+--------------------+------------------+-------------------+-------------------------+ | Fedora Linux 42 | PASS | PASS | SKIPPED | SKIPPED | +-------------------------------+--------------------+------------------+-------------------+-------------------------+ | openSUSE Leap 15.6 | PASS | SKIPPED | SKIPPED | SKIPPED | +-------------------------------+--------------------+------------------+-------------------+-------------------------+ | Red Hat Enterprise Linux 8.10 | PASS | SKIPPED | SKIPPED | SKIPPED | +-------------------------------+--------------------+------------------+-------------------+-------------------------+ | Red Hat Enterprise Linux 9.5 | PASS | SKIPPED | SKIPPED | SKIPPED | +-------------------------------+--------------------+------------------+-------------------+-------------------------+ | Ubuntu 22.04 | PASS | SKIPPED | SKIPPED | SKIPPED | +-------------------------------+--------------------+------------------+-------------------+-------------------------+ | Ubuntu 24.04 | PASS | PASS | SKIPPED | SKIPPED | +-------------------------------+--------------------+------------------+-------------------+-------------------------+ | Alpine Linux 3.22.0 | PASS | SKIPPED | SKIPPED | SKIPPED | +-------------------------------+--------------------+------------------+-------------------+-------------------------+ | Windows Server 2022 | SKIPPED | SKIPPED | PASS | PASS | +-------------------------------+--------------------+------------------+-------------------+-------------------------+ FreeBSD 14.2 Kernel: 14.2-RELEASE Compiler: clang 18.1.6 Ubuntu 20.04 Kernel: 4.19 Compiler: gcc gcc (Ubuntu 9.4.0-1ubuntu1~20.04.2) 9.4.0 CentOS Stream 9 Kernel: 5.15 Compiler: gcc gcc (GCC) 11.5.0 20240719 (Red Hat 11.5.0-11) CentOS Stream 10 Kernel: 5.15 Compiler: gcc gcc (GCC) 14.2.1 20250110 (Red Hat 14.2.1-8) Debian GNU/Linux 12 Kernel: 5.15 Compiler: gcc gcc (Debian 12.2.0-14+deb12u1) 12.2.0 Fedora Linux 42 Kernel: 5.15 Compiler: clang gcc (GCC) 15.2.1 20250808 (Red Hat 15.2.1-1) openSUSE Leap 15.6 Kernel: 5.15 Compiler: gcc gcc (SUSE Linux) 7.5.0 Red Hat Enterprise Linux 8.10 Kernel: 5.15 Compiler: gcc gcc (GCC) 8.5.0 20210514 (Red Hat 8.5.0-22) Red Hat Enterprise Linux 9.5 Kernel: 5.15 Compiler: gcc gcc (GCC) 11.5.0 20240719 (Red Hat 11.5.0-2) Ubuntu 22.04 Kernel: 5.15 Compiler: gcc gcc (Ubuntu 11.4.0-1ubuntu1~22.04) 11.4.0 Ubuntu 24.04 Kernel: 5.15 Compiler: gcc gcc (Ubuntu 13.3.0-6ubuntu2~24.04) 13.3.0 Alpine Linux 3.22.0 Kernel: 5.15 Compiler: gcc gcc (Alpine 14.2.0) 14.2.0 Windows Server 2022 Kernel: 10.0.20348.2031 Compiler: clang 15.0.7, gcc 14.1.0 (MinGW), and MSVC VS 19.39.33521 To view detailed results, visit: https://lab.dpdk.org/results/dashboard/patchsets/34623/ UNH-IOL DPDK Community Lab To manage your email subscriptions, visit: https://lab.dpdk.org/results/dashboard/preferences/subscriptions/