From mboxrd@z Thu Jan 1 00:00:00 1970 Return-Path: Received: from mails.dpdk.org (mails.dpdk.org [217.70.189.124]) by inbox.dpdk.org (Postfix) with ESMTP id AB91D48B33 for ; Mon, 17 Nov 2025 16:48:33 +0100 (CET) Received: from mails.dpdk.org (localhost [127.0.0.1]) by mails.dpdk.org (Postfix) with ESMTP id 94E144025A; Mon, 17 Nov 2025 16:48:33 +0100 (CET) Received: from mail-qv1-f97.google.com (mail-qv1-f97.google.com [209.85.219.97]) by mails.dpdk.org (Postfix) with ESMTP id 4E0D04025A for ; Mon, 17 Nov 2025 16:48:32 +0100 (CET) Received: by mail-qv1-f97.google.com with SMTP id 6a1803df08f44-8823dfa84c5so49077526d6.3 for ; Mon, 17 Nov 2025 07:48:32 -0800 (PST) DKIM-Signature: v=1; a=rsa-sha256; c=relaxed/relaxed; d=iol.unh.edu; s=unh-iol; t=1763394511; x=1763999311; darn=dpdk.org; h=references:in-reply-to:cc:to:from:subject:message-id:date:from:to :cc:subject:date:message-id:reply-to; bh=gOCS7qFo4o21GhRdMC9Qok6I3uUKQRuhvK79iGtOqhY=; b=C4eQ1VZJhJ1APM+K20bqBjOJTDyzUnANlUVWuUBWHzVVKz+vSfy5iGHmjudtn1vFRr EqOMPmt2U7PTYz1N8EgqRgxrz4wKl9OjeLuUoiq6nh4y0EIZ6w/EY0IHOvTlVC/WanKv taBB/jryhQ2A9X/oUEHDPSVvw3wFepacNpnJk= X-Google-DKIM-Signature: v=1; a=rsa-sha256; c=relaxed/relaxed; d=1e100.net; s=20230601; t=1763394511; x=1763999311; h=references:in-reply-to:cc:to:from:subject:message-id:date:x-gm-gg :x-gm-message-state:from:to:cc:subject:date:message-id:reply-to; bh=gOCS7qFo4o21GhRdMC9Qok6I3uUKQRuhvK79iGtOqhY=; b=Igjy8HJGvzlquYcL8Us/xHAnYvShY+r1veDhb0OOuhzt/5MNBDWw6Pb2Mhxn/wQ9Bs pQ+kZoI7E62WBVx933Oi1WciqOqcxGGiRR9ZG+81+UFTQZ1MXuyDhvPRQklzfQ7tjm8J LB4zIysZCcKcqO+M6HUrxhDyBZrT6c9Plf4Wci1dkJYogrwrHk6ny6ryq+VoF/dhou3o bilexYeY5CURerT1L547f3xsNNYqB4g1ePPN7k9OsZISrg/9QJytEB59YInts1Tu81KW pDJgaZIktwYw7Pa/NAYHB7+wyqElbBx3Z9o7whNymh/90UjfEvhp4NH0NHaEHhOSBtba vV0g== X-Gm-Message-State: AOJu0YwthjH9oyjGUmWJxzlm2yO24azY4+udH0BDG1lljMCDQrsXiREg 7JzJaAgZm3J7Ue90D0L8FGbSDd+Vddfs2gAVspYA3QTiVWIe5t7mweI5wdC/y0kut/6i7aDJMPw MJduGoZH8zottPYNrVeQUXo6OELZQ4eA4+foQxtWXayEfpDuY4kb1SNl3hxFE X-Gm-Gg: ASbGncvr9Bd1qGmcQasq+Iqmpi2iYchXI5KVKS+k4XlGxbKlQlHSA9/NGXl6A2TksVX G4hTpxsuESMjCiZwOqjWj93VsGrSyLnQ0EPZZzav8EkZqx/UlTiV9Aoj6NeAOEavkKIZLw3jU23 3a+LJmAIdsSn+5StdTGvzhLgmsvGA1ZsFts/KJY3U/VFC6KIiK6y4Tmgyl0l+p3nPXxA4mofqQD fVNiCrcvWxggdHU0lwWiM5donxDE0na/+P73IWt7Ni6QGEq+3A/Ri19XKJIH8GhegUUQOVHFnO1 FdyL3SasuGmozuHeJyLeAlHzKps2I4SOB61iFz0b1pk01Ef/O8EWwlZKz9rLhhHHKI3Y5+/3I/x TiEX8tNKY X-Google-Smtp-Source: AGHT+IGZnP10ViiFeJjWKx9Ya3KI7YZMIH4sZY+jala7GU01uIWYvWq47TdLRMVWnIP5ZLt8baBAWoqgy6JR X-Received: by 2002:a05:6214:250e:b0:882:3759:9158 with SMTP id 6a1803df08f44-88292752a3fmr191384206d6.61.1763394511516; Mon, 17 Nov 2025 07:48:31 -0800 (PST) Received: from postal.iol.unh.edu (postal.iol.unh.edu. [2606:4100:3880:1234::84]) by smtp-relay.gmail.com with ESMTPS id 6a1803df08f44-8828653a431sm16775696d6.22.2025.11.17.07.48.31 (version=TLS1_2 cipher=ECDHE-ECDSA-AES128-GCM-SHA256 bits=128/128); Mon, 17 Nov 2025 07:48:31 -0800 (PST) X-Relaying-Domain: iol.unh.edu Date: Mon, 17 Nov 2025 07:48:31 -0800 (PST) Message-ID: <691b43cf.050a0220.1e1646.49baSMTPIN_ADDED_MISSING@mx.google.com> Received: from [172.21.0.5] (unknown [172.18.0.240]) by postal.iol.unh.edu (Postfix) with ESMTP id 3F7D46051830; Mon, 17 Nov 2025 10:48:31 -0500 (EST) Subject: |SUCCESS| pw158856 [PATCH] [v3] net/mlx5: use private structure for From: dpdklab@iol.unh.edu To: Test Report Cc: dpdk-test-reports@iol.unh.edu In-Reply-To: <20251117084443.10264-1-bingz@nvidia.com> References: <20251117084443.10264-1-bingz@nvidia.com> Content-Type: text/plain X-BeenThere: test-report@dpdk.org X-Mailman-Version: 2.1.29 Precedence: list List-Id: automatic DPDK test reports List-Unsubscribe: , List-Archive: List-Post: List-Help: List-Subscribe: , Errors-To: test-report-bounces@dpdk.org Test-Label: iol-compile-amd64-testing Test-Status: SUCCESS http://dpdk.org/patch/158856 _Testing PASS_ Submitter: Bing Zhao Date: Monday, November 17 2025 08:44:43 DPDK git baseline: Repo:dpdk-next-net-mlx Branch: master CommitID:6c8ab18883d4a51ac512a969d36b47272a63b61b 158856 --> testing pass Upstream job id: Windows-Compile-DPDK-Native#32481 Test environment and result as below: +-------------------------------+--------------------+------------------+-------------------+-------------------------+----------------------+ | Environment | dpdk_meson_compile | dpdk_compile_ovs | dpdk_msvc_compile | dpdk_llvm_clang_compile | dpdk_mingw64_compile | +===============================+====================+==================+===================+=========================+======================+ | FreeBSD 14.2 | PASS | SKIPPED | SKIPPED | SKIPPED | SKIPPED | +-------------------------------+--------------------+------------------+-------------------+-------------------------+----------------------+ | Ubuntu 20.04 | PASS | SKIPPED | SKIPPED | SKIPPED | SKIPPED | +-------------------------------+--------------------+------------------+-------------------+-------------------------+----------------------+ | CentOS Stream 9 | PASS | SKIPPED | SKIPPED | SKIPPED | SKIPPED | +-------------------------------+--------------------+------------------+-------------------+-------------------------+----------------------+ | CentOS Stream 10 | PASS | SKIPPED | SKIPPED | SKIPPED | SKIPPED | +-------------------------------+--------------------+------------------+-------------------+-------------------------+----------------------+ | Debian GNU/Linux 12 | PASS | SKIPPED | SKIPPED | SKIPPED | SKIPPED | +-------------------------------+--------------------+------------------+-------------------+-------------------------+----------------------+ | Fedora Linux 42 | PASS | PASS | SKIPPED | SKIPPED | SKIPPED | +-------------------------------+--------------------+------------------+-------------------+-------------------------+----------------------+ | openSUSE Leap 15.6 | PASS | SKIPPED | SKIPPED | SKIPPED | SKIPPED | +-------------------------------+--------------------+------------------+-------------------+-------------------------+----------------------+ | Red Hat Enterprise Linux 8.10 | PASS | SKIPPED | SKIPPED | SKIPPED | SKIPPED | +-------------------------------+--------------------+------------------+-------------------+-------------------------+----------------------+ | Red Hat Enterprise Linux 9.5 | PASS | SKIPPED | SKIPPED | SKIPPED | SKIPPED | +-------------------------------+--------------------+------------------+-------------------+-------------------------+----------------------+ | Ubuntu 22.04 | PASS | SKIPPED | SKIPPED | SKIPPED | SKIPPED | +-------------------------------+--------------------+------------------+-------------------+-------------------------+----------------------+ | Ubuntu 24.04 | PASS | PASS | SKIPPED | SKIPPED | SKIPPED | +-------------------------------+--------------------+------------------+-------------------+-------------------------+----------------------+ | Alpine Linux 3.22.0 | PASS | SKIPPED | SKIPPED | SKIPPED | SKIPPED | +-------------------------------+--------------------+------------------+-------------------+-------------------------+----------------------+ | Windows Server 2022 | SKIPPED | SKIPPED | PASS | PASS | PASS | +-------------------------------+--------------------+------------------+-------------------+-------------------------+----------------------+ FreeBSD 14.2 Kernel: 14.2-RELEASE Compiler: clang 18.1.6 Ubuntu 20.04 Kernel: 4.19 Compiler: gcc gcc (Ubuntu 9.4.0-1ubuntu1~20.04.2) 9.4.0 CentOS Stream 9 Kernel: 5.15 Compiler: gcc gcc (GCC) 11.5.0 20240719 (Red Hat 11.5.0-11) CentOS Stream 10 Kernel: 5.15 Compiler: gcc gcc (GCC) 14.2.1 20250110 (Red Hat 14.2.1-8) Debian GNU/Linux 12 Kernel: 5.15 Compiler: gcc gcc (Debian 12.2.0-14+deb12u1) 12.2.0 Fedora Linux 42 Kernel: 5.15 Compiler: clang gcc (GCC) 15.2.1 20250808 (Red Hat 15.2.1-1) openSUSE Leap 15.6 Kernel: 5.15 Compiler: gcc gcc (SUSE Linux) 7.5.0 Red Hat Enterprise Linux 8.10 Kernel: 5.15 Compiler: gcc gcc (GCC) 8.5.0 20210514 (Red Hat 8.5.0-22) Red Hat Enterprise Linux 9.5 Kernel: 5.15 Compiler: gcc gcc (GCC) 11.5.0 20240719 (Red Hat 11.5.0-2) Ubuntu 22.04 Kernel: 5.15 Compiler: gcc gcc (Ubuntu 11.4.0-1ubuntu1~22.04) 11.4.0 Ubuntu 24.04 Kernel: 5.15 Compiler: gcc gcc (Ubuntu 13.3.0-6ubuntu2~24.04) 13.3.0 Alpine Linux 3.22.0 Kernel: 5.15 Compiler: gcc gcc (Alpine 14.2.0) 14.2.0 Windows Server 2022 Kernel: 10.0.20348.2031 Compiler: clang 15.0.7, gcc 14.1.0 (MinGW), and MSVC VS 19.39.33521 To view detailed results, visit: https://lab.dpdk.org/results/dashboard/patchsets/34623/ UNH-IOL DPDK Community Lab To manage your email subscriptions, visit: https://lab.dpdk.org/results/dashboard/preferences/subscriptions/