From mboxrd@z Thu Jan 1 00:00:00 1970 Return-Path: Received: from mails.dpdk.org (mails.dpdk.org [217.70.189.124]) by inbox.dpdk.org (Postfix) with ESMTP id 2FE9848B33 for ; Mon, 17 Nov 2025 17:04:43 +0100 (CET) Received: from mails.dpdk.org (localhost [127.0.0.1]) by mails.dpdk.org (Postfix) with ESMTP id 29CC14025A; Mon, 17 Nov 2025 17:04:43 +0100 (CET) Received: from mail-il1-f228.google.com (mail-il1-f228.google.com [209.85.166.228]) by mails.dpdk.org (Postfix) with ESMTP id 4C98F4025A for ; Mon, 17 Nov 2025 17:04:42 +0100 (CET) Received: by mail-il1-f228.google.com with SMTP id e9e14a558f8ab-433261f2045so20840005ab.3 for ; Mon, 17 Nov 2025 08:04:42 -0800 (PST) DKIM-Signature: v=1; a=rsa-sha256; c=relaxed/relaxed; d=iol.unh.edu; s=unh-iol; t=1763395481; x=1764000281; darn=dpdk.org; h=references:in-reply-to:cc:to:from:subject:message-id:date:from:to :cc:subject:date:message-id:reply-to; bh=Pw00Tjr2WRtgSL//wHFpYQ4Xt+lG79CtCTz9hRKPtw0=; b=SMgP2ABiCvlCiK+qkmfHdD6RRBSeJ8FuXdUDA5VNzwtDQlE+ACHzkl72CRPl02rDQ4 jDWG2RbYvkh/RhSJgJCx3LOcJP7YtQVZmjEmgvPobZeKsjHXCHu+iEY/O6OYflwr6faq v+J644tK+I8q9v2CO3tkWtMX0ApP1SMWxLfmQ= X-Google-DKIM-Signature: v=1; a=rsa-sha256; c=relaxed/relaxed; d=1e100.net; s=20230601; t=1763395481; x=1764000281; h=references:in-reply-to:cc:to:from:subject:message-id:date:x-gm-gg :x-gm-message-state:from:to:cc:subject:date:message-id:reply-to; bh=Pw00Tjr2WRtgSL//wHFpYQ4Xt+lG79CtCTz9hRKPtw0=; b=nbCQUsLxvZuxyk0S/bc7pjsJIgMhJJnil1UmBSoDCD4n6Fz8JmDoWmZEa+dZYjdpNN rdwapdQBcTWJR5lvYsR/8JH3PPYYrVc1x5UMgOaOXPUMrBwTkjPKC+NU/Fue9CqzXw83 agrpSS0mYaqIBe2PqV57oxr9SUiJq4sd7RE1sO8UDOxAOfC9GRtNpOJLCWLOWXKy/VV1 dk7jMZoutX4O5daW6nDffamPb5Wg0gVOn3tso4r5ohYbICmFCY8lwOyZOrl9jngsaUfY XHj/wkFuTtWGYAkmM2fFNW7gZi253owT1zSk3jSVtaJsMk7HxW25VtJrs1O8SQswJ6bV Y8/g== X-Gm-Message-State: AOJu0YxvFWgLvICDeg65qLUKYwBC0faxsolOdM/7epkA5qP5qM2+rO/V ysdjgNOXBN70m36NIq54nNX7RVAo8b3s+8n/pUAYXGi8iDI1c11yJZKeJiVaCUiQezjqOlW670y 5RE9T/Y9qvFC1Yod50jTwBCsPx48/5mpWJNcoE22y06kI X-Gm-Gg: ASbGncuEIJip3WahjZKC8xk3ceZaxuHWU5HqhJla2TvQTxlUuPVwQWxz2eb/X2IVjBt 2xKGjVkuv/VFrWjaE84avNtNAlzqRvcZk+UCnhwZ8DNk8WBXDvOL8LDJK0/o0li6QqzWquLaacC VIzyWNh0L8uW9e+MnjaWA8pttV1gEEr64mU+sQI8zuI+decXq2tBCKRsrFJcI1FmrCdUPCl8m6k 5fjYk+vNwFT+FciaL80gWkLUTFMagg06oeVYynpjYU9XfeQkHvlaqidhpEydocKucUxk69smBoV 3oov01AvEjTauYxuH8ek+tmGKFjWbjVgynHIjrUPPhrEINeoRnCNwsGaZE0UpnAZ4+ctOwJL8SV sOwLmNMuP0u3cqETA69cuV6MPfb3IFq0= X-Google-Smtp-Source: AGHT+IHvrEIbzB3Af1+wMCyc8heWebfrKFK82Rz6iNUQ/ChlJuhGIm0jCIgaafCzfwXjSIvV/tFxgYKkkKqW X-Received: by 2002:a05:6e02:174a:b0:433:5e33:d41d with SMTP id e9e14a558f8ab-4348c93ea5cmr187464195ab.30.1763395481539; Mon, 17 Nov 2025 08:04:41 -0800 (PST) Received: from postal.iol.unh.edu (postal.iol.unh.edu. [132.177.123.84]) by smtp-relay.gmail.com with ESMTPS id e9e14a558f8ab-434838c4669sm11980585ab.15.2025.11.17.08.04.41 (version=TLS1_2 cipher=ECDHE-ECDSA-AES128-GCM-SHA256 bits=128/128); Mon, 17 Nov 2025 08:04:41 -0800 (PST) X-Relaying-Domain: iol.unh.edu Date: Mon, 17 Nov 2025 08:04:41 -0800 (PST) Message-ID: <691b4799.050a0220.11415.b886SMTPIN_ADDED_MISSING@mx.google.com> Received: from [172.21.0.2] (unknown [172.18.0.240]) by postal.iol.unh.edu (Postfix) with ESMTP id 19B566050A61; Mon, 17 Nov 2025 11:04:41 -0500 (EST) Subject: |SUCCESS| pw158858 [PATCH] [v2] examples/ipsec-secgw: add support fo From: dpdklab@iol.unh.edu To: Test Report Cc: dpdk-test-reports@iol.unh.edu In-Reply-To: <20251117090851.54748-1-sunyang.wu@jaguarmicro.com> References: <20251117090851.54748-1-sunyang.wu@jaguarmicro.com> Content-Type: text/plain X-BeenThere: test-report@dpdk.org X-Mailman-Version: 2.1.29 Precedence: list List-Id: automatic DPDK test reports List-Unsubscribe: , List-Archive: List-Post: List-Help: List-Subscribe: , Errors-To: test-report-bounces@dpdk.org Test-Label: iol-compile-amd64-testing Test-Status: SUCCESS http://dpdk.org/patch/158858 _Testing PASS_ Submitter: Sunyang Wu Date: Monday, November 17 2025 09:08:51 DPDK git baseline: Repo:dpdk Branch: master CommitID:be0112878b4fc3a1b918370ed2fe615c52039d77 158858 --> testing pass Upstream job id: Windows-Compile-DPDK-Native#32485 Test environment and result as below: +-------------------------------+--------------------+------------------+-------------------+-------------------------+----------------------+ | Environment | dpdk_meson_compile | dpdk_compile_ovs | dpdk_msvc_compile | dpdk_llvm_clang_compile | dpdk_mingw64_compile | +===============================+====================+==================+===================+=========================+======================+ | FreeBSD 14.2 | PASS | SKIPPED | SKIPPED | SKIPPED | SKIPPED | +-------------------------------+--------------------+------------------+-------------------+-------------------------+----------------------+ | Ubuntu 20.04 | PASS | SKIPPED | SKIPPED | SKIPPED | SKIPPED | +-------------------------------+--------------------+------------------+-------------------+-------------------------+----------------------+ | CentOS Stream 9 | PASS | SKIPPED | SKIPPED | SKIPPED | SKIPPED | +-------------------------------+--------------------+------------------+-------------------+-------------------------+----------------------+ | CentOS Stream 10 | PASS | SKIPPED | SKIPPED | SKIPPED | SKIPPED | +-------------------------------+--------------------+------------------+-------------------+-------------------------+----------------------+ | Debian GNU/Linux 12 | PASS | SKIPPED | SKIPPED | SKIPPED | SKIPPED | +-------------------------------+--------------------+------------------+-------------------+-------------------------+----------------------+ | Fedora Linux 42 | PASS | PASS | SKIPPED | SKIPPED | SKIPPED | +-------------------------------+--------------------+------------------+-------------------+-------------------------+----------------------+ | openSUSE Leap 15.6 | PASS | SKIPPED | SKIPPED | SKIPPED | SKIPPED | +-------------------------------+--------------------+------------------+-------------------+-------------------------+----------------------+ | Red Hat Enterprise Linux 8.10 | PASS | SKIPPED | SKIPPED | SKIPPED | SKIPPED | +-------------------------------+--------------------+------------------+-------------------+-------------------------+----------------------+ | Red Hat Enterprise Linux 9.5 | PASS | SKIPPED | SKIPPED | SKIPPED | SKIPPED | +-------------------------------+--------------------+------------------+-------------------+-------------------------+----------------------+ | Ubuntu 22.04 | PASS | SKIPPED | SKIPPED | SKIPPED | SKIPPED | +-------------------------------+--------------------+------------------+-------------------+-------------------------+----------------------+ | Ubuntu 24.04 | PASS | PASS | SKIPPED | SKIPPED | SKIPPED | +-------------------------------+--------------------+------------------+-------------------+-------------------------+----------------------+ | Alpine Linux 3.22.0 | PASS | SKIPPED | SKIPPED | SKIPPED | SKIPPED | +-------------------------------+--------------------+------------------+-------------------+-------------------------+----------------------+ | Windows Server 2022 | SKIPPED | SKIPPED | PASS | PASS | PASS | +-------------------------------+--------------------+------------------+-------------------+-------------------------+----------------------+ FreeBSD 14.2 Kernel: 14.2-RELEASE Compiler: clang 18.1.6 Ubuntu 20.04 Kernel: 4.19 Compiler: gcc gcc (Ubuntu 9.4.0-1ubuntu1~20.04.2) 9.4.0 CentOS Stream 9 Kernel: 5.15 Compiler: gcc gcc (GCC) 11.5.0 20240719 (Red Hat 11.5.0-11) CentOS Stream 10 Kernel: 5.15 Compiler: gcc gcc (GCC) 14.2.1 20250110 (Red Hat 14.2.1-8) Debian GNU/Linux 12 Kernel: 5.15 Compiler: gcc gcc (Debian 12.2.0-14+deb12u1) 12.2.0 Fedora Linux 42 Kernel: 5.15 Compiler: clang gcc (GCC) 15.2.1 20250808 (Red Hat 15.2.1-1) openSUSE Leap 15.6 Kernel: 5.15 Compiler: gcc gcc (SUSE Linux) 7.5.0 Red Hat Enterprise Linux 8.10 Kernel: 5.15 Compiler: gcc gcc (GCC) 8.5.0 20210514 (Red Hat 8.5.0-22) Red Hat Enterprise Linux 9.5 Kernel: 5.15 Compiler: gcc gcc (GCC) 11.5.0 20240719 (Red Hat 11.5.0-2) Ubuntu 22.04 Kernel: 5.15 Compiler: gcc gcc (Ubuntu 11.4.0-1ubuntu1~22.04) 11.4.0 Ubuntu 24.04 Kernel: 5.15 Compiler: gcc gcc (Ubuntu 13.3.0-6ubuntu2~24.04) 13.3.0 Alpine Linux 3.22.0 Kernel: 5.15 Compiler: gcc gcc (Alpine 14.2.0) 14.2.0 Windows Server 2022 Kernel: 10.0.20348.2031 Compiler: clang 15.0.7, gcc 14.1.0 (MinGW), and MSVC VS 19.39.33521 To view detailed results, visit: https://lab.dpdk.org/results/dashboard/patchsets/34625/ UNH-IOL DPDK Community Lab To manage your email subscriptions, visit: https://lab.dpdk.org/results/dashboard/preferences/subscriptions/