From mboxrd@z Thu Jan 1 00:00:00 1970 Return-Path: Received: from mails.dpdk.org (mails.dpdk.org [217.70.189.124]) by inbox.dpdk.org (Postfix) with ESMTP id 9C5B848B33 for ; Mon, 17 Nov 2025 17:09:01 +0100 (CET) Received: from mails.dpdk.org (localhost [127.0.0.1]) by mails.dpdk.org (Postfix) with ESMTP id 9758A4025A; Mon, 17 Nov 2025 17:09:01 +0100 (CET) Received: from mail-oo1-f99.google.com (mail-oo1-f99.google.com [209.85.161.99]) by mails.dpdk.org (Postfix) with ESMTP id F33B24025A for ; Mon, 17 Nov 2025 17:09:00 +0100 (CET) Received: by mail-oo1-f99.google.com with SMTP id 006d021491bc7-6571763793bso1916142eaf.1 for ; Mon, 17 Nov 2025 08:09:00 -0800 (PST) DKIM-Signature: v=1; a=rsa-sha256; c=relaxed/relaxed; d=iol.unh.edu; s=unh-iol; t=1763395740; x=1764000540; darn=dpdk.org; h=references:in-reply-to:cc:to:from:subject:message-id:date:from:to :cc:subject:date:message-id:reply-to; bh=FQZVK9gh/Fckh6OeRsFPtMlWwZOsf4312/L3BKqlTkM=; b=N1vbmcYxT7/CcJQnqLsEf5JYA+1wRJWhHmv3sLgPRdBqaR3A+Gi+qLqZ0WYcBj3F9w eqTXd2q5tahlAKmkJpi1Oe10R23fFx2ws1Qnfry1BsRfplS6OSg8VN9F08bjXHSrB1rs aa/2mPy1ve6oZL9/UY/hBgB3QkmFgh57PVISc= X-Google-DKIM-Signature: v=1; a=rsa-sha256; c=relaxed/relaxed; d=1e100.net; s=20230601; t=1763395740; x=1764000540; h=references:in-reply-to:cc:to:from:subject:message-id:date:x-gm-gg :x-gm-message-state:from:to:cc:subject:date:message-id:reply-to; bh=FQZVK9gh/Fckh6OeRsFPtMlWwZOsf4312/L3BKqlTkM=; b=fbTWcKsxYn4/FFGcSv0bF6o2tNpYATE6DsLrTN58XBqZbx05MbJdkZpihoHra6AKFR Kn8IVokzXzU9/K2VDtoFdBJ5cu9wz+p2jKOGFJcDwgetenhSiMWz1kX5F7VAAeAZIimw SrPhS2oBolUl+OGRoMByUfBUXpDMThxJBJxTg79u6FoHgGScadjGsUgL/Yf068H6vn0W prv/wbBwGfEwReGUZ4Nvo/4NCzCsKGqQ66jl/jP0wFMobMSfVxeeD+5p0iEwBTqmkUmj bo50zjBOVr6tpVZDQYYFPVIJrkaaWfhlUHS8z3zZDawBY2gf9Ex+g1zQZasbINK6v77Q ybAQ== X-Gm-Message-State: AOJu0Yy9fk/wRwGsvgBDYEvwx+Yfu8XfTFDtj62/RWYudo8o5WFUCjac 7XpjOOFNbX0DSiIbdxFIGl22vtvDr/FUldkTc/98gpu71lr1p1ybvMTqBU4Tj6qr+6LDjMBvLtq JkhC7uSwL4X1QqgiEoDXpvw4HtnsVt/Ne/Mmj86yx4s5JMcYucR+RxrlFMpbf X-Gm-Gg: ASbGncum6Gw/7g6CTkzIeovxQWSEsaqo1uBaFkVWzH7NSrVWbApo+XUGJR4B55dw5eh +zVmP1Z41IOPcdB++QnRIdMOGI/r/6PIxcdxBNGRoo2dWTQD1YFOUjMznGH6AYgqy4PQsxRXpCT H2NPGzjlkAisMfunI15bUi/9UUEsaDiZwLKtJ1CG3GtALZH7uqRNqdPP+rlQ1jaR8MN8DkANii4 cbi3wcljcOLo6Ht3KBBbTV0LCPC4y1a4kZAdrE6xEDhLPwoe5SjtQbjEaMp7eRkYOw3k+s+Xj/n zuuYivASm5gJlNSU2ttsEXr/79ytplonp/+W+z/oVh3DG/1Gx/y5ZDP6aWQxd1wHz/Kkj3MoMTJ Y4StwHLQZ X-Google-Smtp-Source: AGHT+IG+/+eFrV4RdX76arUtpzSkoJdWzgrwS1yTfCVws2apMbModIlhQjeDsm3xj5KbBZmkcBV3uDo3j5xc X-Received: by 2002:a05:6870:400a:b0:3eb:b2db:8da8 with SMTP id 586e51a60fabf-3ebb2dbade6mr2053033fac.48.1763395739550; Mon, 17 Nov 2025 08:08:59 -0800 (PST) Received: from postal.iol.unh.edu (postal.iol.unh.edu. [2606:4100:3880:1234::84]) by smtp-relay.gmail.com with ESMTPS id 46e09a7af769-7c750dfc23csm769937a34.5.2025.11.17.08.08.59 (version=TLS1_2 cipher=ECDHE-ECDSA-AES128-GCM-SHA256 bits=128/128); Mon, 17 Nov 2025 08:08:59 -0800 (PST) X-Relaying-Domain: iol.unh.edu Date: Mon, 17 Nov 2025 08:08:59 -0800 (PST) Message-ID: <691b489b.050a0220.2e45c7.5e1eSMTPIN_ADDED_MISSING@mx.google.com> Received: from [172.21.0.3] (unknown [172.18.0.240]) by postal.iol.unh.edu (Postfix) with ESMTP id 1484B6050A61; Mon, 17 Nov 2025 11:08:59 -0500 (EST) Subject: |SUCCESS| pw158857 [PATCH] [v2] net/mlx5/windows: fix match criteria From: dpdklab@iol.unh.edu To: Test Report Cc: dpdk-test-reports@iol.unh.edu In-Reply-To: <20251117084500.1276-1-isharoni@nvidia.com> References: <20251117084500.1276-1-isharoni@nvidia.com> Content-Type: text/plain X-BeenThere: test-report@dpdk.org X-Mailman-Version: 2.1.29 Precedence: list List-Id: automatic DPDK test reports List-Unsubscribe: , List-Archive: List-Post: List-Help: List-Subscribe: , Errors-To: test-report-bounces@dpdk.org Test-Label: iol-compile-amd64-testing Test-Status: SUCCESS http://dpdk.org/patch/158857 _Testing PASS_ Submitter: Itai Sharoni Date: Monday, November 17 2025 08:45:00 DPDK git baseline: Repo:dpdk-next-net-mlx Branch: master CommitID:6c8ab18883d4a51ac512a969d36b47272a63b61b 158857 --> testing pass Upstream job id: Windows-Compile-DPDK-Native#32486 Test environment and result as below: +-------------------------------+--------------------+-------------------+------------------+-------------------------+ | Environment | dpdk_meson_compile | dpdk_msvc_compile | dpdk_compile_ovs | dpdk_llvm_clang_compile | +===============================+====================+===================+==================+=========================+ | Ubuntu 20.04 | PASS | SKIPPED | SKIPPED | SKIPPED | +-------------------------------+--------------------+-------------------+------------------+-------------------------+ | FreeBSD 14.2 | PASS | SKIPPED | SKIPPED | SKIPPED | +-------------------------------+--------------------+-------------------+------------------+-------------------------+ | openSUSE Leap 15.6 | PASS | SKIPPED | SKIPPED | SKIPPED | +-------------------------------+--------------------+-------------------+------------------+-------------------------+ | CentOS Stream 9 | PASS | SKIPPED | SKIPPED | SKIPPED | +-------------------------------+--------------------+-------------------+------------------+-------------------------+ | CentOS Stream 10 | PASS | SKIPPED | SKIPPED | SKIPPED | +-------------------------------+--------------------+-------------------+------------------+-------------------------+ | Debian GNU/Linux 12 | PASS | SKIPPED | SKIPPED | SKIPPED | +-------------------------------+--------------------+-------------------+------------------+-------------------------+ | Fedora Linux 42 | PASS | SKIPPED | PASS | SKIPPED | +-------------------------------+--------------------+-------------------+------------------+-------------------------+ | Red Hat Enterprise Linux 8.10 | PASS | SKIPPED | SKIPPED | SKIPPED | +-------------------------------+--------------------+-------------------+------------------+-------------------------+ | Red Hat Enterprise Linux 9.5 | PASS | SKIPPED | SKIPPED | SKIPPED | +-------------------------------+--------------------+-------------------+------------------+-------------------------+ | Ubuntu 22.04 | PASS | SKIPPED | SKIPPED | SKIPPED | +-------------------------------+--------------------+-------------------+------------------+-------------------------+ | Ubuntu 24.04 | PASS | SKIPPED | PASS | SKIPPED | +-------------------------------+--------------------+-------------------+------------------+-------------------------+ | Alpine Linux 3.22.0 | PASS | SKIPPED | SKIPPED | SKIPPED | +-------------------------------+--------------------+-------------------+------------------+-------------------------+ | Windows Server 2022 | SKIPPED | PASS | SKIPPED | PASS | +-------------------------------+--------------------+-------------------+------------------+-------------------------+ Ubuntu 20.04 Kernel: 4.19 Compiler: gcc gcc (Ubuntu 9.4.0-1ubuntu1~20.04.2) 9.4.0 FreeBSD 14.2 Kernel: 14.2-RELEASE Compiler: clang 18.1.6 openSUSE Leap 15.6 Kernel: 5.15 Compiler: gcc gcc (SUSE Linux) 7.5.0 CentOS Stream 9 Kernel: 5.15 Compiler: gcc gcc (GCC) 11.5.0 20240719 (Red Hat 11.5.0-11) CentOS Stream 10 Kernel: 5.15 Compiler: gcc gcc (GCC) 14.2.1 20250110 (Red Hat 14.2.1-8) Debian GNU/Linux 12 Kernel: 5.15 Compiler: gcc gcc (Debian 12.2.0-14+deb12u1) 12.2.0 Fedora Linux 42 Kernel: 5.15 Compiler: clang gcc (GCC) 15.2.1 20250808 (Red Hat 15.2.1-1) Red Hat Enterprise Linux 8.10 Kernel: 5.15 Compiler: gcc gcc (GCC) 8.5.0 20210514 (Red Hat 8.5.0-22) Red Hat Enterprise Linux 9.5 Kernel: 5.15 Compiler: gcc gcc (GCC) 11.5.0 20240719 (Red Hat 11.5.0-2) Ubuntu 22.04 Kernel: 5.15 Compiler: gcc gcc (Ubuntu 11.4.0-1ubuntu1~22.04) 11.4.0 Ubuntu 24.04 Kernel: 5.15 Compiler: gcc gcc (Ubuntu 13.3.0-6ubuntu2~24.04) 13.3.0 Alpine Linux 3.22.0 Kernel: 5.15 Compiler: gcc gcc (Alpine 14.2.0) 14.2.0 Windows Server 2022 Kernel: 10.0.20348.2031 Compiler: clang 15.0.7, gcc 14.1.0 (MinGW), and MSVC VS 19.39.33521 To view detailed results, visit: https://lab.dpdk.org/results/dashboard/patchsets/34626/ UNH-IOL DPDK Community Lab To manage your email subscriptions, visit: https://lab.dpdk.org/results/dashboard/preferences/subscriptions/