From mboxrd@z Thu Jan 1 00:00:00 1970 Return-Path: Received: from mails.dpdk.org (mails.dpdk.org [217.70.189.124]) by inbox.dpdk.org (Postfix) with ESMTP id B283A48B35 for ; Mon, 17 Nov 2025 20:03:11 +0100 (CET) Received: from mails.dpdk.org (localhost [127.0.0.1]) by mails.dpdk.org (Postfix) with ESMTP id AE8714028B; Mon, 17 Nov 2025 20:03:11 +0100 (CET) Received: from mail-qv1-f98.google.com (mail-qv1-f98.google.com [209.85.219.98]) by mails.dpdk.org (Postfix) with ESMTP id D03C54028B for ; Mon, 17 Nov 2025 20:03:10 +0100 (CET) Received: by mail-qv1-f98.google.com with SMTP id 6a1803df08f44-88249766055so58472526d6.1 for ; Mon, 17 Nov 2025 11:03:10 -0800 (PST) DKIM-Signature: v=1; a=rsa-sha256; c=relaxed/relaxed; d=iol.unh.edu; s=unh-iol; t=1763406190; x=1764010990; darn=dpdk.org; h=references:in-reply-to:cc:to:from:subject:message-id:date:from:to :cc:subject:date:message-id:reply-to; bh=CGuKzvJFYTX0TPsRu/zvP44RxqjrG9vFmkENvCQdcoo=; b=ZpmyQcShBCeg4JpAuPotZqVU8Du4hzbTS4qeTvWuuRZ87RAVd33oY6L9AV5VEjKKa7 UhaY7oZH6CfqjN0p5UtjBMdjGKHPpFdNyaq0lh5pg2MggXWbRCwnRkBdqfiT1X2zhT5q EnSOh9A+aCE2tKn9bzZVxLCab6N7VCwo+UX0w= X-Google-DKIM-Signature: v=1; a=rsa-sha256; c=relaxed/relaxed; d=1e100.net; s=20230601; t=1763406190; x=1764010990; h=references:in-reply-to:cc:to:from:subject:message-id:date:x-gm-gg :x-gm-message-state:from:to:cc:subject:date:message-id:reply-to; bh=CGuKzvJFYTX0TPsRu/zvP44RxqjrG9vFmkENvCQdcoo=; b=iSrgz/LmNoPU8uaIp7g+vgsLvqoF/VQZtMhgH/BevNNMjA5kY6HTKA0p9IyUDbIZel QktG+yrusyWOtCDtF0KUairo2DmjkEgm9jXvheGSMBGVY7fgjc0o+2nFHfLLb4NlWiXJ iI5Q+w0xpKoHedFl8xzzSxkPuTjKiTZUP9LrNuBqk1fwjqM8TUfLxaW+MIIElU++8JKu kkVZuEF+nhP19f/4hI+Wmn1ckNKoyWT26qLS79pDhW5aaO5n+VzTRr2FeF2/KqkDnsV0 QkVxTGA/eB53h+hTLzim2NHBTxmRZqP0bDUiU6QRgCKGk8Ykrg/9qAU4AGyVARssbnsy vEiw== X-Gm-Message-State: AOJu0YxKxeKz77h6mVmHjXDNuh6Yny/cMh8N11EPJia9p/j0WEUm599O XOZGw2DWj3bz0YlRUVyICnoRVu1VxyQPdJoJl73AynMatovts8ihrl0z4kUYhIJp+1fALhw8NcB EzH7FSCinYfXUTK9gheejW8KHfoYSHNaeti/nXlOeZNXy X-Gm-Gg: ASbGncu/iKROoy4NfEmquk+2oJSxJZp3z8xpw7YVUrEJXmhgzYkO6k+A9Byxw06rPlJ hWbwXjcL9DQFp5z/3ZNkEnadonfaKl+cVy9FbQ5yVEBRUz6Ls55b+156FCPzerFQ8zufqdJHPC4 7sJIdweDll34ZIuKxLCVKrxNfYcoNVyD323j8Q3nNPB94d+IXJtAiIS6+OoP/GV0l54a9bs13DB ya1cGOE1F2eq8QENHp3/3XMHtVp7Fq9ikprrdsCZdlG019Jqb6zis9k1oM24G2gGahOzcMpFrPJ r2UGmb3q87GesSciyZaJNPzRc66WKu2M5VzJSGjiCh/eMQMhYtcHRpWbVByelG7g6W/VOjdEJ0Y fUc70sS2uBcNmHpiDc70RXQ5p2KFRdsGj73E1X3xCzA== X-Google-Smtp-Source: AGHT+IHMcV+X9vQZHTB9UPHJAhlYP7B6pPvjt+/45djI7mg7aVP9LDXC4vYyvqprTqMT8pCXmb4PSWagRwtH X-Received: by 2002:a05:6214:cae:b0:791:34a5:8682 with SMTP id 6a1803df08f44-8829269e362mr202141766d6.38.1763406189974; Mon, 17 Nov 2025 11:03:09 -0800 (PST) Received: from postal.iol.unh.edu (postal.iol.unh.edu. [132.177.123.84]) by smtp-relay.gmail.com with ESMTPS id 6a1803df08f44-882865bb054sm16663216d6.30.2025.11.17.11.03.09 (version=TLS1_2 cipher=ECDHE-ECDSA-AES128-GCM-SHA256 bits=128/128); Mon, 17 Nov 2025 11:03:09 -0800 (PST) X-Relaying-Domain: iol.unh.edu Date: Mon, 17 Nov 2025 11:03:09 -0800 (PST) Message-ID: <691b716d.050a0220.fc618.2c9dSMTPIN_ADDED_MISSING@mx.google.com> Received: from [172.21.0.3] (unknown [172.18.0.240]) by postal.iol.unh.edu (Postfix) with ESMTP id AA8696051830; Mon, 17 Nov 2025 14:03:09 -0500 (EST) Subject: |SUCCESS| pw158860 [PATCH] crypto/openssl: support AES-XTS operation From: dpdklab@iol.unh.edu To: Test Report Cc: dpdk-test-reports@iol.unh.edu, Akhil Goyal In-Reply-To: <20251117124414.1839-1-felix.zhang@jaguarmicro.com> References: <20251117124414.1839-1-felix.zhang@jaguarmicro.com> Content-Type: text/plain X-BeenThere: test-report@dpdk.org X-Mailman-Version: 2.1.29 Precedence: list List-Id: automatic DPDK test reports List-Unsubscribe: , List-Archive: List-Post: List-Help: List-Subscribe: , Errors-To: test-report-bounces@dpdk.org Test-Label: iol-unit-amd64-testing Test-Status: SUCCESS http://dpdk.org/patch/158860 _Testing PASS_ Submitter: Shaokai Zhang Date: Monday, November 17 2025 12:44:14 DPDK git baseline: Repo:dpdk-next-crypto Branch: master CommitID:754ac59dcaf20949b55c58ab00ca73ea19dcc1cb 158860 --> testing pass Upstream job id: Generic-Unit-Test-DPDK#393998 Test environment and result as below: +-------------------------------+----------------+ | Environment | dpdk_unit_test | +===============================+================+ | CentOS Stream 9 | PASS | +-------------------------------+----------------+ | CentOS Stream 10 | PASS | +-------------------------------+----------------+ | Fedora Linux 41 | PASS | +-------------------------------+----------------+ | Fedora Linux 40 | PASS | +-------------------------------+----------------+ | Debian GNU/Linux 12 | PASS | +-------------------------------+----------------+ | Windows Server 2022 | PASS | +-------------------------------+----------------+ | Fedora Linux 42 | PASS | +-------------------------------+----------------+ | Ubuntu 20.04 | PASS | +-------------------------------+----------------+ | Red Hat Enterprise Linux 9.5 | PASS | +-------------------------------+----------------+ | Red Hat Enterprise Linux 8.10 | PASS | +-------------------------------+----------------+ | Ubuntu 22.04 | PASS | +-------------------------------+----------------+ | Ubuntu 24.04 | PASS | +-------------------------------+----------------+ CentOS Stream 9 Kernel: 5.15 Compiler: gcc gcc (GCC) 11.5.0 20240719 (Red Hat 11.5.0-11) CentOS Stream 10 Kernel: 5.15 Compiler: gcc gcc (GCC) 14.2.1 20250110 (Red Hat 14.2.1-8) Fedora Linux 41 Kernel: 5.15 Compiler: gcc gcc (GCC) 14.3.1 20250523 (Red Hat 14.3.1-1) Fedora Linux 40 Kernel: 5.15 Compiler: gcc gcc (GCC) 14.2.1 20240912 (Red Hat 14.2.1-3) Debian GNU/Linux 12 Kernel: 5.15 Compiler: gcc gcc (Debian 12.2.0-14+deb12u1) 12.2.0 Windows Server 2022 Kernel: 10.0.20348.2031 Compiler: clang 15.0.7, gcc 14.1.0 (MinGW), and MSVC VS 19.39.33521 Fedora Linux 42 Kernel: 5.15 Compiler: gcc gcc (GCC) 15.2.1 20250808 (Red Hat 15.2.1-1) Ubuntu 20.04 Kernel: 5.15 Compiler: gcc gcc (Ubuntu 9.4.0-1ubuntu1~20.04.2) 9.4.0 Red Hat Enterprise Linux 9.5 Kernel: 5.15 Compiler: gcc gcc (GCC) 11.5.0 20240719 (Red Hat 11.5.0-2) Red Hat Enterprise Linux 8.10 Kernel: 5.15 Compiler: gcc gcc (GCC) 8.5.0 20210514 (Red Hat 8.5.0-22) Ubuntu 22.04 Kernel: 5.15 Compiler: gcc gcc (Ubuntu 11.4.0-1ubuntu1~22.04) 11.4.0 Ubuntu 24.04 Kernel: 5.15 Compiler: gcc gcc (Ubuntu 13.3.0-6ubuntu2~24.04) 13.3.0 To view detailed results, visit: https://lab.dpdk.org/results/dashboard/patchsets/34628/ UNH-IOL DPDK Community Lab To manage your email subscriptions, visit: https://lab.dpdk.org/results/dashboard/preferences/subscriptions/