From mboxrd@z Thu Jan 1 00:00:00 1970 Return-Path: Received: from mails.dpdk.org (mails.dpdk.org [217.70.189.124]) by inbox.dpdk.org (Postfix) with ESMTP id 5E4D548B35 for ; Mon, 17 Nov 2025 20:18:54 +0100 (CET) Received: from mails.dpdk.org (localhost [127.0.0.1]) by mails.dpdk.org (Postfix) with ESMTP id 38B304028B; Mon, 17 Nov 2025 20:18:54 +0100 (CET) Received: from mail-qv1-f100.google.com (mail-qv1-f100.google.com [209.85.219.100]) by mails.dpdk.org (Postfix) with ESMTP id B8E554028B for ; Mon, 17 Nov 2025 20:18:52 +0100 (CET) Received: by mail-qv1-f100.google.com with SMTP id 6a1803df08f44-882399d60baso43077396d6.0 for ; Mon, 17 Nov 2025 11:18:52 -0800 (PST) DKIM-Signature: v=1; a=rsa-sha256; c=relaxed/relaxed; d=iol.unh.edu; s=unh-iol; t=1763407132; x=1764011932; darn=dpdk.org; h=references:in-reply-to:cc:to:from:subject:message-id:date:from:to :cc:subject:date:message-id:reply-to; bh=n9H9oWOH+Fqd60XCmEG8Ym6MThwLmH6d3C+abUG0wv4=; b=TczhIUnr9LVLPbofOqdOd6ygoMEE9TZGOzCkYVbYlvx3cF7rLOYtcsEGtvhHQ1JE+m F508reBf5P9LhlRJOEphsAUn1n0fjbuWDG8WORhvPkKshW058drCkM+i6ZFbXaCaKDa4 fKPQiToJfqPNsSHHymZJw/1RnM3+dxsiNll7Y= X-Google-DKIM-Signature: v=1; a=rsa-sha256; c=relaxed/relaxed; d=1e100.net; s=20230601; t=1763407132; x=1764011932; h=references:in-reply-to:cc:to:from:subject:message-id:date:x-gm-gg :x-gm-message-state:from:to:cc:subject:date:message-id:reply-to; bh=n9H9oWOH+Fqd60XCmEG8Ym6MThwLmH6d3C+abUG0wv4=; b=cK6Wh6kJEtdr4OyeeqWSy74GZrxPvZh6z17wCiOMnk/DSgpg6yQGpw/AMqOxTsDk18 GE9tPA20vd7Mm0XG1cyHPvcwdJ+sikG3vN1AxxINCTMEr1crVhf2hc1/GAqruE5Q86gn 3Jc8rAUhEfXFCWP81cscrkwnKPbLgljjdWaZBw9RiiA82u59ZoB7OSiYiUpxQCZT8Qwi MTXGRp4hR3cWLSl0VwDSohjr6dUmv/FYEQZNsnKFtEFnSIbSenPkEFLMghx116qJ8D88 zBasW4Luvbhx0aUpvP1OeABbjASxtk5yaGdW6sE9bqavBzts5YbhhoCfojLNy2FuGayN TrAw== X-Gm-Message-State: AOJu0Yx2GHzYyopNdWC6GE6umensVV1LMhcZAUKibV2G+6ikjFLeBGy0 ygAlE981kDwNXb6IxFA2UDwq8uxL9pWWHLLqXGiqFO/IyxUyg7uq/eapYEiu72YIw2YD310wlgi MZLoPrgXMZUBIM9GZDvrNHqmws27cgwH2Xmcm4tFLFvpWkNES4WHx75HKdOzf X-Gm-Gg: ASbGncstPA54+CaK2u2NLbPPREDKInYsCSIacox0ipo8Lj5znG03YV6SRJafnlK6Q82 RTscEBisJ9M155fBeD4YfkDETmEpGtCY3LdJ7pyak15+c+XgBnYBKVm7mt7jdvzQh8/Thtddp+u iKeF+a+WT+JWn09EaAhG6h7dMgrBP/RqKAuVbrqSKGFMqLIhFIxhybTlwYtMbMLt5quN1bVwcTc wUlgdnwtaqVrXpDqmJcO/IEfS3ZPZQTqjnBxLryVI02Z1JObXB+zelTFRrxeJLpRn7RDp6Tb41k V12PTB93h/bMH7ctipBt0ir1IIhR9z/pKQxtvf9wJzfzaS3jzDhjIaFWboMMWh5YMJYxqk2fXS3 pxX75XDAlfkW5sK5kXkI= X-Google-Smtp-Source: AGHT+IGqjEcl+PV/+6CZjk8hz5IO830BJLrVF3uqAuWQpCzK8juaLgI99MEMKqCuVtyHBcU/N1RRN1jRRdl0 X-Received: by 2002:a05:6214:1bc6:b0:87c:2c76:62a1 with SMTP id 6a1803df08f44-882926ea561mr170670386d6.67.1763407132046; Mon, 17 Nov 2025 11:18:52 -0800 (PST) Received: from postal.iol.unh.edu (postal.iol.unh.edu. [2606:4100:3880:1234::84]) by smtp-relay.gmail.com with ESMTPS id 6a1803df08f44-88286342d97sm17153276d6.13.2025.11.17.11.18.51 (version=TLS1_2 cipher=ECDHE-ECDSA-AES128-GCM-SHA256 bits=128/128); Mon, 17 Nov 2025 11:18:52 -0800 (PST) X-Relaying-Domain: iol.unh.edu Date: Mon, 17 Nov 2025 11:18:52 -0800 (PST) Message-ID: <691b751c.d40a0220.1fd167.770bSMTPIN_ADDED_MISSING@mx.google.com> Received: from [172.21.0.2] (unknown [172.18.0.240]) by postal.iol.unh.edu (Postfix) with ESMTP id C129E6051830; Mon, 17 Nov 2025 14:18:51 -0500 (EST) Subject: |SUCCESS| pw158860 [PATCH] crypto/openssl: support AES-XTS operation From: dpdklab@iol.unh.edu To: Test Report Cc: dpdk-test-reports@iol.unh.edu, Akhil Goyal In-Reply-To: <20251117124414.1839-1-felix.zhang@jaguarmicro.com> References: <20251117124414.1839-1-felix.zhang@jaguarmicro.com> Content-Type: text/plain X-BeenThere: test-report@dpdk.org X-Mailman-Version: 2.1.29 Precedence: list List-Id: automatic DPDK test reports List-Unsubscribe: , List-Archive: List-Post: List-Help: List-Subscribe: , Errors-To: test-report-bounces@dpdk.org Test-Label: iol-compile-amd64-testing Test-Status: SUCCESS http://dpdk.org/patch/158860 _Testing PASS_ Submitter: Shaokai Zhang Date: Monday, November 17 2025 12:44:14 DPDK git baseline: Repo:dpdk-next-crypto Branch: master CommitID:754ac59dcaf20949b55c58ab00ca73ea19dcc1cb 158860 --> testing pass Upstream job id: Generic-DPDK-Compile-Meson#445653 Test environment and result as below: +-------------------------------+--------------------+------------------+-------------------------+-------------------+----------------------+ | Environment | dpdk_meson_compile | dpdk_compile_ovs | dpdk_llvm_clang_compile | dpdk_msvc_compile | dpdk_mingw64_compile | +===============================+====================+==================+=========================+===================+======================+ | CentOS Stream 9 | PASS | SKIPPED | SKIPPED | SKIPPED | SKIPPED | +-------------------------------+--------------------+------------------+-------------------------+-------------------+----------------------+ | CentOS Stream 10 | PASS | SKIPPED | SKIPPED | SKIPPED | SKIPPED | +-------------------------------+--------------------+------------------+-------------------------+-------------------+----------------------+ | Debian GNU/Linux 12 | PASS | SKIPPED | SKIPPED | SKIPPED | SKIPPED | +-------------------------------+--------------------+------------------+-------------------------+-------------------+----------------------+ | Ubuntu 20.04 | PASS | SKIPPED | SKIPPED | SKIPPED | SKIPPED | +-------------------------------+--------------------+------------------+-------------------------+-------------------+----------------------+ | Fedora Linux 42 | PASS | PASS | SKIPPED | SKIPPED | SKIPPED | +-------------------------------+--------------------+------------------+-------------------------+-------------------+----------------------+ | openSUSE Leap 15.6 | PASS | SKIPPED | SKIPPED | SKIPPED | SKIPPED | +-------------------------------+--------------------+------------------+-------------------------+-------------------+----------------------+ | Red Hat Enterprise Linux 8.10 | PASS | SKIPPED | SKIPPED | SKIPPED | SKIPPED | +-------------------------------+--------------------+------------------+-------------------------+-------------------+----------------------+ | Red Hat Enterprise Linux 9.5 | PASS | SKIPPED | SKIPPED | SKIPPED | SKIPPED | +-------------------------------+--------------------+------------------+-------------------------+-------------------+----------------------+ | FreeBSD 14.2 | PASS | SKIPPED | SKIPPED | SKIPPED | SKIPPED | +-------------------------------+--------------------+------------------+-------------------------+-------------------+----------------------+ | Ubuntu 22.04 | PASS | SKIPPED | SKIPPED | SKIPPED | SKIPPED | +-------------------------------+--------------------+------------------+-------------------------+-------------------+----------------------+ | Ubuntu 24.04 | PASS | PASS | SKIPPED | SKIPPED | SKIPPED | +-------------------------------+--------------------+------------------+-------------------------+-------------------+----------------------+ | Alpine Linux 3.22.0 | PASS | SKIPPED | SKIPPED | SKIPPED | SKIPPED | +-------------------------------+--------------------+------------------+-------------------------+-------------------+----------------------+ | Windows Server 2022 | SKIPPED | SKIPPED | PASS | PASS | PASS | +-------------------------------+--------------------+------------------+-------------------------+-------------------+----------------------+ CentOS Stream 9 Kernel: 5.15 Compiler: gcc gcc (GCC) 11.5.0 20240719 (Red Hat 11.5.0-11) CentOS Stream 10 Kernel: 5.15 Compiler: gcc gcc (GCC) 14.2.1 20250110 (Red Hat 14.2.1-8) Debian GNU/Linux 12 Kernel: 5.15 Compiler: gcc gcc (Debian 12.2.0-14+deb12u1) 12.2.0 Ubuntu 20.04 Kernel: 4.19 Compiler: gcc gcc (Ubuntu 9.4.0-1ubuntu1~20.04.2) 9.4.0 Fedora Linux 42 Kernel: 5.15 Compiler: clang gcc (GCC) 15.2.1 20250808 (Red Hat 15.2.1-1) openSUSE Leap 15.6 Kernel: 5.15 Compiler: gcc gcc (SUSE Linux) 7.5.0 Red Hat Enterprise Linux 8.10 Kernel: 5.15 Compiler: gcc gcc (GCC) 8.5.0 20210514 (Red Hat 8.5.0-22) Red Hat Enterprise Linux 9.5 Kernel: 5.15 Compiler: gcc gcc (GCC) 11.5.0 20240719 (Red Hat 11.5.0-2) FreeBSD 14.2 Kernel: 14.2-RELEASE Compiler: clang 18.1.6 Ubuntu 22.04 Kernel: 5.15 Compiler: gcc gcc (Ubuntu 11.4.0-1ubuntu1~22.04) 11.4.0 Ubuntu 24.04 Kernel: 5.15 Compiler: gcc gcc (Ubuntu 13.3.0-6ubuntu2~24.04) 13.3.0 Alpine Linux 3.22.0 Kernel: 5.15 Compiler: gcc gcc (Alpine 14.2.0) 14.2.0 Windows Server 2022 Kernel: 10.0.20348.2031 Compiler: clang 15.0.7, gcc 14.1.0 (MinGW), and MSVC VS 19.39.33521 To view detailed results, visit: https://lab.dpdk.org/results/dashboard/patchsets/34628/ UNH-IOL DPDK Community Lab To manage your email subscriptions, visit: https://lab.dpdk.org/results/dashboard/preferences/subscriptions/