From mboxrd@z Thu Jan 1 00:00:00 1970 Return-Path: Received: from mails.dpdk.org (mails.dpdk.org [217.70.189.124]) by inbox.dpdk.org (Postfix) with ESMTP id 43CB448B41 for ; Tue, 18 Nov 2025 17:15:56 +0100 (CET) Received: from mails.dpdk.org (localhost [127.0.0.1]) by mails.dpdk.org (Postfix) with ESMTP id 1BD544027A; Tue, 18 Nov 2025 17:15:56 +0100 (CET) Received: from mail-pl1-f228.google.com (mail-pl1-f228.google.com [209.85.214.228]) by mails.dpdk.org (Postfix) with ESMTP id 7D3E34027A for ; Tue, 18 Nov 2025 17:15:54 +0100 (CET) Received: by mail-pl1-f228.google.com with SMTP id d9443c01a7336-298456bb53aso63992435ad.0 for ; Tue, 18 Nov 2025 08:15:54 -0800 (PST) DKIM-Signature: v=1; a=rsa-sha256; c=relaxed/relaxed; d=iol.unh.edu; s=unh-iol; t=1763482553; x=1764087353; darn=dpdk.org; h=references:in-reply-to:cc:to:from:subject:message-id:date:from:to :cc:subject:date:message-id:reply-to; bh=/GHIeEYqvty6y00xMKTdMqxIQLUcfLnLVYOpQ0V5JSQ=; b=DYuWJxjy7I3zWfOZo0dmKPa8dFFbmZ3qlkmSloe6EaiAZK5BLqKsIlo9+yunkEkw93 x45FkIFommSKe5rHSNHYiSCkGAKxEfTbvdZoBPYugRO7QkCy+jkFKDQMBO/tf1WTSl8P z5/qqNOSqBznJTGXUZPbLdwIgJiiA1PgzoTNY= X-Google-DKIM-Signature: v=1; a=rsa-sha256; c=relaxed/relaxed; d=1e100.net; s=20230601; t=1763482553; x=1764087353; h=references:in-reply-to:cc:to:from:subject:message-id:date:x-gm-gg :x-gm-message-state:from:to:cc:subject:date:message-id:reply-to; bh=/GHIeEYqvty6y00xMKTdMqxIQLUcfLnLVYOpQ0V5JSQ=; b=OFWq2sUESF6XUOTFjeWVGZReJb9owlWtb4vk2RohtBDkyc6/kv7lkKC5/5Ih0rOVnb TGbhU3eizSDTSwBvJ04SxConfSunHroX2UgSSSkUP90/C2yTv+lWECXptwOBfeEQKYXD A/KtI3Z6JSTSzrXSS2XihPI4CWir+LEew6DQcllzZ03YwZ++Vb7hKrEnHcN/mXPeUA1s JUY7AEq5o8lS7YRuSryEyuux/sZ6dxw3pKDAp6R751rttPDQdnKqiqsdGFA/fJEQT3uT LR/DHSmM1WHnbgkmvRR0TftyL9BWm/IwqB9cLuxUA8VN6KA46UdUQLd79S/U0sCUH2y1 wfeg== X-Gm-Message-State: AOJu0Yw77yspeXaUc2GqLVHUbH937jrJzZQB0B7KtZrVldavS62J1ebY X+hGCmmzEe2NCdyxg5rwWDcbt/LCHUJXYba3QNuT+Q0gyJj2FFqn2akt2uXyxb0Y/tlH78Cedv/ RIQi11/FcZ4B09XvA60HfJ+dMT9I3v2ETEH+UqSwzkM9o X-Gm-Gg: ASbGncupIex6/0SgOux664OkGybn6hK6UY4MqSfi6wLrqavU3f6Ef4g62eZpJPDqraw A7pgOjS32dq/Wlwois3Cj5mTai3gMWDJ2w8oB6KE/eQVaMY0lSzqK8ouf9S07UkwSUlBqeGMHni m0zofacNeVv6Wqn2dxEzO0Z8fTmDHrtpSH2LUZeaQdoQrQm27TJdM+/URQSjiDM0F4ejbPVRxkQ 8EC2npcMHoH4fqfU3E/iRFF3OZ2GwHweoMPHnR8nPKzRhCDgxfuIYKpoeK7U8qnMGl9SvRX5UaQ Ult3sQMs28lw9/ID+9jAVauHIJugJBs01SV9hFs4vpUKmLPD+SKFRgnBBxmuMwN7d3ecd9U3xOH zqSkVZPLqPfS6z6LHrM0eIdjSuaWPCC8hdQ6PUV5i+g== X-Google-Smtp-Source: AGHT+IEtWw6xnXrz4IH+VTDnZDo61UzFmqoLnzcTwttOxQRvlZgzEtLLVd69mXzynxkNuRISILIvrhTuu3+0 X-Received: by 2002:a17:902:f687:b0:295:82c6:dac3 with SMTP id d9443c01a7336-2986a7416e4mr201193445ad.32.1763482553308; Tue, 18 Nov 2025 08:15:53 -0800 (PST) Received: from postal.iol.unh.edu (postal.iol.unh.edu. [132.177.123.84]) by smtp-relay.gmail.com with ESMTPS id d9443c01a7336-2985c241b61sm17904275ad.14.2025.11.18.08.15.53 (version=TLS1_2 cipher=ECDHE-ECDSA-AES128-GCM-SHA256 bits=128/128); Tue, 18 Nov 2025 08:15:53 -0800 (PST) X-Relaying-Domain: iol.unh.edu Date: Tue, 18 Nov 2025 08:15:53 -0800 (PST) Message-ID: <691c9bb9.170a0220.2cc0b1.a063SMTPIN_ADDED_MISSING@mx.google.com> Received: from [172.21.0.3] (unknown [172.18.0.240]) by postal.iol.unh.edu (Postfix) with ESMTP id 932BE604D420; Tue, 18 Nov 2025 11:15:52 -0500 (EST) Subject: |SUCCESS| pw158867 [PATCH] app/testpmd: fix flow queue job leaks From: dpdklab@iol.unh.edu To: Test Report Cc: dpdk-test-reports@iol.unh.edu, Stephen Hemminger In-Reply-To: <20251118104518.1714166-1-dsosnowski@nvidia.com> References: <20251118104518.1714166-1-dsosnowski@nvidia.com> Content-Type: text/plain X-BeenThere: test-report@dpdk.org X-Mailman-Version: 2.1.29 Precedence: list List-Id: automatic DPDK test reports List-Unsubscribe: , List-Archive: List-Post: List-Help: List-Subscribe: , Errors-To: test-report-bounces@dpdk.org Test-Label: iol-unit-amd64-testing Test-Status: SUCCESS http://dpdk.org/patch/158867 _Testing PASS_ Submitter: Dariusz Sosnowski Date: Tuesday, November 18 2025 10:45:18 DPDK git baseline: Repo:dpdk-next-net Branch: master CommitID:37c1fb70b39c3a2dea6f7a80187e57b03460a365 158867 --> testing pass Upstream job id: Generic-VM-Unit-Test-DPDK#32674 Test environment and result as below: +-------------------------------+----------------+ | Environment | dpdk_unit_test | +===============================+================+ | CentOS Stream 9 | PASS | +-------------------------------+----------------+ | Fedora Linux 40 | PASS | +-------------------------------+----------------+ | Ubuntu 20.04 | PASS | +-------------------------------+----------------+ | Fedora Linux 42 | PASS | +-------------------------------+----------------+ | Fedora Linux 41 | PASS | +-------------------------------+----------------+ | Debian GNU/Linux 12 | PASS | +-------------------------------+----------------+ | Red Hat Enterprise Linux 9.5 | PASS | +-------------------------------+----------------+ | Ubuntu 22.04 | PASS | +-------------------------------+----------------+ | Red Hat Enterprise Linux 8.10 | PASS | +-------------------------------+----------------+ | CentOS Stream 10 | PASS | +-------------------------------+----------------+ | Ubuntu 24.04 | PASS | +-------------------------------+----------------+ | Windows Server 2022 | PASS | +-------------------------------+----------------+ CentOS Stream 9 Kernel: 5.15 Compiler: gcc gcc (GCC) 11.5.0 20240719 (Red Hat 11.5.0-11) Fedora Linux 40 Kernel: 5.15 Compiler: gcc gcc (GCC) 14.2.1 20240912 (Red Hat 14.2.1-3) Ubuntu 20.04 Kernel: 5.15 Compiler: gcc gcc (Ubuntu 9.4.0-1ubuntu1~20.04.2) 9.4.0 Fedora Linux 42 Kernel: 5.15 Compiler: gcc gcc (GCC) 15.2.1 20250808 (Red Hat 15.2.1-1) Fedora Linux 41 Kernel: 5.15 Compiler: clang gcc (GCC) 14.3.1 20250523 (Red Hat 14.3.1-1) Debian GNU/Linux 12 Kernel: 5.15 Compiler: gcc gcc (Debian 12.2.0-14+deb12u1) 12.2.0 Red Hat Enterprise Linux 9.5 Kernel: 5.15 Compiler: gcc gcc (GCC) 11.5.0 20240719 (Red Hat 11.5.0-2) Ubuntu 22.04 Kernel: 5.15 Compiler: gcc gcc (Ubuntu 11.4.0-1ubuntu1~22.04) 11.4.0 Red Hat Enterprise Linux 8.10 Kernel: 5.15 Compiler: gcc gcc (GCC) 8.5.0 20210514 (Red Hat 8.5.0-22) CentOS Stream 10 Kernel: 5.15 Compiler: gcc gcc (GCC) 14.2.1 20250110 (Red Hat 14.2.1-8) Ubuntu 24.04 Kernel: 5.15 Compiler: gcc gcc (Ubuntu 13.3.0-6ubuntu2~24.04) 13.3.0 Windows Server 2022 Kernel: 10.0.20348.2031 Compiler: clang 15.0.7, gcc 14.1.0 (MinGW), and MSVC VS 19.39.33521 To view detailed results, visit: https://lab.dpdk.org/results/dashboard/patchsets/34630/ UNH-IOL DPDK Community Lab To manage your email subscriptions, visit: https://lab.dpdk.org/results/dashboard/preferences/subscriptions/