From mboxrd@z Thu Jan 1 00:00:00 1970 Return-Path: Received: from mails.dpdk.org (mails.dpdk.org [217.70.189.124]) by inbox.dpdk.org (Postfix) with ESMTP id BBD9E48B41 for ; Tue, 18 Nov 2025 17:22:17 +0100 (CET) Received: from mails.dpdk.org (localhost [127.0.0.1]) by mails.dpdk.org (Postfix) with ESMTP id 9EE474027A; Tue, 18 Nov 2025 17:22:17 +0100 (CET) Received: from mail-pl1-f227.google.com (mail-pl1-f227.google.com [209.85.214.227]) by mails.dpdk.org (Postfix) with ESMTP id EEF364027A for ; Tue, 18 Nov 2025 17:22:15 +0100 (CET) Received: by mail-pl1-f227.google.com with SMTP id d9443c01a7336-29568d93e87so51642925ad.2 for ; Tue, 18 Nov 2025 08:22:15 -0800 (PST) DKIM-Signature: v=1; a=rsa-sha256; c=relaxed/relaxed; d=iol.unh.edu; s=unh-iol; t=1763482935; x=1764087735; darn=dpdk.org; h=references:in-reply-to:cc:to:from:subject:message-id:date:from:to :cc:subject:date:message-id:reply-to; bh=pZtyvzHl1J6e8gl+tsMsmYptddc+0nQxl07Imfiy/xI=; b=cNGTPMO31JnUDpDhAyp4kftVIKC34Hnhtuq+vedieEs3jUEFbYUOg1+tTibbo6ThG/ IhthASS7a/sGKlxLlG7Fn5mwD5Tl4Q4Ta+6Qex+MzZkrcQ7LAspPAxyS+bwCfLonNZJ3 dx80GkhQ6ZYofZ+UGUDrIzHX3GCPStRrtaF1I= X-Google-DKIM-Signature: v=1; a=rsa-sha256; c=relaxed/relaxed; d=1e100.net; s=20230601; t=1763482935; x=1764087735; h=references:in-reply-to:cc:to:from:subject:message-id:date:x-gm-gg :x-gm-message-state:from:to:cc:subject:date:message-id:reply-to; bh=pZtyvzHl1J6e8gl+tsMsmYptddc+0nQxl07Imfiy/xI=; b=ftztR+xRNzx1Rgoi25FCW2RGhz8v06XZMJMlE5FIZEyKmZLyR5K5MpScWyJZeK8swD Ou30oWFaBWcUDsEKU3zR//Rn3rN3dFr7uoyH5O3kXY7AmrmHPaXZIfazLcQZmhxTK6st rvhr2TqTprjimfTIqx3pF84Y/VDuud9nGEDnRWYGsb8/YESQD/BA44lQyXuvL6mSmFof 0dKxonfb6InlnCoNQMFDlk1JXdefrjLGN5LqsgrCllfM4eywuNmB2fF17po0eUo1KM/3 9iC5SF4b6hO9eDRHZojWpxrZJxafVhxC2AZ/D4DX8Bmvj+C1Q87TB3SZ+vrJ3EeztGRL D7+A== X-Gm-Message-State: AOJu0YyC8ez501887qoOYlglEAj2uoqehndVf6gw2BBPda4TLd73tydV /FSH3TyJXR6AGdbDUFpIFPSDFoB6vo+hBd6Nf+SDcKD0NtAZTSyf9iEZlRfFzxAyzHB2zrNZL/s 3SqpRZQdptQ4+NwcHe8fylMl+u4ZD6vITDP8qm0lYutMeGjX1joY71JMZMlXn X-Gm-Gg: ASbGncu7WsegswWOawa979EMFlvYXw5mfEvYsBs9/hsjqKmkRscU73YWrX/I86v5f71 60YPTC2pdPU2K3/U8W96T9bt6j9UK+du+yWhI6N10NxZX+LTXRNEC9J6rxRLp3XX8dm4S6Pj3AV +unfv6P+tAzWs8NhQ6XMPiyDhufp2oIAVuFhKhZUSMOO0QfYfgcfRw3wtxe5FT0UGEXC0+CXKxT LidUu4loFlxiJh2NQJP0+bLA9zgph4HnlF/Jm0aq91kdDp3eZqsb0Mp/ayY8l46FFI8MA+IHO7T imQ2jUOBGiveW22uuFUA57YrKkGO4H8ypRsp9I/+2Xv2K/TuR9RAD5R0ba1iR/cE8cjlnSSUP5L eieuHhCXmKy18Edi2Sro= X-Google-Smtp-Source: AGHT+IH9iOsHcBhPFYerjA6pF+7k/uSpd6mYR1rZ6CmG6/Y2AEyfizBRr0/UjEYUgfKNH8gjo1YhF0uMz1+G X-Received: by 2002:a17:903:41c3:b0:298:2637:8029 with SMTP id d9443c01a7336-2986a76b5a9mr178371565ad.55.1763482934931; Tue, 18 Nov 2025 08:22:14 -0800 (PST) Received: from postal.iol.unh.edu (postal.iol.unh.edu. [2606:4100:3880:1234::84]) by smtp-relay.gmail.com with ESMTPS id d9443c01a7336-2985c234210sm17705345ad.6.2025.11.18.08.22.14 (version=TLS1_2 cipher=ECDHE-ECDSA-AES128-GCM-SHA256 bits=128/128); Tue, 18 Nov 2025 08:22:14 -0800 (PST) X-Relaying-Domain: iol.unh.edu Date: Tue, 18 Nov 2025 08:22:14 -0800 (PST) Message-ID: <691c9d36.170a0220.f3b21.c2f9SMTPIN_ADDED_MISSING@mx.google.com> Received: from [172.21.0.3] (unknown [172.18.0.240]) by postal.iol.unh.edu (Postfix) with ESMTP id 27791604D420; Tue, 18 Nov 2025 11:22:14 -0500 (EST) Subject: |SUCCESS| pw158867 [PATCH] app/testpmd: fix flow queue job leaks From: dpdklab@iol.unh.edu To: Test Report Cc: dpdk-test-reports@iol.unh.edu, Stephen Hemminger In-Reply-To: <20251118104518.1714166-1-dsosnowski@nvidia.com> References: <20251118104518.1714166-1-dsosnowski@nvidia.com> Content-Type: text/plain X-BeenThere: test-report@dpdk.org X-Mailman-Version: 2.1.29 Precedence: list List-Id: automatic DPDK test reports List-Unsubscribe: , List-Archive: List-Post: List-Help: List-Subscribe: , Errors-To: test-report-bounces@dpdk.org Test-Label: iol-compile-amd64-testing Test-Status: SUCCESS http://dpdk.org/patch/158867 _Testing PASS_ Submitter: Dariusz Sosnowski Date: Tuesday, November 18 2025 10:45:18 DPDK git baseline: Repo:dpdk-next-net Branch: master CommitID:37c1fb70b39c3a2dea6f7a80187e57b03460a365 158867 --> testing pass Upstream job id: Generic-DPDK-Compile-Meson#445807 Test environment and result as below: +-------------------------------+--------------------+------------------+-------------------------+-------------------+----------------------+ | Environment | dpdk_meson_compile | dpdk_compile_ovs | dpdk_llvm_clang_compile | dpdk_msvc_compile | dpdk_mingw64_compile | +===============================+====================+==================+=========================+===================+======================+ | Fedora Linux 42 | PASS | PASS | SKIPPED | SKIPPED | SKIPPED | +-------------------------------+--------------------+------------------+-------------------------+-------------------+----------------------+ | openSUSE Leap 15.6 | PASS | SKIPPED | SKIPPED | SKIPPED | SKIPPED | +-------------------------------+--------------------+------------------+-------------------------+-------------------+----------------------+ | Ubuntu 20.04 | PASS | SKIPPED | SKIPPED | SKIPPED | SKIPPED | +-------------------------------+--------------------+------------------+-------------------------+-------------------+----------------------+ | Red Hat Enterprise Linux 8.10 | PASS | SKIPPED | SKIPPED | SKIPPED | SKIPPED | +-------------------------------+--------------------+------------------+-------------------------+-------------------+----------------------+ | Red Hat Enterprise Linux 9.5 | PASS | SKIPPED | SKIPPED | SKIPPED | SKIPPED | +-------------------------------+--------------------+------------------+-------------------------+-------------------+----------------------+ | FreeBSD 14.2 | PASS | SKIPPED | SKIPPED | SKIPPED | SKIPPED | +-------------------------------+--------------------+------------------+-------------------------+-------------------+----------------------+ | Ubuntu 24.04 | PASS | PASS | SKIPPED | SKIPPED | SKIPPED | +-------------------------------+--------------------+------------------+-------------------------+-------------------+----------------------+ | Alpine Linux 3.22.0 | PASS | SKIPPED | SKIPPED | SKIPPED | SKIPPED | +-------------------------------+--------------------+------------------+-------------------------+-------------------+----------------------+ | Ubuntu 22.04 | PASS | SKIPPED | SKIPPED | SKIPPED | SKIPPED | +-------------------------------+--------------------+------------------+-------------------------+-------------------+----------------------+ | Debian GNU/Linux 12 | PASS | SKIPPED | SKIPPED | SKIPPED | SKIPPED | +-------------------------------+--------------------+------------------+-------------------------+-------------------+----------------------+ | CentOS Stream 9 | PASS | SKIPPED | SKIPPED | SKIPPED | SKIPPED | +-------------------------------+--------------------+------------------+-------------------------+-------------------+----------------------+ | CentOS Stream 10 | PASS | SKIPPED | SKIPPED | SKIPPED | SKIPPED | +-------------------------------+--------------------+------------------+-------------------------+-------------------+----------------------+ | Windows Server 2022 | SKIPPED | SKIPPED | PASS | PASS | PASS | +-------------------------------+--------------------+------------------+-------------------------+-------------------+----------------------+ Fedora Linux 42 Kernel: 5.15 Compiler: clang gcc (GCC) 15.2.1 20250808 (Red Hat 15.2.1-1) openSUSE Leap 15.6 Kernel: 5.15 Compiler: gcc gcc (SUSE Linux) 7.5.0 Ubuntu 20.04 Kernel: 4.19 Compiler: gcc gcc (Ubuntu 9.4.0-1ubuntu1~20.04.2) 9.4.0 Red Hat Enterprise Linux 8.10 Kernel: 5.15 Compiler: gcc gcc (GCC) 8.5.0 20210514 (Red Hat 8.5.0-22) Red Hat Enterprise Linux 9.5 Kernel: 5.15 Compiler: gcc gcc (GCC) 11.5.0 20240719 (Red Hat 11.5.0-2) FreeBSD 14.2 Kernel: 14.2-RELEASE Compiler: clang 18.1.6 Ubuntu 24.04 Kernel: 5.15 Compiler: gcc gcc (Ubuntu 13.3.0-6ubuntu2~24.04) 13.3.0 Alpine Linux 3.22.0 Kernel: 5.15 Compiler: gcc gcc (Alpine 14.2.0) 14.2.0 Ubuntu 22.04 Kernel: 5.15 Compiler: gcc gcc (Ubuntu 11.4.0-1ubuntu1~22.04) 11.4.0 Debian GNU/Linux 12 Kernel: 5.15 Compiler: gcc gcc (Debian 12.2.0-14+deb12u1) 12.2.0 CentOS Stream 9 Kernel: 5.15 Compiler: gcc gcc (GCC) 11.5.0 20240719 (Red Hat 11.5.0-11) CentOS Stream 10 Kernel: 5.15 Compiler: gcc gcc (GCC) 14.2.1 20250110 (Red Hat 14.2.1-8) Windows Server 2022 Kernel: 10.0.20348.2031 Compiler: clang 15.0.7, gcc 14.1.0 (MinGW), and MSVC VS 19.39.33521 To view detailed results, visit: https://lab.dpdk.org/results/dashboard/patchsets/34630/ UNH-IOL DPDK Community Lab To manage your email subscriptions, visit: https://lab.dpdk.org/results/dashboard/preferences/subscriptions/