From mboxrd@z Thu Jan 1 00:00:00 1970 Return-Path: Received: from mails.dpdk.org (mails.dpdk.org [217.70.189.124]) by inbox.dpdk.org (Postfix) with ESMTP id 56BF948B42 for ; Tue, 18 Nov 2025 18:57:33 +0100 (CET) Received: from mails.dpdk.org (localhost [127.0.0.1]) by mails.dpdk.org (Postfix) with ESMTP id 367494028D; Tue, 18 Nov 2025 18:57:33 +0100 (CET) Received: from mail-il1-f228.google.com (mail-il1-f228.google.com [209.85.166.228]) by mails.dpdk.org (Postfix) with ESMTP id 6EF4E4028D for ; Tue, 18 Nov 2025 18:57:32 +0100 (CET) Received: by mail-il1-f228.google.com with SMTP id e9e14a558f8ab-43380a6fe8cso38650545ab.0 for ; Tue, 18 Nov 2025 09:57:32 -0800 (PST) DKIM-Signature: v=1; a=rsa-sha256; c=relaxed/relaxed; d=iol.unh.edu; s=unh-iol; t=1763488652; x=1764093452; darn=dpdk.org; h=references:in-reply-to:cc:to:from:subject:message-id:date:from:to :cc:subject:date:message-id:reply-to; bh=1P4ZIP8E4Br3hGLuNZXI2tobS3k4zQPysHzeQ2lpxyg=; b=Ebck9NwCszybnMBlIKEez1Gp1WxmxHUh6GeSRsA0MO+RXRups0WoWsZks+MoOisGQN bCjBYGWRDmmqQ+xWzAYz1AZQ+jTNl55KN2NGk/+ThN86OKioQyFihWAbCVIi8V2sP4nW Z33wIXQcMsfDMUCqI71K84Dy9jgEQz1rVmbK8= X-Google-DKIM-Signature: v=1; a=rsa-sha256; c=relaxed/relaxed; d=1e100.net; s=20230601; t=1763488652; x=1764093452; h=references:in-reply-to:cc:to:from:subject:message-id:date:x-gm-gg :x-gm-message-state:from:to:cc:subject:date:message-id:reply-to; bh=1P4ZIP8E4Br3hGLuNZXI2tobS3k4zQPysHzeQ2lpxyg=; b=lZPkEXetCP2GQWcZr5kc7uVZ8115pwex1pABuYZsAuLhr/tMkWarc2ew2bKVQFOFdg BTKJGWgF2cxSG9LItK2iLbmQA0UEgwVtjbpX3HeLc0Kr7n9IkzG5+a5Wt6iqoWQMclPX JeLPo3txq5sIV4ep5TFsdhzDoHDxgaSICFoF6RmBiYHpyGRQTE2VmIXvQTVE3DYV94t9 DLAv6e1CRPukzQ8L3KknLS9hIG0sdHNbE2l4iMsU4PECTD7UKn2LfDGP1/L67GfAyNIz ucf1hpsvbltzdCPieURtV9IZUCAMbP5jcqPXwJ/aH1IGp/R3VFMLPfowNVEwDIEJ+tY9 eE5A== X-Gm-Message-State: AOJu0YwZt6LY8QPvuQH3lcroJVTu97AqlUhK2r0FFlz1qHbw0npl8nt3 t7Xa3vfM9h8c8SbtjiPHmyRv2oueN1/q7iG28jVl3hr41QWF37w/pQ5qGn2ej+ptYukAnn4D8M6 NZ97+Y+SiPz+hKROktM1/Wu6cMywHXm/jCWCP+vAPO+yy X-Gm-Gg: ASbGncvC3pzaVzLmoc7fCpYGXhoC3lQSL5d4Ji54AE/YjKGBIW3SetIk1tLKKi7IIQG dqEB4BI+aZ866cfBLBLzoaVCI1e26E/7d4hZFvVBVWwHs+g6ci2SYilu3tTDQygR3TOwpo4TxhY KcjdEpT2/c7YwsxX+A/uSIhXLy9LXwD8xXgP45K23/4hveOh2nmbSXc/nxpE9xQMYVTy/shyy0k EZlmwu04PkV61gad7IdtIvYm3pItXcJMRl9s8c3PIo9Ut9uLZm6kEaCmW2Ydcj0EPdJzuGodVe9 FZ8gkhtjgjlth1gl1xpkyg6UXFK3cCrD9+aLzxceCNmX87yOGCmWpbXWRQk1oFemk/MghfTIYko 5kO38PV7OQAUAf6rhAO/1M7uD8gU4kXzm8Fn2qVMMpw== X-Google-Smtp-Source: AGHT+IH2l2AwHprEDx8IHgZmCMtUGikAaoOaCd9ZhJVvefvhE4xC20Se5JcYOSbX9iAr/EXh+Vxn4tSDebU8 X-Received: by 2002:a05:6e02:1b05:b0:433:220d:f49c with SMTP id e9e14a558f8ab-4348c7fc2cfmr195571705ab.0.1763488651740; Tue, 18 Nov 2025 09:57:31 -0800 (PST) Received: from postal.iol.unh.edu (postal.iol.unh.edu. [132.177.123.84]) by smtp-relay.gmail.com with ESMTPS id e9e14a558f8ab-434839d52a6sm14265415ab.26.2025.11.18.09.57.31 (version=TLS1_2 cipher=ECDHE-ECDSA-AES128-GCM-SHA256 bits=128/128); Tue, 18 Nov 2025 09:57:31 -0800 (PST) X-Relaying-Domain: iol.unh.edu Date: Tue, 18 Nov 2025 09:57:31 -0800 (PST) Message-ID: <691cb38b.050a0220.176e1d.7f1eSMTPIN_ADDED_MISSING@mx.google.com> Received: from [172.21.0.2] (unknown [172.18.0.240]) by postal.iol.unh.edu (Postfix) with ESMTP id 410EA60003F7; Tue, 18 Nov 2025 12:57:31 -0500 (EST) Subject: |SUCCESS| pw158868 [PATCH] net/mlx5: fix flex item header length fie From: dpdklab@iol.unh.edu To: Test Report Cc: dpdk-test-reports@iol.unh.edu In-Reply-To: <20251118145706.1272370-1-viacheslavo@nvidia.com> References: <20251118145706.1272370-1-viacheslavo@nvidia.com> Content-Type: text/plain X-BeenThere: test-report@dpdk.org X-Mailman-Version: 2.1.29 Precedence: list List-Id: automatic DPDK test reports List-Unsubscribe: , List-Archive: List-Post: List-Help: List-Subscribe: , Errors-To: test-report-bounces@dpdk.org Test-Label: iol-compile-amd64-testing Test-Status: SUCCESS http://dpdk.org/patch/158868 _Testing PASS_ Submitter: Viacheslav Ovsiienko Date: Tuesday, November 18 2025 14:57:06 DPDK git baseline: Repo:dpdk-next-net-mlx Branch: master CommitID:704fea4c7a0454ddd49bb999425eff4e195e657b 158868 --> testing pass Upstream job id: Generic-DPDK-Compile-Meson#445834 Test environment and result as below: +-------------------------------+--------------------+-------------------+-------------------------+------------------+----------------------+ | Environment | dpdk_meson_compile | dpdk_msvc_compile | dpdk_llvm_clang_compile | dpdk_compile_ovs | dpdk_mingw64_compile | +===============================+====================+===================+=========================+==================+======================+ | Ubuntu 20.04 | PASS | SKIPPED | SKIPPED | SKIPPED | SKIPPED | +-------------------------------+--------------------+-------------------+-------------------------+------------------+----------------------+ | openSUSE Leap 15.6 | PASS | SKIPPED | SKIPPED | SKIPPED | SKIPPED | +-------------------------------+--------------------+-------------------+-------------------------+------------------+----------------------+ | CentOS Stream 10 | PASS | SKIPPED | SKIPPED | SKIPPED | SKIPPED | +-------------------------------+--------------------+-------------------+-------------------------+------------------+----------------------+ | Debian GNU/Linux 12 | PASS | SKIPPED | SKIPPED | SKIPPED | SKIPPED | +-------------------------------+--------------------+-------------------+-------------------------+------------------+----------------------+ | Red Hat Enterprise Linux 8.10 | PASS | SKIPPED | SKIPPED | SKIPPED | SKIPPED | +-------------------------------+--------------------+-------------------+-------------------------+------------------+----------------------+ | Ubuntu 24.04 | PASS | SKIPPED | SKIPPED | PASS | SKIPPED | +-------------------------------+--------------------+-------------------+-------------------------+------------------+----------------------+ | FreeBSD 14.2 | PASS | SKIPPED | SKIPPED | SKIPPED | SKIPPED | +-------------------------------+--------------------+-------------------+-------------------------+------------------+----------------------+ | Fedora Linux 42 | PASS | SKIPPED | SKIPPED | PASS | SKIPPED | +-------------------------------+--------------------+-------------------+-------------------------+------------------+----------------------+ | Red Hat Enterprise Linux 9.5 | PASS | SKIPPED | SKIPPED | SKIPPED | SKIPPED | +-------------------------------+--------------------+-------------------+-------------------------+------------------+----------------------+ | Alpine Linux 3.22.0 | PASS | SKIPPED | SKIPPED | SKIPPED | SKIPPED | +-------------------------------+--------------------+-------------------+-------------------------+------------------+----------------------+ | Ubuntu 22.04 | PASS | SKIPPED | SKIPPED | SKIPPED | SKIPPED | +-------------------------------+--------------------+-------------------+-------------------------+------------------+----------------------+ | CentOS Stream 9 | PASS | SKIPPED | SKIPPED | SKIPPED | SKIPPED | +-------------------------------+--------------------+-------------------+-------------------------+------------------+----------------------+ | Windows Server 2022 | SKIPPED | PASS | PASS | SKIPPED | PASS | +-------------------------------+--------------------+-------------------+-------------------------+------------------+----------------------+ Ubuntu 20.04 Kernel: 4.19 Compiler: gcc gcc (Ubuntu 9.4.0-1ubuntu1~20.04.2) 9.4.0 openSUSE Leap 15.6 Kernel: 5.15 Compiler: gcc gcc (SUSE Linux) 7.5.0 CentOS Stream 10 Kernel: 5.15 Compiler: gcc gcc (GCC) 14.2.1 20250110 (Red Hat 14.2.1-8) Debian GNU/Linux 12 Kernel: 5.15 Compiler: gcc gcc (Debian 12.2.0-14+deb12u1) 12.2.0 Red Hat Enterprise Linux 8.10 Kernel: 5.15 Compiler: gcc gcc (GCC) 8.5.0 20210514 (Red Hat 8.5.0-22) Ubuntu 24.04 Kernel: 5.15 Compiler: gcc gcc (Ubuntu 13.3.0-6ubuntu2~24.04) 13.3.0 FreeBSD 14.2 Kernel: 14.2-RELEASE Compiler: clang 18.1.6 Fedora Linux 42 Kernel: 5.15 Compiler: clang gcc (GCC) 15.2.1 20250808 (Red Hat 15.2.1-1) Red Hat Enterprise Linux 9.5 Kernel: 5.15 Compiler: gcc gcc (GCC) 11.5.0 20240719 (Red Hat 11.5.0-2) Alpine Linux 3.22.0 Kernel: 5.15 Compiler: gcc gcc (Alpine 14.2.0) 14.2.0 Ubuntu 22.04 Kernel: 5.15 Compiler: gcc gcc (Ubuntu 11.4.0-1ubuntu1~22.04) 11.4.0 CentOS Stream 9 Kernel: 5.15 Compiler: gcc gcc (GCC) 11.5.0 20240719 (Red Hat 11.5.0-11) Windows Server 2022 Kernel: 10.0.20348.2031 Compiler: clang 15.0.7, gcc 14.1.0 (MinGW), and MSVC VS 19.39.33521 To view detailed results, visit: https://lab.dpdk.org/results/dashboard/patchsets/34631/ UNH-IOL DPDK Community Lab To manage your email subscriptions, visit: https://lab.dpdk.org/results/dashboard/preferences/subscriptions/