From mboxrd@z Thu Jan 1 00:00:00 1970 Return-Path: Received: from mails.dpdk.org (mails.dpdk.org [217.70.189.124]) by inbox.dpdk.org (Postfix) with ESMTP id 9070048B42 for ; Tue, 18 Nov 2025 19:00:57 +0100 (CET) Received: from mails.dpdk.org (localhost [127.0.0.1]) by mails.dpdk.org (Postfix) with ESMTP id 7F51A4028D; Tue, 18 Nov 2025 19:00:57 +0100 (CET) Received: from mail-qv1-f99.google.com (mail-qv1-f99.google.com [209.85.219.99]) by mails.dpdk.org (Postfix) with ESMTP id CA4D24028D for ; Tue, 18 Nov 2025 19:00:56 +0100 (CET) Received: by mail-qv1-f99.google.com with SMTP id 6a1803df08f44-8824a756771so816366d6.0 for ; Tue, 18 Nov 2025 10:00:56 -0800 (PST) DKIM-Signature: v=1; a=rsa-sha256; c=relaxed/relaxed; d=iol.unh.edu; s=unh-iol; t=1763488856; x=1764093656; darn=dpdk.org; h=references:in-reply-to:cc:to:from:subject:message-id:date:from:to :cc:subject:date:message-id:reply-to; bh=8rMWTvz2s20ZFqauSV9gkpksYQNu/XjRZhPZUt3LsEk=; b=Zn+H0N5Ms2+EpB3G9D3qlSxWc5Rp957rLSDn51ojj8J56G2m23uo5Gm4Jo4HS9utbu poCSAnnKjDrmfKUCqyz7Hs8nU09sNzzmzwp7aig0zeyYIig6FFheca/KCDhGIRPv3hEL 1vNNCRtarbJzuT4WLJ9byeVvpy3WcpfXNAmm8= X-Google-DKIM-Signature: v=1; a=rsa-sha256; c=relaxed/relaxed; d=1e100.net; s=20230601; t=1763488856; x=1764093656; h=references:in-reply-to:cc:to:from:subject:message-id:date:x-gm-gg :x-gm-message-state:from:to:cc:subject:date:message-id:reply-to; bh=8rMWTvz2s20ZFqauSV9gkpksYQNu/XjRZhPZUt3LsEk=; b=G3jdpW9+wP2LNJb4dDDgRYavH398McD0LIkw54jjfbk00WhMu4/nYOl1FXg6ih3Dxp YMyY4KXgEPfWl7vgpVdvz8JyNO05mK0BmyT8zDnh7aiE5BlIVMFs/Osuf2wkP3GhBlt1 lhV7xxccZKn33K2pcOedMBMXmwEKvpuMYAw3OCVT91KNKIiz0DSCD+pIba4dIGoUoSAS NS6Nj7Yd9MDiLrjIynEPAnSh2b0Qy76RzJo7ofOTSOfzW/ZpoFLT3jPW4AxXxyFZX32b Cc/vB0z6++ztL+X2ufw3iKDqv8zfOLcfySQPSjn8IQHoCk4WXMNdZkx6mbG8u1svT6SZ ALbw== X-Gm-Message-State: AOJu0YxQA5/z5ZNyisttYi2hq4ModVjl7rabWHA32BasHNOKfnj42+wE syPuXhxDqjH4xdLKkeKT3ALvidy8g/8UqFGIrhMB8O3wfwWeosE2onZdswfg2MC9T7PWSv1MGwf XnylolYtPXOsRHVgq3WB4Ry3f7FslsAyZR889xaLmcL06 X-Gm-Gg: ASbGncv1hprvYTFvpZvHqltTRWd1g0Gyd+ivo1AGurqXiqBA8sy821WZ0Kr+HadJrY3 XiapehwigCpiiSxhsA6pwb6HllsVKjL1bUMfWROeDdBxqDjXJpAuIawgk3agS6SmZipwYe6uhde et8LSDX85jJZuNJEkssZ/L9YFk2UTfQ5qrIcBmGCLwOvVcjjzoPfjtltNH5j8FCO+XOpQW+sESh CN+dcgVY06nvF5R4VXrMSM9Z3D6HAb+dKYkqxwEVQI/luY+8J1yQm1Hyt18Xjn+8EEBfTVjImyC c1Fl8MUKg/G5NIPzoGlhcTuQ85Ibf19YLeJAa+LFNkQ8aqWXkZ2VSIJIW4vboJm/QDdRBDEKTw9 I3wWRal4L5vQmInwM/rGWi5LKJcdW+ZAzehzKdoBiuQ== X-Google-Smtp-Source: AGHT+IENDBLMXO2Sq7vhSxvAxv/ewT8AM0Mw9KbQKuyu1nw4lAE4Cn7u0ksfGWfkCQh0bSxa3GKn+oJq4jPx X-Received: by 2002:a05:6214:2469:b0:882:6b8e:314c with SMTP id 6a1803df08f44-8845e7256d5mr6349746d6.32.1763488852430; Tue, 18 Nov 2025 10:00:52 -0800 (PST) Received: from postal.iol.unh.edu (postal.iol.unh.edu. [132.177.123.84]) by smtp-relay.gmail.com with ESMTPS id 6a1803df08f44-882863444f6sm19852416d6.14.2025.11.18.10.00.52 (version=TLS1_2 cipher=ECDHE-ECDSA-AES128-GCM-SHA256 bits=128/128); Tue, 18 Nov 2025 10:00:52 -0800 (PST) X-Relaying-Domain: iol.unh.edu Date: Tue, 18 Nov 2025 10:00:52 -0800 (PST) Message-ID: <691cb454.050a0220.26170c.3435SMTPIN_ADDED_MISSING@mx.google.com> Received: from [172.21.0.4] (unknown [172.18.0.240]) by postal.iol.unh.edu (Postfix) with ESMTP id 1F9746051830; Tue, 18 Nov 2025 13:00:51 -0500 (EST) Subject: |SUCCESS| pw158868 [PATCH] net/mlx5: fix flex item header length fie From: dpdklab@iol.unh.edu To: Test Report Cc: dpdk-test-reports@iol.unh.edu In-Reply-To: <20251118145706.1272370-1-viacheslavo@nvidia.com> References: <20251118145706.1272370-1-viacheslavo@nvidia.com> Content-Type: text/plain X-BeenThere: test-report@dpdk.org X-Mailman-Version: 2.1.29 Precedence: list List-Id: automatic DPDK test reports List-Unsubscribe: , List-Archive: List-Post: List-Help: List-Subscribe: , Errors-To: test-report-bounces@dpdk.org Test-Label: iol-unit-amd64-testing Test-Status: SUCCESS http://dpdk.org/patch/158868 _Testing PASS_ Submitter: Viacheslav Ovsiienko Date: Tuesday, November 18 2025 14:57:06 DPDK git baseline: Repo:dpdk-next-net-mlx Branch: master CommitID:704fea4c7a0454ddd49bb999425eff4e195e657b 158868 --> testing pass Upstream job id: Generic-VM-Unit-Test-DPDK#32676 Test environment and result as below: +-------------------------------+----------------+ | Environment | dpdk_unit_test | +===============================+================+ | Red Hat Enterprise Linux 9.5 | PASS | +-------------------------------+----------------+ | Red Hat Enterprise Linux 8.10 | PASS | +-------------------------------+----------------+ | CentOS Stream 9 | PASS | +-------------------------------+----------------+ | Fedora Linux 41 | PASS | +-------------------------------+----------------+ | Ubuntu 24.04 | PASS | +-------------------------------+----------------+ | Ubuntu 20.04 | PASS | +-------------------------------+----------------+ | Debian GNU/Linux 12 | PASS | +-------------------------------+----------------+ | Fedora Linux 40 | PASS | +-------------------------------+----------------+ | Fedora Linux 42 | PASS | +-------------------------------+----------------+ | CentOS Stream 10 | PASS | +-------------------------------+----------------+ | Ubuntu 22.04 | PASS | +-------------------------------+----------------+ | Windows Server 2022 | PASS | +-------------------------------+----------------+ Red Hat Enterprise Linux 9.5 Kernel: 5.15 Compiler: gcc gcc (GCC) 11.5.0 20240719 (Red Hat 11.5.0-2) Red Hat Enterprise Linux 8.10 Kernel: 5.15 Compiler: gcc gcc (GCC) 8.5.0 20210514 (Red Hat 8.5.0-22) CentOS Stream 9 Kernel: 5.15 Compiler: gcc gcc (GCC) 11.5.0 20240719 (Red Hat 11.5.0-11) Fedora Linux 41 Kernel: 5.15 Compiler: gcc gcc (GCC) 14.3.1 20250523 (Red Hat 14.3.1-1) Ubuntu 24.04 Kernel: 5.15 Compiler: gcc gcc (Ubuntu 13.3.0-6ubuntu2~24.04) 13.3.0 Ubuntu 20.04 Kernel: 5.15 Compiler: gcc gcc (Ubuntu 9.4.0-1ubuntu1~20.04.2) 9.4.0 Debian GNU/Linux 12 Kernel: 5.15 Compiler: gcc gcc (Debian 12.2.0-14+deb12u1) 12.2.0 Fedora Linux 40 Kernel: 5.15 Compiler: gcc gcc (GCC) 14.2.1 20240912 (Red Hat 14.2.1-3) Fedora Linux 42 Kernel: 5.15 Compiler: gcc gcc (GCC) 15.2.1 20250808 (Red Hat 15.2.1-1) CentOS Stream 10 Kernel: 5.15 Compiler: gcc gcc (GCC) 14.2.1 20250110 (Red Hat 14.2.1-8) Ubuntu 22.04 Kernel: 5.15 Compiler: gcc gcc (Ubuntu 11.4.0-1ubuntu1~22.04) 11.4.0 Windows Server 2022 Kernel: 10.0.20348.2031 Compiler: clang 15.0.7, gcc 14.1.0 (MinGW), and MSVC VS 19.39.33521 To view detailed results, visit: https://lab.dpdk.org/results/dashboard/patchsets/34631/ UNH-IOL DPDK Community Lab To manage your email subscriptions, visit: https://lab.dpdk.org/results/dashboard/preferences/subscriptions/