From mboxrd@z Thu Jan 1 00:00:00 1970 Return-Path: Received: from mails.dpdk.org (mails.dpdk.org [217.70.189.124]) by inbox.dpdk.org (Postfix) with ESMTP id A785748B43 for ; Tue, 18 Nov 2025 20:05:20 +0100 (CET) Received: from mails.dpdk.org (localhost [127.0.0.1]) by mails.dpdk.org (Postfix) with ESMTP id 70AD24027A; Tue, 18 Nov 2025 20:05:20 +0100 (CET) Received: from mail-pf1-f225.google.com (mail-pf1-f225.google.com [209.85.210.225]) by mails.dpdk.org (Postfix) with ESMTP id 347CC4027A for ; Tue, 18 Nov 2025 20:05:19 +0100 (CET) Received: by mail-pf1-f225.google.com with SMTP id d2e1a72fcca58-7ade456b6abso5190369b3a.3 for ; Tue, 18 Nov 2025 11:05:19 -0800 (PST) DKIM-Signature: v=1; a=rsa-sha256; c=relaxed/relaxed; d=iol.unh.edu; s=unh-iol; t=1763492718; x=1764097518; darn=dpdk.org; h=references:in-reply-to:cc:to:from:subject:message-id:date:from:to :cc:subject:date:message-id:reply-to; bh=UTiWQ2HVwiEJ2HVgv+Npe7IXKCzW0qT+IkejUY0BHQc=; b=d2KVz/o9CbuRHf5BqSb9vNXvqgp08yqFkvs4PvVDlFLFYMLF35scE3E8EcyU2oMEpX 5PxM6X5f5VdFKnBD6gxiSLF2l8P90WFfT/Ohsf5ODAJYk05zs/STz7aR5bwI215VuZHb 1Gll/TwonhnExybQvuSr30Mco9McBeRBYuqpc= X-Google-DKIM-Signature: v=1; a=rsa-sha256; c=relaxed/relaxed; d=1e100.net; s=20230601; t=1763492718; x=1764097518; h=references:in-reply-to:cc:to:from:subject:message-id:date:x-gm-gg :x-gm-message-state:from:to:cc:subject:date:message-id:reply-to; bh=UTiWQ2HVwiEJ2HVgv+Npe7IXKCzW0qT+IkejUY0BHQc=; b=AS5ZeB328mq4p0SP0ouYGWEHE9osaKMTIePCH3IlNetjq+M2Rmpnep1ep6YOHLBM7j y7kY9qf9yDsUMhEbKNKbeLxks1ifJVOph6n1+hKES7OSBstOtlT9bvkZSqWi3E9H9ky1 TysaGeE2tDtg1jwmpUYB165ekOLS3F59iUf5NXRQ1FhC50k9jrxL4PEQy3qqELCENgyw G69PNbe0OPJSqNAJrj56urbQutbHj/ogfQ3LocktcXt+0+NmTD8WalDp4mSKMDKXnDz6 b8EDTPu6I6iiCX82ufu+wXn1RubJmI+vkVgfQ8S/XxQktes07xmmtuqkQm/a4VlxhwCH xY1g== X-Gm-Message-State: AOJu0YyDQ1OorCT8zg1yhQeVzCi7Mgu/XGCcY/+1DUWusPtE7Ka2WwH4 OwxdF/Msn5/E/jSieDO69AaGhtXY1SH353B8i29vSu/Y/RTPYmJ0aIHBrWAr87qSddKSsD5LKwp nes1EJSOZN1e4p8V8CKInNiQmhrC9lX8Qn1t0cCzGcGBU X-Gm-Gg: ASbGncvBtuygz1QCNHX2pQxjl1q4BDmdg7aA8BuomBVBXVdnXi37r6c1dt4+fr+UhpJ xFkTYzTzvwXtFsFMpcTmc/TLAHXCzQTNZMdCOkR/X8GcyYnVRiS+WHgr66x+yKY6dRVA9mJ/S7s voPWrMrbzDUv1BZKRMO/JCZXK5S5l8xPpvO3pjsaU2pvsbGI18iLwlcglmySckMZn3CKA1G0+mm YLPey2xPnZMyB38BAo1LYZXKZpfduL6y7C4Fo/JOxMvZHpTaHjpOCRvlr3u3D/bfLZkjbPYEWG0 L84AF0KsSinI9bE3thdao4u42YkzFP6rwGZv62BAkrl8W6K1yHtVtkRzU0dIoUBaKNzv6lubFq+ vVRExuJqEZLa2FXXIqruoN6Pv92iAloR5ip80/mKHRg== X-Google-Smtp-Source: AGHT+IHDtElCT/nZgDaYe53dFa8NlN2YeE5MkroM9s+gyu/ML5bohhspconJ3oU44y+DHiYn/H9ZSrWSPF9f X-Received: by 2002:a05:6a20:3d1d:b0:334:847c:dd49 with SMTP id adf61e73a8af0-35ba2f6ee51mr21994253637.57.1763492718209; Tue, 18 Nov 2025 11:05:18 -0800 (PST) Received: from postal.iol.unh.edu (postal.iol.unh.edu. [132.177.123.84]) by smtp-relay.gmail.com with ESMTPS id 41be03b00d2f7-bc366550b9bsm950640a12.0.2025.11.18.11.05.18 (version=TLS1_2 cipher=ECDHE-ECDSA-AES128-GCM-SHA256 bits=128/128); Tue, 18 Nov 2025 11:05:18 -0800 (PST) X-Relaying-Domain: iol.unh.edu Date: Tue, 18 Nov 2025 11:05:18 -0800 (PST) Message-ID: <691cc36e.630a0220.165020.022fSMTPIN_ADDED_MISSING@mx.google.com> Received: from [172.21.0.3] (unknown [172.18.0.240]) by postal.iol.unh.edu (Postfix) with ESMTP id 77CC7604D420; Tue, 18 Nov 2025 14:05:17 -0500 (EST) Subject: |SUCCESS| pw158869-158888 [PATCH] [v3,20/20] vfio: introduce cdev mo From: dpdklab@iol.unh.edu To: Test Report Cc: dpdk-test-reports@iol.unh.edu In-Reply-To: <7e49d0a3938ca536b188241cf6950a6bf901f1f0.1763483254.git.anatoly.burakov@intel.com> References: <7e49d0a3938ca536b188241cf6950a6bf901f1f0.1763483254.git.anatoly.burakov@intel.com> Content-Type: text/plain X-BeenThere: test-report@dpdk.org X-Mailman-Version: 2.1.29 Precedence: list List-Id: automatic DPDK test reports List-Unsubscribe: , List-Archive: List-Post: List-Help: List-Subscribe: , Errors-To: test-report-bounces@dpdk.org Test-Label: iol-compile-amd64-testing Test-Status: SUCCESS http://dpdk.org/patch/158888 _Testing PASS_ Submitter: Anatoly Burakov Date: Tuesday, November 18 2025 16:29:21 DPDK git baseline: Repo:dpdk Branch: master CommitID:a0b148048b3d9960788093b3b94c70af8f04136b 158869-158888 --> testing pass Upstream job id: Generic-DPDK-Compile-Meson#445861 Test environment and result as below: +-------------------------------+--------------------+------------------+-------------------------+-------------------+----------------------+ | Environment | dpdk_meson_compile | dpdk_compile_ovs | dpdk_llvm_clang_compile | dpdk_msvc_compile | dpdk_mingw64_compile | +===============================+====================+==================+=========================+===================+======================+ | CentOS Stream 10 | PASS | SKIPPED | SKIPPED | SKIPPED | SKIPPED | +-------------------------------+--------------------+------------------+-------------------------+-------------------+----------------------+ | CentOS Stream 9 | PASS | SKIPPED | SKIPPED | SKIPPED | SKIPPED | +-------------------------------+--------------------+------------------+-------------------------+-------------------+----------------------+ | Debian GNU/Linux 12 | PASS | SKIPPED | SKIPPED | SKIPPED | SKIPPED | +-------------------------------+--------------------+------------------+-------------------------+-------------------+----------------------+ | Fedora Linux 42 | PASS | PASS | SKIPPED | SKIPPED | SKIPPED | +-------------------------------+--------------------+------------------+-------------------------+-------------------+----------------------+ | FreeBSD 14.2 | PASS | SKIPPED | SKIPPED | SKIPPED | SKIPPED | +-------------------------------+--------------------+------------------+-------------------------+-------------------+----------------------+ | Alpine Linux 3.22.0 | PASS | SKIPPED | SKIPPED | SKIPPED | SKIPPED | +-------------------------------+--------------------+------------------+-------------------------+-------------------+----------------------+ | Ubuntu 22.04 | PASS | SKIPPED | SKIPPED | SKIPPED | SKIPPED | +-------------------------------+--------------------+------------------+-------------------------+-------------------+----------------------+ | Ubuntu 20.04 | PASS | SKIPPED | SKIPPED | SKIPPED | SKIPPED | +-------------------------------+--------------------+------------------+-------------------------+-------------------+----------------------+ | Ubuntu 24.04 | PASS | PASS | SKIPPED | SKIPPED | SKIPPED | +-------------------------------+--------------------+------------------+-------------------------+-------------------+----------------------+ | openSUSE Leap 15.6 | PASS | SKIPPED | SKIPPED | SKIPPED | SKIPPED | +-------------------------------+--------------------+------------------+-------------------------+-------------------+----------------------+ | Red Hat Enterprise Linux 9.5 | PASS | SKIPPED | SKIPPED | SKIPPED | SKIPPED | +-------------------------------+--------------------+------------------+-------------------------+-------------------+----------------------+ | Red Hat Enterprise Linux 8.10 | PASS | SKIPPED | SKIPPED | SKIPPED | SKIPPED | +-------------------------------+--------------------+------------------+-------------------------+-------------------+----------------------+ | Windows Server 2022 | SKIPPED | SKIPPED | PASS | PASS | PASS | +-------------------------------+--------------------+------------------+-------------------------+-------------------+----------------------+ CentOS Stream 10 Kernel: 5.15 Compiler: gcc gcc (GCC) 14.2.1 20250110 (Red Hat 14.2.1-8) CentOS Stream 9 Kernel: 5.15 Compiler: gcc gcc (GCC) 11.5.0 20240719 (Red Hat 11.5.0-11) Debian GNU/Linux 12 Kernel: 5.15 Compiler: gcc gcc (Debian 12.2.0-14+deb12u1) 12.2.0 Fedora Linux 42 Kernel: 5.15 Compiler: gcc gcc (GCC) 15.2.1 20250808 (Red Hat 15.2.1-1) FreeBSD 14.2 Kernel: 14.2-RELEASE Compiler: clang 18.1.6 Alpine Linux 3.22.0 Kernel: 5.15 Compiler: gcc gcc (Alpine 14.2.0) 14.2.0 Ubuntu 22.04 Kernel: 5.15 Compiler: gcc gcc (Ubuntu 11.4.0-1ubuntu1~22.04) 11.4.0 Ubuntu 20.04 Kernel: 5.15 Compiler: gcc gcc (Ubuntu 9.4.0-1ubuntu1~20.04.2) 9.4.0 Ubuntu 24.04 Kernel: 5.15 Compiler: gcc gcc (Ubuntu 13.3.0-6ubuntu2~24.04) 13.3.0 openSUSE Leap 15.6 Kernel: 5.15 Compiler: gcc gcc (SUSE Linux) 7.5.0 Red Hat Enterprise Linux 9.5 Kernel: 5.15 Compiler: gcc gcc (GCC) 11.5.0 20240719 (Red Hat 11.5.0-2) Red Hat Enterprise Linux 8.10 Kernel: 5.15 Compiler: gcc gcc (GCC) 8.5.0 20210514 (Red Hat 8.5.0-22) Windows Server 2022 Kernel: 10.0.20348.2031 Compiler: clang 15.0.7, gcc 14.1.0 (MinGW), and MSVC VS 19.39.33521 To view detailed results, visit: https://lab.dpdk.org/results/dashboard/patchsets/34632/ UNH-IOL DPDK Community Lab To manage your email subscriptions, visit: https://lab.dpdk.org/results/dashboard/preferences/subscriptions/