From mboxrd@z Thu Jan 1 00:00:00 1970 Return-Path: Received: from mails.dpdk.org (mails.dpdk.org [217.70.189.124]) by inbox.dpdk.org (Postfix) with ESMTP id CABA648B43 for ; Tue, 18 Nov 2025 20:07:59 +0100 (CET) Received: from mails.dpdk.org (localhost [127.0.0.1]) by mails.dpdk.org (Postfix) with ESMTP id AF0F74027A; Tue, 18 Nov 2025 20:07:59 +0100 (CET) Received: from mail-qv1-f99.google.com (mail-qv1-f99.google.com [209.85.219.99]) by mails.dpdk.org (Postfix) with ESMTP id 2C42A4027A for ; Tue, 18 Nov 2025 20:07:58 +0100 (CET) Received: by mail-qv1-f99.google.com with SMTP id 6a1803df08f44-88242fc32c9so64466086d6.1 for ; Tue, 18 Nov 2025 11:07:58 -0800 (PST) DKIM-Signature: v=1; a=rsa-sha256; c=relaxed/relaxed; d=iol.unh.edu; s=unh-iol; t=1763492877; x=1764097677; darn=dpdk.org; h=references:in-reply-to:cc:to:from:subject:message-id:date:from:to :cc:subject:date:message-id:reply-to; bh=SHeSESmmWtfMWwstza+e4G0k9+YUe3sLwkuzXnXn1Gw=; b=CMSeJrkodss6BD+rD+4OE2sFm2UIXwXBu2/SbtqoG6tu+hlZXmlzJIjxxwidUaQWo6 r83ZUvulxozHRB8LXn+d7tB42ENPcJcGno5zNY+3+QIAU2S0b0W+Tm7iR1Nqqegcj30p QBwR6WC3yhPivdz20ubnE8Rjmo9rHC9sVZub8= X-Google-DKIM-Signature: v=1; a=rsa-sha256; c=relaxed/relaxed; d=1e100.net; s=20230601; t=1763492877; x=1764097677; h=references:in-reply-to:cc:to:from:subject:message-id:date:x-gm-gg :x-gm-message-state:from:to:cc:subject:date:message-id:reply-to; bh=SHeSESmmWtfMWwstza+e4G0k9+YUe3sLwkuzXnXn1Gw=; b=Xgz6Cn/dUszKkL2NUSFiIq7oXrs4YTLe0+7r6NMJs/suqd3B6rD4UFpEBqNX9lffin 7cEmkLrPf5rsyKy5neoRz1ocTxNZV2oA68hfSAZeWT5TgH0O3/JeTM8DEZs9BEDQHfo2 a5FcBiAUJ0Sb2v7pMixqJfdS6nANowWCzQXN47O1VUc/CceUE4aIhjwwhH4XL38RDLni 29u7bMHuC9B5pLbiF82Sq3bQUWMjNAjo+CBjr87htN8wugLVmoKbOZAzQuyiCgHTqyHL SRdXLP/Su1zlLRyHmlGRJaOkx6hU4L+Rhw/KMQYQOrPY0L7wHbuO1l7bWX2W7YowOWoi xGhQ== X-Gm-Message-State: AOJu0Ywbd8W+5yolHk5sdrS+AwbLRuLkd4wySZYdKIwy5yQ0jtdANqas /we0DEcHQNbattZskn0+F93JPnjqBKEX5wXl83oZI/aJIl63+1OgC5pjUS7rCXozihAPvDSIes3 ngMvhkg6c9d8AGlSSipyjFuPQ7HdPYI1tUkXYgFFbd22RuBsLQXDjkiB8rNCh X-Gm-Gg: ASbGnct/WCX6VSYXBvADr97Y9zQpZ8/pQQ2dCoW+yWOLT7u1PwjfFjBrusNRuPtSKJI IDdnMtZsrEnc8J6am2Le+pTQj6P2eDXezKUYpHcM6HCQSiAh5MSUbwE1b2RaQA790T27tFo6/Yj aF2lSy13T9z2UeJ3CldK6mswXCfwSg1wEhQDcz1bSgwE+ZEBWliP+c9NMrp5Wj1BqcYHabyZCIP yxb41kq5/oQfsXTUe0sPVDwE78icIj/Epfktv+Yi48cBf0fsLxPJUvRS/oZLAxTEW0FWYrtBjLz SUnY8Vrc30iMNLjr/cdIbQG5+tFm5RwIFUBlvhIZD77Rb6XowlsL2HfTE6p+gYruz8OrC1GEErm UqqX9cdshg6EcHaJjLno= X-Google-Smtp-Source: AGHT+IF8T0W1xSj/UtvVhkdUAVwHvb56v/K8st9qClg8U/TR+cF85ArHXHq3Dkjw1JF4+uGiBWLqwLjDuOP7 X-Received: by 2002:ad4:5bee:0:b0:880:3fc0:fd85 with SMTP id 6a1803df08f44-882925ed243mr218262176d6.9.1763492877447; Tue, 18 Nov 2025 11:07:57 -0800 (PST) Received: from postal.iol.unh.edu (postal.iol.unh.edu. [2606:4100:3880:1234::84]) by smtp-relay.gmail.com with ESMTPS id 6a1803df08f44-882865bb054sm19730676d6.30.2025.11.18.11.07.57 (version=TLS1_2 cipher=ECDHE-ECDSA-AES128-GCM-SHA256 bits=128/128); Tue, 18 Nov 2025 11:07:57 -0800 (PST) X-Relaying-Domain: iol.unh.edu Date: Tue, 18 Nov 2025 11:07:57 -0800 (PST) Message-ID: <691cc40d.050a0220.fc618.2e05SMTPIN_ADDED_MISSING@mx.google.com> Received: from [172.21.0.2] (unknown [172.18.0.240]) by postal.iol.unh.edu (Postfix) with ESMTP id 3568A604D420; Tue, 18 Nov 2025 14:07:57 -0500 (EST) Subject: |SUCCESS| pw158869-158888 [PATCH] [v3,20/20] vfio: introduce cdev mo From: dpdklab@iol.unh.edu To: Test Report Cc: dpdk-test-reports@iol.unh.edu In-Reply-To: <7e49d0a3938ca536b188241cf6950a6bf901f1f0.1763483254.git.anatoly.burakov@intel.com> References: <7e49d0a3938ca536b188241cf6950a6bf901f1f0.1763483254.git.anatoly.burakov@intel.com> Content-Type: text/plain X-BeenThere: test-report@dpdk.org X-Mailman-Version: 2.1.29 Precedence: list List-Id: automatic DPDK test reports List-Unsubscribe: , List-Archive: List-Post: List-Help: List-Subscribe: , Errors-To: test-report-bounces@dpdk.org Test-Label: iol-unit-amd64-testing Test-Status: SUCCESS http://dpdk.org/patch/158888 _Testing PASS_ Submitter: Anatoly Burakov Date: Tuesday, November 18 2025 16:29:21 DPDK git baseline: Repo:dpdk Branch: master CommitID:a0b148048b3d9960788093b3b94c70af8f04136b 158869-158888 --> testing pass Upstream job id: Generic-VM-Unit-Test-DPDK#32678 Test environment and result as below: +-------------------------------+----------------+ | Environment | dpdk_unit_test | +===============================+================+ | Red Hat Enterprise Linux 9.5 | PASS | +-------------------------------+----------------+ | CentOS Stream 9 | PASS | +-------------------------------+----------------+ | Debian GNU/Linux 12 | PASS | +-------------------------------+----------------+ | Fedora Linux 40 | PASS | +-------------------------------+----------------+ | Fedora Linux 42 | PASS | +-------------------------------+----------------+ | Fedora Linux 41 | PASS | +-------------------------------+----------------+ | CentOS Stream 10 | PASS | +-------------------------------+----------------+ | Ubuntu 22.04 | PASS | +-------------------------------+----------------+ | Red Hat Enterprise Linux 8.10 | PASS | +-------------------------------+----------------+ | Ubuntu 24.04 | PASS | +-------------------------------+----------------+ | Ubuntu 20.04 | PASS | +-------------------------------+----------------+ | Windows Server 2022 | PASS | +-------------------------------+----------------+ Red Hat Enterprise Linux 9.5 Kernel: 5.15 Compiler: gcc gcc (GCC) 11.5.0 20240719 (Red Hat 11.5.0-2) CentOS Stream 9 Kernel: 5.15 Compiler: gcc gcc (GCC) 11.5.0 20240719 (Red Hat 11.5.0-11) Debian GNU/Linux 12 Kernel: 5.15 Compiler: gcc gcc (Debian 12.2.0-14+deb12u1) 12.2.0 Fedora Linux 40 Kernel: 5.15 Compiler: clang gcc (GCC) 14.2.1 20240912 (Red Hat 14.2.1-3) Fedora Linux 42 Kernel: 5.15 Compiler: clang gcc (GCC) 15.2.1 20250808 (Red Hat 15.2.1-1) Fedora Linux 41 Kernel: 5.15 Compiler: gcc gcc (GCC) 14.3.1 20250523 (Red Hat 14.3.1-1) CentOS Stream 10 Kernel: 5.15 Compiler: gcc gcc (GCC) 14.2.1 20250110 (Red Hat 14.2.1-8) Ubuntu 22.04 Kernel: 5.15 Compiler: gcc gcc (Ubuntu 11.4.0-1ubuntu1~22.04) 11.4.0 Red Hat Enterprise Linux 8.10 Kernel: 5.15 Compiler: gcc gcc (GCC) 8.5.0 20210514 (Red Hat 8.5.0-22) Ubuntu 24.04 Kernel: 5.15 Compiler: gcc gcc (Ubuntu 13.3.0-6ubuntu2~24.04) 13.3.0 Ubuntu 20.04 Kernel: 5.15 Compiler: gcc gcc (Ubuntu 9.4.0-1ubuntu1~20.04.2) 9.4.0 Windows Server 2022 Kernel: 10.0.20348.2031 Compiler: clang 15.0.7, gcc 14.1.0 (MinGW), and MSVC VS 19.39.33521 To view detailed results, visit: https://lab.dpdk.org/results/dashboard/patchsets/34632/ UNH-IOL DPDK Community Lab To manage your email subscriptions, visit: https://lab.dpdk.org/results/dashboard/preferences/subscriptions/