From mboxrd@z Thu Jan 1 00:00:00 1970 Return-Path: Received: from mails.dpdk.org (mails.dpdk.org [217.70.189.124]) by inbox.dpdk.org (Postfix) with ESMTP id 3E3AB48B43 for ; Tue, 18 Nov 2025 21:34:45 +0100 (CET) Received: from mails.dpdk.org (localhost [127.0.0.1]) by mails.dpdk.org (Postfix) with ESMTP id 393654027A; Tue, 18 Nov 2025 21:34:45 +0100 (CET) Received: from mail-pl1-f226.google.com (mail-pl1-f226.google.com [209.85.214.226]) by mails.dpdk.org (Postfix) with ESMTP id 243C84027A for ; Tue, 18 Nov 2025 21:34:44 +0100 (CET) Received: by mail-pl1-f226.google.com with SMTP id d9443c01a7336-298287a26c3so72426155ad.0 for ; Tue, 18 Nov 2025 12:34:44 -0800 (PST) DKIM-Signature: v=1; a=rsa-sha256; c=relaxed/relaxed; d=iol.unh.edu; s=unh-iol; t=1763498083; x=1764102883; darn=dpdk.org; h=references:in-reply-to:cc:to:from:subject:message-id:date:from:to :cc:subject:date:message-id:reply-to; bh=BY/WVBkgEt41TbxP4zn5UjKGNn0pbF4dh8FnLIn1HaQ=; b=KYrsZd1UlImyWcm5Rh8vH/bmHGH1jXoTGd2HXQsDN6OGZo9xJHbjjVGkoR70yrmH9V 9UmiyrAdOIsEqhNPnii8ja/3lFYqpuaWUd6xbLzUaVDbaE0OXn9r6iiKKJj78Dnz3AlU +38vxXFCY/R7JICu8zbUHAa8MW1e7EpREa0bs= X-Google-DKIM-Signature: v=1; a=rsa-sha256; c=relaxed/relaxed; d=1e100.net; s=20230601; t=1763498083; x=1764102883; h=references:in-reply-to:cc:to:from:subject:message-id:date:x-gm-gg :x-gm-message-state:from:to:cc:subject:date:message-id:reply-to; bh=BY/WVBkgEt41TbxP4zn5UjKGNn0pbF4dh8FnLIn1HaQ=; b=XMlYvibqAKW4LyJZ0MowK1Wj+gn+Dms6n+mbFCCcxGbQ02Zr1qjTlGstg5kaR1ViKt pFoPB4E9s0rZQDJk84Z2H6PfauIywqct4n05x2PXc5mnSLQZdpg+1jNNEPHAnl949Zha S7Vas++X5R5DvfBRQsehTZJOHv6V5n6hiLmg1IwDeE1Wxizoo+HMDnFLrzNRI7yaMpOx YFPQWXOskJcFIGaGUFUdSui8gPKmEKuZlyvdTF03pfgKhCx/fSCu6dshnPg90/LasFcy 4iQjW73mKOpAbc/jIHmouYIR3ij9YwXNtNnfytm0BYLPUjOpVt7S6GyKjCGPIWBmPckh lTaw== X-Gm-Message-State: AOJu0YzBEoO5kLaI/Wtu+sda7wQfB6u7n7HZ9sT37s2xgGXob9LM4kzn KmE5/jaKIkUme4N2j+zdN4e/dH+E1QLB3sEtjqKsGPRmLaOtTJJ+oAxArXW3JS3qPiG2N3CRQ6W slcoNmiEsi+134dZlEDE8ohuYcL3MOnFNLyLsuEexPN8E X-Gm-Gg: ASbGncuT6CfcP5QDUUNhrXVA/99gWdBglZWYLF8G9r3htgQjz9gvuUIZ5S1p/IpRT91 Tae2KSwhBSESnPMqY1ilnWDqHbEkVspRRyto+qYnHzux1KaPbIDEJwiyG0erZu9l3QSMLB7cbhj niXoGKDxDeGydMmCRAH5uKbkov0t4ebtkkIwljqHDMssZaMzjGnYkX0p914nIEU7VlMibHQCq7u sVcntHKp1qYSYYyY33TAETt/8hN3W68gG8v24+9X98sbA2yOfeFt9lY5t6gWJorgLjDzZtLiR3V tzKVk1cFMWy/NUrYHSVD1iGY/Oa8JKjsgFSpDv05Bitw54FFqyR7Xq7OEcePP4GtDCI1T+zJWNn 3AIuldxEjIi0FT1W0rnGXdlVXyWBbmJYDQdlOp0QWpA== X-Google-Smtp-Source: AGHT+IGri7f+Fs6p58b10DZ4+WEUi0MVrJXU8XkPjl8TTtH7ydyP7K4yleJCf9fEghMrz9aZY/HI3eveUclA X-Received: by 2002:a17:902:f548:b0:299:dea1:e791 with SMTP id d9443c01a7336-299dea1ea48mr109165395ad.12.1763498083318; Tue, 18 Nov 2025 12:34:43 -0800 (PST) Received: from postal.iol.unh.edu (postal.iol.unh.edu. [132.177.123.84]) by smtp-relay.gmail.com with ESMTPS id d9443c01a7336-2985c2b8935sm18763105ad.52.2025.11.18.12.34.43 (version=TLS1_2 cipher=ECDHE-ECDSA-AES128-GCM-SHA256 bits=128/128); Tue, 18 Nov 2025 12:34:43 -0800 (PST) X-Relaying-Domain: iol.unh.edu Date: Tue, 18 Nov 2025 12:34:43 -0800 (PST) Message-ID: <691cd863.170a0220.234aea.038cSMTPIN_ADDED_MISSING@mx.google.com> Received: from [172.21.0.3] (unknown [172.18.0.240]) by postal.iol.unh.edu (Postfix) with ESMTP id 76FB06050A61; Tue, 18 Nov 2025 15:34:42 -0500 (EST) Subject: |WARNING| pw158869-158888 [PATCH] [v3,20/20] vfio: introduce cdev mo From: dpdklab@iol.unh.edu To: Test Report Cc: dpdk-test-reports@iol.unh.edu In-Reply-To: <7e49d0a3938ca536b188241cf6950a6bf901f1f0.1763483254.git.anatoly.burakov@intel.com> References: <7e49d0a3938ca536b188241cf6950a6bf901f1f0.1763483254.git.anatoly.burakov@intel.com> Content-Type: text/plain X-BeenThere: test-report@dpdk.org X-Mailman-Version: 2.1.29 Precedence: list List-Id: automatic DPDK test reports List-Unsubscribe: , List-Archive: List-Post: List-Help: List-Subscribe: , Errors-To: test-report-bounces@dpdk.org Test-Label: iol-unit-arm64-testing Test-Status: WARNING http://dpdk.org/patch/158888 _Testing issues_ Submitter: Anatoly Burakov Date: Tuesday, November 18 2025 16:29:21 DPDK git baseline: Repo:dpdk Branch: master CommitID:a0b148048b3d9960788093b3b94c70af8f04136b 158869-158888 --> testing issues Upstream job id: Generic-Unit-Test-DPDK#394214 Test environment and result as below: +------------------------------+--------------+------------------------------+---------------------------+----------------+ | Environment | lpm_autotest | cryptodev_sw_snow3g_autotest | cryptodev_sw_zuc_autotest | dpdk_unit_test | +==============================+==============+==============================+===========================+================+ | Ubuntu 20.04 | WARN | SKIPPED | SKIPPED | WARN | +------------------------------+--------------+------------------------------+---------------------------+----------------+ | Debian 12 (arm) | SKIPPED | WARN | WARN | SKIPPED | +------------------------------+--------------+------------------------------+---------------------------+----------------+ | Fedora Linux 40 | SKIPPED | SKIPPED | SKIPPED | WARN | +------------------------------+--------------+------------------------------+---------------------------+----------------+ | Debian GNU/Linux 12 | SKIPPED | SKIPPED | SKIPPED | WARN | +------------------------------+--------------+------------------------------+---------------------------+----------------+ | Fedora Linux 42 | SKIPPED | SKIPPED | SKIPPED | WARN | +------------------------------+--------------+------------------------------+---------------------------+----------------+ | CentOS Stream 10 | SKIPPED | SKIPPED | SKIPPED | WARN | +------------------------------+--------------+------------------------------+---------------------------+----------------+ | Ubuntu 22.04 | SKIPPED | SKIPPED | SKIPPED | PASS | +------------------------------+--------------+------------------------------+---------------------------+----------------+ | Ubuntu 24.04 | SKIPPED | SKIPPED | SKIPPED | WARN | +------------------------------+--------------+------------------------------+---------------------------+----------------+ | CentOS Stream 9 | SKIPPED | SKIPPED | SKIPPED | WARN | +------------------------------+--------------+------------------------------+---------------------------+----------------+ | Fedora Linux 41 | SKIPPED | SKIPPED | SKIPPED | WARN | +------------------------------+--------------+------------------------------+---------------------------+----------------+ | Red Hat Enterprise Linux 9.5 | SKIPPED | SKIPPED | SKIPPED | WARN | +------------------------------+--------------+------------------------------+---------------------------+----------------+ ==== 20 line log output for Red Hat Enterprise Linux 9.5 (dpdk_unit_test): ==== ../lib/eal/linux/eal_vfio_group.c: In function 'vfio_group_request_fd': ../lib/eal/linux/eal_vfio_group.c:617:9: error: incompatible implicit declaration of built-in function 'free' [-Werror=builtin-declaration-mismatch] 617 | free(mp_reply.msgs); | ^~~~ ../lib/eal/linux/eal_vfio_group.c:617:9: note: include '' or provide a declaration of 'free' ../lib/eal/linux/eal_vfio_group.c: In function 'vfio_group_sync_iommu_ops': ../lib/eal/linux/eal_vfio_group.c:667:9: error: incompatible implicit declaration of built-in function 'free' [-Werror=builtin-declaration-mismatch] 667 | free(mp_reply.msgs); | ^~~~ ../lib/eal/linux/eal_vfio_group.c:667:9: note: include '' or provide a declaration of 'free' ../lib/eal/linux/eal_vfio_group.c: In function 'vfio_group_get_num': ../lib/eal/linux/eal_vfio_group.c:975:21: error: implicit declaration of function 'strtol'; did you mean 'strtok'? [-Werror=implicit-function-declaration] 975 | group_num = strtol(group_tok, &end, 10); | ^~~~~~ | strtok ../lib/eal/linux/eal_vfio_group.c:975:21: error: nested extern declaration of 'strtol' [-Werror=nested-externs] cc1: all warnings being treated as errors [100/3817] Compiling C object lib/librte_eal.a.p/eal_linux_eal_interrupts.c.o [101/3817] Compiling C object lib/librte_eal.a.p/eal_linux_eal_vfio.c.o ninja: build stopped: subcommand failed. ==== End log output ==== Ubuntu 20.04 Kernel: 5.4 Compiler: gcc gcc (Ubuntu 9.4.0-1ubuntu1~20.04.2) 9.4.0 Debian 12 (arm) Kernel: Depends on container host Compiler: gcc (Debian 12.2.0-14) 12.2.0 Fedora Linux 40 Kernel: 5.4 Compiler: clang gcc (GCC) 14.2.1 20240912 (Red Hat 14.2.1-3) Debian GNU/Linux 12 Kernel: 5.4 Compiler: gcc gcc (Debian 12.2.0-14+deb12u1) 12.2.0 Fedora Linux 42 Kernel: 5.4 Compiler: gcc gcc (GCC) 15.2.1 20250808 (Red Hat 15.2.1-1) CentOS Stream 10 Kernel: 5.4 Compiler: gcc gcc (GCC) 14.2.1 20250110 (Red Hat 14.2.1-8) Ubuntu 22.04 Kernel: 5.4 Compiler: gcc gcc (Ubuntu 11.4.0-1ubuntu1~22.04) 11.4.0 Ubuntu 24.04 Kernel: 5.4 Compiler: gcc gcc (Ubuntu 13.3.0-6ubuntu2~24.04) 13.3.0 CentOS Stream 9 Kernel: 5.4 Compiler: gcc gcc (GCC) 11.5.0 20240719 (Red Hat 11.5.0-11) Fedora Linux 41 Kernel: 5.4 Compiler: gcc gcc (GCC) 14.3.1 20250523 (Red Hat 14.3.1-1) Red Hat Enterprise Linux 9.5 Kernel: 5.4 Compiler: gcc gcc (GCC) 11.5.0 20240719 (Red Hat 11.5.0-2) To view detailed results, visit: https://lab.dpdk.org/results/dashboard/patchsets/34632/ UNH-IOL DPDK Community Lab To manage your email subscriptions, visit: https://lab.dpdk.org/results/dashboard/preferences/subscriptions/