From mboxrd@z Thu Jan 1 00:00:00 1970 Return-Path: Received: from mails.dpdk.org (mails.dpdk.org [217.70.189.124]) by inbox.dpdk.org (Postfix) with ESMTP id 254C148B43 for ; Tue, 18 Nov 2025 21:57:28 +0100 (CET) Received: from mails.dpdk.org (localhost [127.0.0.1]) by mails.dpdk.org (Postfix) with ESMTP id 0E2964027A; Tue, 18 Nov 2025 21:57:28 +0100 (CET) Received: from mail-qt1-f228.google.com (mail-qt1-f228.google.com [209.85.160.228]) by mails.dpdk.org (Postfix) with ESMTP id 031344027A for ; Tue, 18 Nov 2025 21:57:27 +0100 (CET) Received: by mail-qt1-f228.google.com with SMTP id d75a77b69052e-4ee257e56aaso2563691cf.0 for ; Tue, 18 Nov 2025 12:57:26 -0800 (PST) DKIM-Signature: v=1; a=rsa-sha256; c=relaxed/relaxed; d=iol.unh.edu; s=unh-iol; t=1763499446; x=1764104246; darn=dpdk.org; h=references:in-reply-to:cc:to:from:subject:message-id:date:from:to :cc:subject:date:message-id:reply-to; bh=S/ZfY9QuLJEVlImiWUml1YIrfTsfadSSOiSuVpcrSUM=; b=Zk2vh1g1wML9P6zfZvEZEUoi8JxBM2sM9CEnFVHLQzwX2yRzn7Eq86CPvcRsfbR+WA 5RwHlZM11sU7ZB3yDRW86DnaYFYPg+cFyxcdaPcR8VKhxSJ150hVB2Rb6MNC7L09jhoQ ClqH6c7/vxf8gOaAcmkMYSSdlQSN5ryj25qV4= X-Google-DKIM-Signature: v=1; a=rsa-sha256; c=relaxed/relaxed; d=1e100.net; s=20230601; t=1763499446; x=1764104246; h=references:in-reply-to:cc:to:from:subject:message-id:date:x-gm-gg :x-gm-message-state:from:to:cc:subject:date:message-id:reply-to; bh=S/ZfY9QuLJEVlImiWUml1YIrfTsfadSSOiSuVpcrSUM=; b=c5ckoMH9EXt5tOaP5HX+o6Y55mfmwkpPCLQHYkR/Q1v9TuKZ+dPh0GIdp2a9Dxzzyu 57KqP1/RKQZnp04iwrLTKthaxU1ixlsvOPvmuD+rM+cZjOlkURXD7iNU/mttKc4ld7Vi Zre4ZtSDRLhPy4uyPvpPXDLRcZyfP7TbZHouUqYsMpNHb7rBfoKXKp8VbDmumXvqemss s3sc5Xm5y6S2NXoOmi21UiI0zLU8gTuEcrlyQRzNnlLEY9Lm1gEfFYfYrmZulf07e//V pUm8A2hIoZOe/TqjrKhuFIrwaUa0uvF5F4i2yuSti3SPNa9o3Y6Gg2Nou/DQx0GvhzIF IKbQ== X-Gm-Message-State: AOJu0YzkoGS9Sb0wI+71YffjUseYIrwkoJ5BwIk5usi3YNH4eNib94Yz vjCDtono2ebTxd2EcoK8xa4N/8XG3OjXUPHJD5rKJT8Xm6dfaKFLzAnUe+6696I/5JBuGVNxdUK 4ne+U8KbuRu4QyJhin1k4++tuZH+4ixyQraNRCo9BCI6w X-Gm-Gg: ASbGnctNZMjVc/UQgbnn1bHs7gRV2UnQTnjWzn2cpeU9uzscnq0vjMkiepnkqlH7Vh3 HgTes/y+9bohAUWM3gNAgB9eMSgyuvVGlkI8ziUuGY/0CQXuYjbVuBfH9z3xJ8oy+HsR3F9ywjr +GrYWXUtVrsEDTpH6tj8frfDH8vlCMyli6AzykiCDZN4MsOv+SdUOa1Rzp1QmOdAlFug9hLDiwL i5D9vHdYiPdnNwLhO9W4a018YmEX33Qo/0nQmhYnkqb+j5ubOtFrO3mPVItg0u9+CB0qbN8YedH jpWY2IqWkyUaBc7Ig3r4LPTMwA03VaVZ8u6fZTAQTx3XRLB7n9RHm/XYocBJarc6kRvW25aeIZ5 J0uPW6+5w+aIz6Zy+iHA8IzYhhIZS+ji0aO4DR2SFCw== X-Google-Smtp-Source: AGHT+IH+l6gABsY3++PoTCwrr2oNGCcoiGTbochLDAwyKXzaSIaBMGfbh5MkpKGa8QTvcMu0NeMiwo8whlzP X-Received: by 2002:ac8:5d09:0:b0:4ee:2b93:2320 with SMTP id d75a77b69052e-4ee3fe03491mr359751cf.18.1763499446320; Tue, 18 Nov 2025 12:57:26 -0800 (PST) Received: from postal.iol.unh.edu (postal.iol.unh.edu. [132.177.123.84]) by smtp-relay.gmail.com with ESMTPS id 6a1803df08f44-882862b3760sm19784256d6.4.2025.11.18.12.57.26 (version=TLS1_2 cipher=ECDHE-ECDSA-AES128-GCM-SHA256 bits=128/128); Tue, 18 Nov 2025 12:57:26 -0800 (PST) X-Relaying-Domain: iol.unh.edu Date: Tue, 18 Nov 2025 12:57:26 -0800 (PST) Message-ID: <691cddb6.050a0220.2a9e47.369eSMTPIN_ADDED_MISSING@mx.google.com> Received: from [172.21.0.2] (unknown [172.18.0.240]) by postal.iol.unh.edu (Postfix) with ESMTP id 12B2E604D420; Tue, 18 Nov 2025 15:57:26 -0500 (EST) Subject: |SUCCESS| pw158868 [PATCH] net/mlx5: fix flex item header length fie From: dpdklab@iol.unh.edu To: Test Report Cc: dpdk-test-reports@iol.unh.edu In-Reply-To: <20251118145706.1272370-1-viacheslavo@nvidia.com> References: <20251118145706.1272370-1-viacheslavo@nvidia.com> Content-Type: text/plain X-BeenThere: test-report@dpdk.org X-Mailman-Version: 2.1.29 Precedence: list List-Id: automatic DPDK test reports List-Unsubscribe: , List-Archive: List-Post: List-Help: List-Subscribe: , Errors-To: test-report-bounces@dpdk.org Test-Label: iol-unit-arm64-testing Test-Status: SUCCESS http://dpdk.org/patch/158868 _Testing PASS_ Submitter: Viacheslav Ovsiienko Date: Tuesday, November 18 2025 14:57:06 DPDK git baseline: Repo:dpdk-next-net-mlx Branch: master CommitID:704fea4c7a0454ddd49bb999425eff4e195e657b 158868 --> testing pass Upstream job id: Generic-Unit-Test-DPDK#394197 Test environment and result as below: +------------------------------+----------------+--------------+---------------------------+------------------------------+ | Environment | dpdk_unit_test | lpm_autotest | cryptodev_sw_zuc_autotest | cryptodev_sw_snow3g_autotest | +==============================+================+==============+===========================+==============================+ | Fedora Linux 40 | PASS | SKIPPED | SKIPPED | SKIPPED | +------------------------------+----------------+--------------+---------------------------+------------------------------+ | Fedora Linux 41 | PASS | SKIPPED | SKIPPED | SKIPPED | +------------------------------+----------------+--------------+---------------------------+------------------------------+ | Ubuntu 20.04 | PASS | PASS | SKIPPED | SKIPPED | +------------------------------+----------------+--------------+---------------------------+------------------------------+ | Fedora Linux 42 | PASS | SKIPPED | SKIPPED | SKIPPED | +------------------------------+----------------+--------------+---------------------------+------------------------------+ | CentOS Stream 10 | PASS | SKIPPED | SKIPPED | SKIPPED | +------------------------------+----------------+--------------+---------------------------+------------------------------+ | Ubuntu 24.04 | PASS | SKIPPED | SKIPPED | SKIPPED | +------------------------------+----------------+--------------+---------------------------+------------------------------+ | Ubuntu 22.04 | PASS | SKIPPED | SKIPPED | SKIPPED | +------------------------------+----------------+--------------+---------------------------+------------------------------+ | CentOS Stream 9 | PASS | SKIPPED | SKIPPED | SKIPPED | +------------------------------+----------------+--------------+---------------------------+------------------------------+ | Red Hat Enterprise Linux 9.5 | PASS | SKIPPED | SKIPPED | SKIPPED | +------------------------------+----------------+--------------+---------------------------+------------------------------+ | Debian GNU/Linux 12 | PASS | SKIPPED | SKIPPED | SKIPPED | +------------------------------+----------------+--------------+---------------------------+------------------------------+ | Debian 12 (arm) | SKIPPED | SKIPPED | PASS | PASS | +------------------------------+----------------+--------------+---------------------------+------------------------------+ Fedora Linux 40 Kernel: 5.4 Compiler: gcc gcc (GCC) 14.2.1 20240912 (Red Hat 14.2.1-3) Fedora Linux 41 Kernel: 5.4 Compiler: clang gcc (GCC) 14.3.1 20250523 (Red Hat 14.3.1-1) Ubuntu 20.04 Kernel: 5.4 Compiler: gcc gcc (Ubuntu 9.4.0-1ubuntu1~20.04.2) 9.4.0 Fedora Linux 42 Kernel: 5.4 Compiler: gcc gcc (GCC) 15.2.1 20250808 (Red Hat 15.2.1-1) CentOS Stream 10 Kernel: 5.4 Compiler: gcc gcc (GCC) 14.2.1 20250110 (Red Hat 14.2.1-8) Ubuntu 24.04 Kernel: 5.4 Compiler: gcc gcc (Ubuntu 13.3.0-6ubuntu2~24.04) 13.3.0 Ubuntu 22.04 Kernel: 5.4 Compiler: gcc gcc (Ubuntu 11.4.0-1ubuntu1~22.04) 11.4.0 CentOS Stream 9 Kernel: 5.4 Compiler: gcc gcc (GCC) 11.5.0 20240719 (Red Hat 11.5.0-11) Red Hat Enterprise Linux 9.5 Kernel: 5.4 Compiler: gcc gcc (GCC) 11.5.0 20240719 (Red Hat 11.5.0-2) Debian GNU/Linux 12 Kernel: 5.4 Compiler: gcc gcc (Debian 12.2.0-14+deb12u1) 12.2.0 Debian 12 (arm) Kernel: Depends on container host Compiler: gcc (Debian 12.2.0-14) 12.2.0 To view detailed results, visit: https://lab.dpdk.org/results/dashboard/patchsets/34631/ UNH-IOL DPDK Community Lab To manage your email subscriptions, visit: https://lab.dpdk.org/results/dashboard/preferences/subscriptions/