From mboxrd@z Thu Jan 1 00:00:00 1970 Return-Path: Received: from mails.dpdk.org (mails.dpdk.org [217.70.189.124]) by inbox.dpdk.org (Postfix) with ESMTP id C59A748B44 for ; Tue, 18 Nov 2025 22:57:24 +0100 (CET) Received: from mails.dpdk.org (localhost [127.0.0.1]) by mails.dpdk.org (Postfix) with ESMTP id ABFAF4027A; Tue, 18 Nov 2025 22:57:24 +0100 (CET) Received: from mail-pl1-f228.google.com (mail-pl1-f228.google.com [209.85.214.228]) by mails.dpdk.org (Postfix) with ESMTP id 0275A4027A for ; Tue, 18 Nov 2025 22:57:22 +0100 (CET) Received: by mail-pl1-f228.google.com with SMTP id d9443c01a7336-297ec50477aso1853835ad.1 for ; Tue, 18 Nov 2025 13:57:22 -0800 (PST) DKIM-Signature: v=1; a=rsa-sha256; c=relaxed/relaxed; d=iol.unh.edu; s=unh-iol; t=1763503042; x=1764107842; darn=dpdk.org; h=references:in-reply-to:cc:to:from:subject:message-id:date:from:to :cc:subject:date:message-id:reply-to; bh=nKctGFX7G+c+PTjjgVD92qOWkUNn9K7avogGf97F5pM=; b=CER+VqIpdBnA5CmB5/RncNAGiMIGfnQRniNA4Tp5OKDCvcLXtvVArS8NzoPDa9T8Aa /aqEzHi3njpN5ElMfTZ7IbX+fbUkuriq/+/Qwx308uAOR5NQ4OUxn1rYAdrvtlJ5BzCv OGh6yL616V2355eYmwJeRTPkL5lps8t1kVtlk= X-Google-DKIM-Signature: v=1; a=rsa-sha256; c=relaxed/relaxed; d=1e100.net; s=20230601; t=1763503042; x=1764107842; h=references:in-reply-to:cc:to:from:subject:message-id:date:x-gm-gg :x-gm-message-state:from:to:cc:subject:date:message-id:reply-to; bh=nKctGFX7G+c+PTjjgVD92qOWkUNn9K7avogGf97F5pM=; b=e28gkPVo53AjnhO6tvasDi7dgT+nhQgZs68O69AISaaUmtOXrE0HzW4x1g0ce3eALb yFzQIn7Ig7E6kJ5VlHr3MKLsiCFBqR55lChxgQTfQqXVVKMIC8ikR5niCVSAiFC5cEPE lsi5CD2mRNFLcRwJGNW/p0Ta+y+KvrP4NjcFDbOOJUPSaD35bppijs0LjmjZHd5RqnvW 4cdwrCJJMyZrNblpOgj3ypdGaW5Xi7ly0hNrHFz5Rgrl/1bLc1PEgn3MnEjSckLsb/Zi zekZ/Er2R1QmUDFUzOjDQ1FTrO0TLExUktwVo4P/pluJ2ApV5lqO0J0FfDOFr1sGu3ua ynvw== X-Gm-Message-State: AOJu0Yw6UVP+f+OsZDjSs1G/vIPSEx60Ea4xvTIUNMiJCfd27zppyOx4 TTc3ReC36dFAoPMttAtSnqdgolmgjRBsKa01xHYgmy1gJPeysFyA2QIimmRsYUD/9igL+HVmS3v fihNY7dvdz2fvi9MdfYnm5f8i2Q+bL76/Yku09for+CVg X-Gm-Gg: ASbGncuZdhhTPukQ0KNz4LbRquurlLOcM6+W3FOK74R+N+ebFoPzAywQk6SUyH0Mmp9 LYDKoLKLhwPyOSCFH1LX/ZVHMLnx5in8Dw2lYkwj9R31vF6ZbXHIL5rhhGgjhQaUVCA1zMXUSvz 5Y502A/ZX6rn3V19BR29+LVxBpA4tN4JUxbBGUjE4WMzFpUinbkj+NjKqj98hNo/1/EPbUNu21I n5t8/FPfK0gra/t0vVOR6uHA1ZwARnuxAXLoUwHS0LISMWBUxfaGOd6Rm7GlNEBxzVNozWb1oJh +LubSBwntzmJxLfj1tDkLRC2+b4jHM3e0DrSznXoIjZ8Q4T4XtEQhJPfR+qMY6iDH9oX/7TlABZ AE8N2Q22ghvdV6VJy7Mu6Y3kP3ctDDqMWwhgQhyOHkA== X-Google-Smtp-Source: AGHT+IFGOSLC4rG8oNWg5T02+JFGh1IiEnQR5TYxwePORizENJOGiyuyzF3DDJwrl04EvaAsXcupL2m8Z1m2 X-Received: by 2002:a17:902:ef01:b0:298:45e5:54a4 with SMTP id d9443c01a7336-29a061e9fa5mr1120865ad.1.1763503041971; Tue, 18 Nov 2025 13:57:21 -0800 (PST) Received: from postal.iol.unh.edu (postal.iol.unh.edu. [132.177.123.84]) by smtp-relay.gmail.com with ESMTPS id d9443c01a7336-2985c2b7b69sm19533495ad.46.2025.11.18.13.57.21 (version=TLS1_2 cipher=ECDHE-ECDSA-AES128-GCM-SHA256 bits=128/128); Tue, 18 Nov 2025 13:57:21 -0800 (PST) X-Relaying-Domain: iol.unh.edu Date: Tue, 18 Nov 2025 13:57:21 -0800 (PST) Message-ID: <691cebc1.170a0220.c0809.2c37SMTPIN_ADDED_MISSING@mx.google.com> Received: from [172.21.0.2] (unknown [172.18.0.240]) by postal.iol.unh.edu (Postfix) with ESMTP id 3A84E6051830; Tue, 18 Nov 2025 16:57:21 -0500 (EST) Subject: |SUCCESS| pw158868 [PATCH] net/mlx5: fix flex item header length fie From: dpdklab@iol.unh.edu To: Test Report Cc: dpdk-test-reports@iol.unh.edu In-Reply-To: <20251118145706.1272370-1-viacheslavo@nvidia.com> References: <20251118145706.1272370-1-viacheslavo@nvidia.com> Content-Type: text/plain X-BeenThere: test-report@dpdk.org X-Mailman-Version: 2.1.29 Precedence: list List-Id: automatic DPDK test reports List-Unsubscribe: , List-Archive: List-Post: List-Help: List-Subscribe: , Errors-To: test-report-bounces@dpdk.org Test-Label: iol-compile-arm64-testing Test-Status: SUCCESS http://dpdk.org/patch/158868 _Testing PASS_ Submitter: Viacheslav Ovsiienko Date: Tuesday, November 18 2025 14:57:06 DPDK git baseline: Repo:dpdk-next-net-mlx Branch: master CommitID:704fea4c7a0454ddd49bb999425eff4e195e657b 158868 --> testing pass Upstream job id: Generic-DPDK-Compile-Meson#445848 Test environment and result as below: +------------------------------+--------------------+ | Environment | dpdk_meson_compile | +==============================+====================+ | Ubuntu 20.04 | PASS | +------------------------------+--------------------+ | Ubuntu 24.04 | PASS | +------------------------------+--------------------+ | CentOS Stream 9 | PASS | +------------------------------+--------------------+ | Debian GNU/Linux 12 | PASS | +------------------------------+--------------------+ | Fedora Linux 42 | PASS | +------------------------------+--------------------+ | CentOS Stream 10 | PASS | +------------------------------+--------------------+ | Ubuntu 22.04 | PASS | +------------------------------+--------------------+ | Red Hat Enterprise Linux 9.5 | PASS | +------------------------------+--------------------+ Ubuntu 20.04 Kernel: 5.15 Compiler: gcc gcc (Ubuntu 9.4.0-1ubuntu1~20.04.2) 9.4.0 Ubuntu 24.04 Kernel: 5.4 Compiler: gcc gcc (Ubuntu 13.3.0-6ubuntu2~24.04) 13.3.0 CentOS Stream 9 Kernel: 5.4 Compiler: gcc gcc (GCC) 11.5.0 20240719 (Red Hat 11.5.0-11) Debian GNU/Linux 12 Kernel: 5.4 Compiler: gcc gcc (Debian 12.2.0-14+deb12u1) 12.2.0 Fedora Linux 42 Kernel: 5.4 Compiler: clang gcc (GCC) 15.2.1 20250808 (Red Hat 15.2.1-1) CentOS Stream 10 Kernel: 5.4 Compiler: gcc gcc (GCC) 14.2.1 20250110 (Red Hat 14.2.1-8) Ubuntu 22.04 Kernel: 5.4 Compiler: gcc gcc (Ubuntu 11.4.0-1ubuntu1~22.04) 11.4.0 Red Hat Enterprise Linux 9.5 Kernel: 5.4 Compiler: gcc gcc (GCC) 11.5.0 20240719 (Red Hat 11.5.0-2) To view detailed results, visit: https://lab.dpdk.org/results/dashboard/patchsets/34631/ UNH-IOL DPDK Community Lab To manage your email subscriptions, visit: https://lab.dpdk.org/results/dashboard/preferences/subscriptions/