From mboxrd@z Thu Jan 1 00:00:00 1970 Return-Path: Received: from mails.dpdk.org (mails.dpdk.org [217.70.189.124]) by inbox.dpdk.org (Postfix) with ESMTP id 855DF48B4C for ; Wed, 19 Nov 2025 10:55:36 +0100 (CET) Received: from mails.dpdk.org (localhost [127.0.0.1]) by mails.dpdk.org (Postfix) with ESMTP id 65A8940262; Wed, 19 Nov 2025 10:55:36 +0100 (CET) Received: from mail-vk1-f225.google.com (mail-vk1-f225.google.com [209.85.221.225]) by mails.dpdk.org (Postfix) with ESMTP id 8D12140262 for ; Wed, 19 Nov 2025 10:55:35 +0100 (CET) Received: by mail-vk1-f225.google.com with SMTP id 71dfb90a1353d-55b0af02ddeso812973e0c.3 for ; Wed, 19 Nov 2025 01:55:35 -0800 (PST) DKIM-Signature: v=1; a=rsa-sha256; c=relaxed/relaxed; d=iol.unh.edu; s=unh-iol; t=1763546135; x=1764150935; darn=dpdk.org; h=references:in-reply-to:cc:to:from:subject:message-id:date:from:to :cc:subject:date:message-id:reply-to; bh=K5Rq5e974g/CdHGl18YvRuQ8LhZ4mieT+O87Tt/+3Y0=; b=fc7vWcCvnQGDPpkIiBgoI4KSIswB0X4LB5LqjpaWsv/EMnb2UeXNsbRJb8Ytj79Ygu MxCs4+tE6ZOcGQ5vTbfXAR5Ex0S2wdW/lWqVCtJz2gH7tuzQ7ljCotLe+KVtGnEz7C1T k28YcrGE9SzEfnwwfDrxlpj8xQ78T7FjxxZeE= X-Google-DKIM-Signature: v=1; a=rsa-sha256; c=relaxed/relaxed; d=1e100.net; s=20230601; t=1763546135; x=1764150935; h=references:in-reply-to:cc:to:from:subject:message-id:date:x-gm-gg :x-gm-message-state:from:to:cc:subject:date:message-id:reply-to; bh=K5Rq5e974g/CdHGl18YvRuQ8LhZ4mieT+O87Tt/+3Y0=; b=X4QTjPc3apE1L9c25y3Vtm5GKJbnq1cGJoFaKARyIrDO7ousF7caikt0ht2KHVzqfj zymOEhWYz7riZn+VnhARYCgfX7P7BRF9PNDx9StA9urDFj5zM49i/TbSR/IOAib6Lp9f eR2yRiDAvQTE7HzTLOwVglFUaQ83AtuSw5tLlhGhcarzG6LHkWl0k2hAXRLlJWnv+nXR 2EsQ9/9DYghT7m1uwvJh5s6xMAwgHUuq/dmQt6Mel481Ffv4LZmDWfSsX0T0Q8xIVCgI uiCghbe+aV/GhoU+35zkf0q9+RxEBKRRHuDRQVRPZhjJf5O54wGErMmrYwCB+QlZTOvZ +owg== X-Gm-Message-State: AOJu0YyoaokZcWCGSiorJxymqRQTQc5khvHTHQZ5nHldpwWVctO58yPS +/dWddLDAAVhZHTLX7YaMyMkUvHG5HeyGn3BTdqVOEz+xLbCZrr2XSxNOI6yOq3wL4+82UgT7yG hPkDaC7Y28NS00mY6kiFSaArZDtkAjl+yxRzfj/t+YrAU X-Gm-Gg: ASbGncuQVlrulgn2AyCr3e6crxOaYb9AMInAOZqn74vZG+uygt7gJjpzQRUrbI8itJw rRx8GqhSvpb8jq53+z7YLZnZUVYPJ79szkCSZ8chtN8vVzDzp60ZWLmkO1JF9piZBKHtwVQFTuD ZKyhlvu5xR1gYV+4sfvz0zR9KQg1PBFNah2iw3Ue9ppG8lNonmGra1H0nxH5hld0ezm+ogHod5J WvJwcygYZyoS16TdPbQRjT6sZdPWDBo0+LU1fYEd6eGAzQEPRXdUBSjdQMd8liu4GpTAP07j97q IVAI0vbR4zAfYPOADC48pke9r9E3jkjZCuElNx4OEaY0zdHejJm28/W720vQhLQWKC3OVdWY4so x09/8c/lz/FPxuR+TlheotKni/vOMYuWRcgDhsKCmwg== X-Google-Smtp-Source: AGHT+IEngi/WcP6vqRhEAz/voD0R1QHvOM7PTAe1P/hH4a+thmQZxBtBMvqM7pSwf5dratLieLiI/1jFYb/y X-Received: by 2002:a05:6102:5486:b0:5de:8e5:222d with SMTP id ada2fe7eead31-5dfc566cd5dmr6190938137.22.1763546134820; Wed, 19 Nov 2025 01:55:34 -0800 (PST) Received: from postal.iol.unh.edu (postal.iol.unh.edu. [132.177.123.84]) by smtp-relay.gmail.com with ESMTPS id ada2fe7eead31-5e17fdda581sm931827137.5.2025.11.19.01.55.34 (version=TLS1_2 cipher=ECDHE-ECDSA-AES128-GCM-SHA256 bits=128/128); Wed, 19 Nov 2025 01:55:34 -0800 (PST) X-Relaying-Domain: iol.unh.edu Date: Wed, 19 Nov 2025 01:55:34 -0800 (PST) Message-ID: <691d9416.050a0220.378714.0171SMTPIN_ADDED_MISSING@mx.google.com> Received: from [172.21.0.3] (unknown [172.18.0.240]) by postal.iol.unh.edu (Postfix) with ESMTP id 809C56051830; Wed, 19 Nov 2025 04:55:34 -0500 (EST) Subject: |SUCCESS| pw158890 [PATCH] [v3,1/1] net/mlx5: fix port down in link From: dpdklab@iol.unh.edu To: Test Report Cc: dpdk-test-reports@iol.unh.edu In-Reply-To: <20251119060222.2814478-1-xu.yang3@zte.com.cn> References: <20251119060222.2814478-1-xu.yang3@zte.com.cn> Content-Type: text/plain X-BeenThere: test-report@dpdk.org X-Mailman-Version: 2.1.29 Precedence: list List-Id: automatic DPDK test reports List-Unsubscribe: , List-Archive: List-Post: List-Help: List-Subscribe: , Errors-To: test-report-bounces@dpdk.org Test-Label: iol-unit-amd64-testing Test-Status: SUCCESS http://dpdk.org/patch/158890 _Testing PASS_ Submitter: Yang Xu Date: Wednesday, November 19 2025 06:02:22 DPDK git baseline: Repo:dpdk-next-net-mlx Branch: master CommitID:9cf35632839ee84aad5a4baade86ea1dc8ba3d1b 158890 --> testing pass Upstream job id: Generic-Unit-Test-DPDK#394315 Test environment and result as below: +-------------------------------+----------------+ | Environment | dpdk_unit_test | +===============================+================+ | Ubuntu 24.04 | PASS | +-------------------------------+----------------+ | CentOS Stream 10 | PASS | +-------------------------------+----------------+ | Ubuntu 20.04 | PASS | +-------------------------------+----------------+ | Ubuntu 22.04 | PASS | +-------------------------------+----------------+ | Fedora Linux 42 | PASS | +-------------------------------+----------------+ | CentOS Stream 9 | PASS | +-------------------------------+----------------+ | Fedora Linux 40 | PASS | +-------------------------------+----------------+ | Red Hat Enterprise Linux 8.10 | PASS | +-------------------------------+----------------+ | Fedora Linux 41 | PASS | +-------------------------------+----------------+ | Red Hat Enterprise Linux 9.5 | PASS | +-------------------------------+----------------+ | Debian GNU/Linux 12 | PASS | +-------------------------------+----------------+ | Windows Server 2022 | PASS | +-------------------------------+----------------+ Ubuntu 24.04 Kernel: 5.15 Compiler: gcc gcc (Ubuntu 13.3.0-6ubuntu2~24.04) 13.3.0 CentOS Stream 10 Kernel: 5.15 Compiler: gcc gcc (GCC) 14.2.1 20250110 (Red Hat 14.2.1-8) Ubuntu 20.04 Kernel: 5.15 Compiler: gcc gcc (Ubuntu 9.4.0-1ubuntu1~20.04.2) 9.4.0 Ubuntu 22.04 Kernel: 5.15 Compiler: gcc gcc (Ubuntu 11.4.0-1ubuntu1~22.04) 11.4.0 Fedora Linux 42 Kernel: 5.15 Compiler: clang gcc (GCC) 15.2.1 20250808 (Red Hat 15.2.1-1) CentOS Stream 9 Kernel: 5.15 Compiler: gcc gcc (GCC) 11.5.0 20240719 (Red Hat 11.5.0-11) Fedora Linux 40 Kernel: 5.15 Compiler: gcc gcc (GCC) 14.2.1 20240912 (Red Hat 14.2.1-3) Red Hat Enterprise Linux 8.10 Kernel: 5.15 Compiler: gcc gcc (GCC) 8.5.0 20210514 (Red Hat 8.5.0-22) Fedora Linux 41 Kernel: 5.15 Compiler: clang gcc (GCC) 14.3.1 20250523 (Red Hat 14.3.1-1) Red Hat Enterprise Linux 9.5 Kernel: 5.15 Compiler: gcc gcc (GCC) 11.5.0 20240719 (Red Hat 11.5.0-2) Debian GNU/Linux 12 Kernel: 5.15 Compiler: gcc gcc (Debian 12.2.0-14+deb12u1) 12.2.0 Windows Server 2022 Kernel: 10.0.20348.2031 Compiler: clang 15.0.7, gcc 14.1.0 (MinGW), and MSVC VS 19.39.33521 To view detailed results, visit: https://lab.dpdk.org/results/dashboard/patchsets/34634/ UNH-IOL DPDK Community Lab To manage your email subscriptions, visit: https://lab.dpdk.org/results/dashboard/preferences/subscriptions/