From mboxrd@z Thu Jan 1 00:00:00 1970 Return-Path: Received: from mails.dpdk.org (mails.dpdk.org [217.70.189.124]) by inbox.dpdk.org (Postfix) with ESMTP id 9AD4148B4C for ; Wed, 19 Nov 2025 11:16:10 +0100 (CET) Received: from mails.dpdk.org (localhost [127.0.0.1]) by mails.dpdk.org (Postfix) with ESMTP id 7918240262; Wed, 19 Nov 2025 11:16:10 +0100 (CET) Received: from mail-pl1-f226.google.com (mail-pl1-f226.google.com [209.85.214.226]) by mails.dpdk.org (Postfix) with ESMTP id 3481040262 for ; Wed, 19 Nov 2025 11:16:09 +0100 (CET) Received: by mail-pl1-f226.google.com with SMTP id d9443c01a7336-297dd95ffe4so59094595ad.3 for ; Wed, 19 Nov 2025 02:16:09 -0800 (PST) DKIM-Signature: v=1; a=rsa-sha256; c=relaxed/relaxed; d=iol.unh.edu; s=unh-iol; t=1763547368; x=1764152168; darn=dpdk.org; h=references:in-reply-to:cc:to:from:subject:message-id:date:from:to :cc:subject:date:message-id:reply-to; bh=1Up5bCOARPso5Fbza/G3uN0wra/ldyZEwXeX+7e3zC8=; b=ADxIesavUmQlAtVBZzU7MYf6/0xoboS/W/cFBi29ATVYaNarUhsfoCotuXKJLA0XMH wvjz49dKncN6sSraQUYZZy0WZzBPELHgYfm5OwPeDIpsmbQUAIDXWEYXnajkEq07Bp7C /xhxV9h3pbuJuyxJLlH9T7CnlhR1uuPALQHKM= X-Google-DKIM-Signature: v=1; a=rsa-sha256; c=relaxed/relaxed; d=1e100.net; s=20230601; t=1763547368; x=1764152168; h=references:in-reply-to:cc:to:from:subject:message-id:date:x-gm-gg :x-gm-message-state:from:to:cc:subject:date:message-id:reply-to; bh=1Up5bCOARPso5Fbza/G3uN0wra/ldyZEwXeX+7e3zC8=; b=D23ryiLb6IKU7IKzX2FfPZd2M7n2TqQSNdAu0xELr0WuQ257OrFwDMxVvLv38KxctF whF6nsyWNH79Pnzr2DUue1V90gkaMNRaFeyKR6B4ApnEirX2y+tPQpctFUCuaHg146qO hSw7pl7j5ZSRM4MOuMlwscbeLxDYT8J9ZMfIHgNsq3kBLUJVpMsRf/RARpI3rvP65ZLl 2n/vkB4UNrYd7Lf/LyFQsTHlMziOpXOnmZFIR7GPG/gHMhOgmoN1DNdGTPMbr49e6doR jS4aqdyy33a26PmAYXID5eZjU4RwarB+4l/KXvd9InIrDUMJ4vpnhE9gUIVgdlKy5Bzs T4BA== X-Gm-Message-State: AOJu0Ywl0/8ntlPsR4UetT5bJzTftHhohGkc4hfAGB5lSuOusnau9wg9 dj4KRpQJKkrKHHtnoqGRgEamLySVl2X7+pJjya6g7dENTAYDMejg8PNYGsX6iQcUzZ5FMzDi7+K sYDaeVadbzWWImZn3qLYuxY6yUmGMeExUNpa/POlrDkKPFTbwoPbp+GxEudHo X-Gm-Gg: ASbGncuVnKG7TWSA/HBPjGUvagva89Kw8jJq6/otieLrrsTVP2M9xr3+T3gDDrWoMCk o3ivpjS2sGKnJtDZtsg25TngD9YXyA04RUrFY8hvq4Z+/TBcnZFIWVusu/mdLnexxx7JwyaGvfb 5LtwhlQkuqGP5L6cbCifnB3e855myYASGtwzTB4qTSCKggSB6i3S3lWDZfMqL/ju0YBB/WjTGqh kLKFkQNUIwSPS7OY70gkxGLtAn1lOpu/Ve1vmml9zSisIPdNLr3fDpRmjKUNSDqQbhMDVr4rPI2 iYGUi7AHkOga5/9fHCxkCf5x1UZN7QZyuBGDz+3LOphMEYwzxK30KPhaHK35JoEfoggOvs/FP2H fCuWqFLqwa9ErjF5bie8= X-Google-Smtp-Source: AGHT+IFZ+R8Zebk7fttBxSLvroqT0WLVzBscilKV7l6YBDMfOsSD+gvfpayhAGIdUtgiwbTzTtkMHQM6XyhF X-Received: by 2002:a17:903:94b:b0:297:fd89:b6c7 with SMTP id d9443c01a7336-2986a761030mr227041595ad.60.1763547368251; Wed, 19 Nov 2025 02:16:08 -0800 (PST) Received: from postal.iol.unh.edu (postal.iol.unh.edu. [2606:4100:3880:1234::84]) by smtp-relay.gmail.com with ESMTPS id d9443c01a7336-2985c241a5asm19700415ad.15.2025.11.19.02.16.08 (version=TLS1_2 cipher=ECDHE-ECDSA-AES128-GCM-SHA256 bits=128/128); Wed, 19 Nov 2025 02:16:08 -0800 (PST) X-Relaying-Domain: iol.unh.edu Date: Wed, 19 Nov 2025 02:16:08 -0800 (PST) Message-ID: <691d98e8.170a0220.123ea8.2438SMTPIN_ADDED_MISSING@mx.google.com> Received: from [172.21.0.3] (unknown [172.18.0.240]) by postal.iol.unh.edu (Postfix) with ESMTP id 646B76051830; Wed, 19 Nov 2025 05:16:07 -0500 (EST) Subject: |SUCCESS| pw158890 [PATCH] [v3,1/1] net/mlx5: fix port down in link From: dpdklab@iol.unh.edu To: Test Report Cc: dpdk-test-reports@iol.unh.edu In-Reply-To: <20251119060222.2814478-1-xu.yang3@zte.com.cn> References: <20251119060222.2814478-1-xu.yang3@zte.com.cn> Content-Type: text/plain X-BeenThere: test-report@dpdk.org X-Mailman-Version: 2.1.29 Precedence: list List-Id: automatic DPDK test reports List-Unsubscribe: , List-Archive: List-Post: List-Help: List-Subscribe: , Errors-To: test-report-bounces@dpdk.org Test-Label: iol-compile-amd64-testing Test-Status: SUCCESS http://dpdk.org/patch/158890 _Testing PASS_ Submitter: Yang Xu Date: Wednesday, November 19 2025 06:02:22 DPDK git baseline: Repo:dpdk-next-net-mlx Branch: master CommitID:9cf35632839ee84aad5a4baade86ea1dc8ba3d1b 158890 --> testing pass Upstream job id: Generic-DPDK-Compile-Meson#445981 Test environment and result as below: +-------------------------------+--------------------+------------------+-------------------+-------------------------+----------------------+ | Environment | dpdk_meson_compile | dpdk_compile_ovs | dpdk_msvc_compile | dpdk_llvm_clang_compile | dpdk_mingw64_compile | +===============================+====================+==================+===================+=========================+======================+ | openSUSE Leap 15.6 | PASS | SKIPPED | SKIPPED | SKIPPED | SKIPPED | +-------------------------------+--------------------+------------------+-------------------+-------------------------+----------------------+ | Fedora Linux 42 | PASS | PASS | SKIPPED | SKIPPED | SKIPPED | +-------------------------------+--------------------+------------------+-------------------+-------------------------+----------------------+ | Red Hat Enterprise Linux 8.10 | PASS | SKIPPED | SKIPPED | SKIPPED | SKIPPED | +-------------------------------+--------------------+------------------+-------------------+-------------------------+----------------------+ | FreeBSD 14.2 | PASS | SKIPPED | SKIPPED | SKIPPED | SKIPPED | +-------------------------------+--------------------+------------------+-------------------+-------------------------+----------------------+ | CentOS Stream 9 | PASS | SKIPPED | SKIPPED | SKIPPED | SKIPPED | +-------------------------------+--------------------+------------------+-------------------+-------------------------+----------------------+ | CentOS Stream 10 | PASS | SKIPPED | SKIPPED | SKIPPED | SKIPPED | +-------------------------------+--------------------+------------------+-------------------+-------------------------+----------------------+ | Debian GNU/Linux 12 | PASS | SKIPPED | SKIPPED | SKIPPED | SKIPPED | +-------------------------------+--------------------+------------------+-------------------+-------------------------+----------------------+ | Ubuntu 20.04 | PASS | SKIPPED | SKIPPED | SKIPPED | SKIPPED | +-------------------------------+--------------------+------------------+-------------------+-------------------------+----------------------+ | Ubuntu 24.04 | PASS | PASS | SKIPPED | SKIPPED | SKIPPED | +-------------------------------+--------------------+------------------+-------------------+-------------------------+----------------------+ | Alpine Linux 3.22.0 | PASS | SKIPPED | SKIPPED | SKIPPED | SKIPPED | +-------------------------------+--------------------+------------------+-------------------+-------------------------+----------------------+ | Ubuntu 22.04 | PASS | SKIPPED | SKIPPED | SKIPPED | SKIPPED | +-------------------------------+--------------------+------------------+-------------------+-------------------------+----------------------+ | Red Hat Enterprise Linux 9.5 | PASS | SKIPPED | SKIPPED | SKIPPED | SKIPPED | +-------------------------------+--------------------+------------------+-------------------+-------------------------+----------------------+ | Windows Server 2022 | SKIPPED | SKIPPED | PASS | PASS | PASS | +-------------------------------+--------------------+------------------+-------------------+-------------------------+----------------------+ openSUSE Leap 15.6 Kernel: 5.15 Compiler: gcc gcc (SUSE Linux) 7.5.0 Fedora Linux 42 Kernel: 5.15 Compiler: clang gcc (GCC) 15.2.1 20250808 (Red Hat 15.2.1-1) Red Hat Enterprise Linux 8.10 Kernel: 5.15 Compiler: gcc gcc (GCC) 8.5.0 20210514 (Red Hat 8.5.0-22) FreeBSD 14.2 Kernel: 14.2-RELEASE Compiler: clang 18.1.6 CentOS Stream 9 Kernel: 5.15 Compiler: gcc gcc (GCC) 11.5.0 20240719 (Red Hat 11.5.0-11) CentOS Stream 10 Kernel: 5.15 Compiler: gcc gcc (GCC) 14.2.1 20250110 (Red Hat 14.2.1-8) Debian GNU/Linux 12 Kernel: 5.15 Compiler: gcc gcc (Debian 12.2.0-14+deb12u1) 12.2.0 Ubuntu 20.04 Kernel: 5.15 Compiler: gcc gcc (Ubuntu 9.4.0-1ubuntu1~20.04.2) 9.4.0 Ubuntu 24.04 Kernel: 5.15 Compiler: gcc gcc (Ubuntu 13.3.0-6ubuntu2~24.04) 13.3.0 Alpine Linux 3.22.0 Kernel: 5.15 Compiler: gcc gcc (Alpine 14.2.0) 14.2.0 Ubuntu 22.04 Kernel: 5.15 Compiler: gcc gcc (Ubuntu 11.4.0-1ubuntu1~22.04) 11.4.0 Red Hat Enterprise Linux 9.5 Kernel: 5.15 Compiler: gcc gcc (GCC) 11.5.0 20240719 (Red Hat 11.5.0-2) Windows Server 2022 Kernel: 10.0.20348.2031 Compiler: clang 15.0.7, gcc 14.1.0 (MinGW), and MSVC VS 19.39.33521 To view detailed results, visit: https://lab.dpdk.org/results/dashboard/patchsets/34634/ UNH-IOL DPDK Community Lab To manage your email subscriptions, visit: https://lab.dpdk.org/results/dashboard/preferences/subscriptions/