From mboxrd@z Thu Jan 1 00:00:00 1970 Return-Path: Received: from mails.dpdk.org (mails.dpdk.org [217.70.189.124]) by inbox.dpdk.org (Postfix) with ESMTP id 101F748B4C for ; Wed, 19 Nov 2025 11:55:12 +0100 (CET) Received: from mails.dpdk.org (localhost [127.0.0.1]) by mails.dpdk.org (Postfix) with ESMTP id E1E4E40265; Wed, 19 Nov 2025 11:55:11 +0100 (CET) Received: from mail-yx1-f100.google.com (mail-yx1-f100.google.com [74.125.224.100]) by mails.dpdk.org (Postfix) with ESMTP id 85F2440265 for ; Wed, 19 Nov 2025 11:55:10 +0100 (CET) Received: by mail-yx1-f100.google.com with SMTP id 956f58d0204a3-640c9c85255so6959004d50.3 for ; Wed, 19 Nov 2025 02:55:10 -0800 (PST) DKIM-Signature: v=1; a=rsa-sha256; c=relaxed/relaxed; d=iol.unh.edu; s=unh-iol; t=1763549710; x=1764154510; darn=dpdk.org; h=references:in-reply-to:cc:to:from:subject:message-id:date:from:to :cc:subject:date:message-id:reply-to; bh=vMRbVftlR0N8fzdqJpI5zUOtSv+X+PMuXjGqNH9wug0=; b=NYuac67i433bqcRtwGm2iCqdy9bkN/WhY7nSGgaD78JQLsms0MrT95N4cHB24zH7R7 su4bAdxKpuR2TMa4hpLcWmXWfCg/zAW65BwQyQV+8nx5oGZpGiGRb5c+5prxORFSIUoZ QhgVYPZU+nAEad0EnUv7v6NUdwh3JV6kFSoss= X-Google-DKIM-Signature: v=1; a=rsa-sha256; c=relaxed/relaxed; d=1e100.net; s=20230601; t=1763549710; x=1764154510; h=references:in-reply-to:cc:to:from:subject:message-id:date:x-gm-gg :x-gm-message-state:from:to:cc:subject:date:message-id:reply-to; bh=vMRbVftlR0N8fzdqJpI5zUOtSv+X+PMuXjGqNH9wug0=; b=PIBLzEsfO0alLvFRqLVMVPfCDkDSOWmFmSLVpcIWOmyq+xYiLPveWNJ2Cecfi4GPh0 gVFUIkPUWP9HrrWq94qAcEwbiT6KxawT3f49VEi5Dw+A/Y6S0AbW7vy0TxOQvnRBsaOM 580ttOX8+SF/tp1ED8+VOvGHHMxMo8i4BnOvoPgsNxb7Mi9VIXNW9FkK35BdgwZYkJoC Xa5188ZgBOgbRIJBDZ5gwlsKPCjc6tLjCj6aXOm07oSC38kaDTVDRDozROmLUYeis17I D7gul7TnXLG9mM9/hgjjJbDniNFNVerHzAFmW9X+Tipw7etd/qLrXU9htsXA1Ui7Z9ct rjKw== X-Gm-Message-State: AOJu0Ywv5HeWrn6+idkIHoeTdBNPsxVtEorD4Rd6oF6I2yZdSuvxjv7w Bda8uGvxxSLRhFxON+2ytgsm2B0WWXLtex3uNR13+uPyrFmnV+xl+JZcT6eOd7ZauxhTAgFHsZj jLCD6D0dTuX31EuNyPKnoZhLBJzXZ41ICGrsLVZdVQtkTpX+iTCqj644yQ3fT X-Gm-Gg: ASbGncuad/Ssnkhfy6SYpqDZmWzqYPon3aarkoz4HWjtP0zOF3Pblot2CRotGezJz1b N77LqiqKHBJFMKojgb7f5T8NpeneUIJn++B4sdVhb+QdiWFGwfusWzvCEBT4TK+d6dIFnBmGe41 JUdWBjNN+0w4Gs03Ji3GCFTd+NC8XsNDYq9TVU900OmLOkx54wU3rmheK+MdGKd6upviPE+AwZB 3WmNEyQc4NkVJWkGTE5mUW3LOjseql9d+R5wI/RxEhVj7fEU0tdcaagnU+Dz8wa/4EpWPHMbdDZ 2+Ctoa/hsN2wQOem4QdguMw5n3j542TiZBHjKxNeEdE6JFxsgWTLvgN2slvG6A2kIRNBI3SmJgL tXWBaVtc0KLkEiGXWZbk= X-Google-Smtp-Source: AGHT+IGBVDCeq8cKkFIrKiELwrb3LwRCVnEzQM80vM/B09vWFnUxFp4M08hI1U575EAlL8Sfn/1QhuFmLlkZ X-Received: by 2002:a53:d04a:0:10b0:63f:a3d8:1b15 with SMTP id 956f58d0204a3-641e74a5b21mr13275642d50.1.1763549709755; Wed, 19 Nov 2025 02:55:09 -0800 (PST) Received: from postal.iol.unh.edu (postal.iol.unh.edu. [2606:4100:3880:1234::84]) by smtp-relay.gmail.com with ESMTPS id 956f58d0204a3-6410ea07158sm1030754d50.4.2025.11.19.02.55.09 (version=TLS1_2 cipher=ECDHE-ECDSA-AES128-GCM-SHA256 bits=128/128); Wed, 19 Nov 2025 02:55:09 -0800 (PST) X-Relaying-Domain: iol.unh.edu Date: Wed, 19 Nov 2025 02:55:09 -0800 (PST) Message-ID: <691da20d.530a0220.cb393.589fSMTPIN_ADDED_MISSING@mx.google.com> Received: from [172.21.0.3] (unknown [172.18.0.240]) by postal.iol.unh.edu (Postfix) with ESMTP id 2FC936051830; Wed, 19 Nov 2025 05:55:09 -0500 (EST) Subject: |SUCCESS| pw158891 [PATCH] crypto/dpaa2_sec: use bus device name From: dpdklab@iol.unh.edu To: Test Report Cc: dpdk-test-reports@iol.unh.edu In-Reply-To: <20251119080633.25507-1-david.marchand@redhat.com> References: <20251119080633.25507-1-david.marchand@redhat.com> Content-Type: text/plain X-BeenThere: test-report@dpdk.org X-Mailman-Version: 2.1.29 Precedence: list List-Id: automatic DPDK test reports List-Unsubscribe: , List-Archive: List-Post: List-Help: List-Subscribe: , Errors-To: test-report-bounces@dpdk.org Test-Label: iol-unit-amd64-testing Test-Status: SUCCESS http://dpdk.org/patch/158891 _Testing PASS_ Submitter: David Marchand Date: Wednesday, November 19 2025 08:06:32 DPDK git baseline: Repo:dpdk Branch: master CommitID:ef98b88455bf4a7c8b7aa3106a761c9e9270d6a3 158891 --> testing pass Upstream job id: Generic-Unit-Test-DPDK#394344 Test environment and result as below: +-------------------------------+----------------+ | Environment | dpdk_unit_test | +===============================+================+ | Red Hat Enterprise Linux 8.10 | PASS | +-------------------------------+----------------+ | Red Hat Enterprise Linux 9.5 | PASS | +-------------------------------+----------------+ | Debian GNU/Linux 12 | PASS | +-------------------------------+----------------+ | CentOS Stream 9 | PASS | +-------------------------------+----------------+ | Windows Server 2022 | PASS | +-------------------------------+----------------+ | Ubuntu 20.04 | PASS | +-------------------------------+----------------+ | Fedora Linux 42 | PASS | +-------------------------------+----------------+ | CentOS Stream 10 | PASS | +-------------------------------+----------------+ | Fedora Linux 40 | PASS | +-------------------------------+----------------+ | Fedora Linux 41 | PASS | +-------------------------------+----------------+ | Ubuntu 24.04 | PASS | +-------------------------------+----------------+ | Ubuntu 22.04 | PASS | +-------------------------------+----------------+ Red Hat Enterprise Linux 8.10 Kernel: 5.15 Compiler: gcc gcc (GCC) 8.5.0 20210514 (Red Hat 8.5.0-22) Red Hat Enterprise Linux 9.5 Kernel: 5.15 Compiler: gcc gcc (GCC) 11.5.0 20240719 (Red Hat 11.5.0-2) Debian GNU/Linux 12 Kernel: 5.15 Compiler: gcc gcc (Debian 12.2.0-14+deb12u1) 12.2.0 CentOS Stream 9 Kernel: 5.15 Compiler: gcc gcc (GCC) 11.5.0 20240719 (Red Hat 11.5.0-11) Windows Server 2022 Kernel: 10.0.20348.2031 Compiler: clang 15.0.7, gcc 14.1.0 (MinGW), and MSVC VS 19.39.33521 Ubuntu 20.04 Kernel: 5.15 Compiler: gcc gcc (Ubuntu 9.4.0-1ubuntu1~20.04.2) 9.4.0 Fedora Linux 42 Kernel: 5.15 Compiler: gcc gcc (GCC) 15.2.1 20250808 (Red Hat 15.2.1-1) CentOS Stream 10 Kernel: 5.15 Compiler: gcc gcc (GCC) 14.2.1 20250110 (Red Hat 14.2.1-8) Fedora Linux 40 Kernel: 5.15 Compiler: clang gcc (GCC) 14.2.1 20240912 (Red Hat 14.2.1-3) Fedora Linux 41 Kernel: 5.15 Compiler: clang gcc (GCC) 14.3.1 20250523 (Red Hat 14.3.1-1) Ubuntu 24.04 Kernel: 5.15 Compiler: gcc gcc (Ubuntu 13.3.0-6ubuntu2~24.04) 13.3.0 Ubuntu 22.04 Kernel: 5.15 Compiler: gcc gcc (Ubuntu 11.4.0-1ubuntu1~22.04) 11.4.0 To view detailed results, visit: https://lab.dpdk.org/results/dashboard/patchsets/34635/ UNH-IOL DPDK Community Lab To manage your email subscriptions, visit: https://lab.dpdk.org/results/dashboard/preferences/subscriptions/