From mboxrd@z Thu Jan 1 00:00:00 1970 Return-Path: Received: from mails.dpdk.org (mails.dpdk.org [217.70.189.124]) by inbox.dpdk.org (Postfix) with ESMTP id ED14B48B4D for ; Wed, 19 Nov 2025 12:17:16 +0100 (CET) Received: from mails.dpdk.org (localhost [127.0.0.1]) by mails.dpdk.org (Postfix) with ESMTP id C2F0440265; Wed, 19 Nov 2025 12:17:16 +0100 (CET) Received: from mail-oi1-f227.google.com (mail-oi1-f227.google.com [209.85.167.227]) by mails.dpdk.org (Postfix) with ESMTP id 66C4440265 for ; Wed, 19 Nov 2025 12:17:15 +0100 (CET) Received: by mail-oi1-f227.google.com with SMTP id 5614622812f47-44ffed84cccso969168b6e.0 for ; Wed, 19 Nov 2025 03:17:15 -0800 (PST) DKIM-Signature: v=1; a=rsa-sha256; c=relaxed/relaxed; d=iol.unh.edu; s=unh-iol; t=1763551034; x=1764155834; darn=dpdk.org; h=references:in-reply-to:cc:to:from:subject:message-id:date:from:to :cc:subject:date:message-id:reply-to; bh=DUY00Ml7fhOGwfSWRCXIUcWbZCspCXKbBYiXFT3mXSo=; b=VBWeoIhhmwVGEQUnV+Z+lsA2lpweqVg62on1UGnys8UUiLaMiT8WdNnA+5D4kHMZB9 s+BmWSRzgdfGIITbEgmrsSUUosliYfJA5VUgCKYLhK1KEUFWpkVBZGnq5ZKl1WuNQv77 ESn17nPlw6ECX5+DswibL2ObTOgdzYUtd6eIg= X-Google-DKIM-Signature: v=1; a=rsa-sha256; c=relaxed/relaxed; d=1e100.net; s=20230601; t=1763551034; x=1764155834; h=references:in-reply-to:cc:to:from:subject:message-id:date:x-gm-gg :x-gm-message-state:from:to:cc:subject:date:message-id:reply-to; bh=DUY00Ml7fhOGwfSWRCXIUcWbZCspCXKbBYiXFT3mXSo=; b=w9qhuMU7UhxAgeA7Gk8riOthKB1qy6j4OwBrtPOOzHAe9HVMuRYAN8XKXnnb7S0MN9 k9OdZemQeRujKFCH9R0qmkXs/hlOnBxcgM3STjiB6jJLqOHbYT8zZQTPUikJeYt+GvoF qZA23+gzQCUjqC9jranfsWPxn7pFtQm5/LcGYwPYFnKuuMhNvewGQqL8QScraknxnlDO ccljuF0qp7AQll2IYdX6dqsvoNSxvEl0sEh8lDPO8DoQ1YtHltmet7aAziRzF4vL271n P9bKX7ZEfgwju1lGxXz3+ENgNqAkCadI1kMBG8eCbChK7GuN5pRgysiJXTGL4YwYo0Kw ymzw== X-Gm-Message-State: AOJu0YxmNp+0ecBYHnvgr/kcnsMgxfkzc6ffpEgy3E7Qd1bl9ZYtchVX WhZeBjZT+QMItu7wSs3D+ZFA8WkU9gh7oZYOc7sP+1INWiQiHL841cN60WVSVW+4Wgn9zwxHsXT IxeJK0JZgde6CIQ3jrofNDdqg2dsXOuWTxLGfU+dpKXNc X-Gm-Gg: ASbGncvvI5DhJYBfb3f6eJ/L9zxAxf4r2XaQiHArmjW6F+CiS+MoDnw7IjQ028ZyMV1 gPtxxQsEVolF7X65qlmxVVcB9zNi86v1zJAd05iy17Aeot+J5fwezqvKo/bGXeR6svq0FE0HwBn TsIcWq+4/Wiju01BXCHZ4icZbT/PpcNrJ0cAl6W09LWQxtk0qnKe/iWZxcdNk1uBTGq5+KN8o9c mUWx82ffmok776GS5KUMQeHmqBumK4POb6CCagiCIg1DbpQSZFTl1jtj0G8c2MUfFPFD0QxQ3kZ GYvpkTQlqbBUsyOQmElmaL3/pJBs3wH53YjEFRijCx/wktNZB8I1Ec2zE/DDvxPQ7lLc6zHis/z oiA4iSlxXj+VFAX0xRd2jRuFlnpJ9vfA08f+wYKlHdg== X-Google-Smtp-Source: AGHT+IHsy4AcOERQJDuhuUyVnJobe8cC779bt5YfiNdk7Dvp65gWRZNfW1t5eE2JJ54o5V+kEmTOyJ4Xm5wo X-Received: by 2002:a05:6808:1819:b0:44f:e954:ba44 with SMTP id 5614622812f47-4509742efedmr8498346b6e.28.1763551034476; Wed, 19 Nov 2025 03:17:14 -0800 (PST) Received: from postal.iol.unh.edu (postal.iol.unh.edu. [132.177.123.84]) by smtp-relay.gmail.com with ESMTPS id 46e09a7af769-7c73a3274efsm2037032a34.4.2025.11.19.03.17.14 (version=TLS1_2 cipher=ECDHE-ECDSA-AES128-GCM-SHA256 bits=128/128); Wed, 19 Nov 2025 03:17:14 -0800 (PST) X-Relaying-Domain: iol.unh.edu Date: Wed, 19 Nov 2025 03:17:14 -0800 (PST) Message-ID: <691da73a.050a0220.2a561f.61deSMTPIN_ADDED_MISSING@mx.google.com> Received: from [172.21.0.6] (unknown [172.18.0.240]) by postal.iol.unh.edu (Postfix) with ESMTP id F3FDF6051830; Wed, 19 Nov 2025 06:17:13 -0500 (EST) Subject: |SUCCESS| pw158891 [PATCH] crypto/dpaa2_sec: use bus device name From: dpdklab@iol.unh.edu To: Test Report Cc: dpdk-test-reports@iol.unh.edu In-Reply-To: <20251119080633.25507-1-david.marchand@redhat.com> References: <20251119080633.25507-1-david.marchand@redhat.com> Content-Type: text/plain X-BeenThere: test-report@dpdk.org X-Mailman-Version: 2.1.29 Precedence: list List-Id: automatic DPDK test reports List-Unsubscribe: , List-Archive: List-Post: List-Help: List-Subscribe: , Errors-To: test-report-bounces@dpdk.org Test-Label: iol-compile-amd64-testing Test-Status: SUCCESS http://dpdk.org/patch/158891 _Testing PASS_ Submitter: David Marchand Date: Wednesday, November 19 2025 08:06:32 DPDK git baseline: Repo:dpdk Branch: master CommitID:ef98b88455bf4a7c8b7aa3106a761c9e9270d6a3 158891 --> testing pass Upstream job id: Generic-DPDK-Compile-Meson#446009 Test environment and result as below: +-------------------------------+-------------------------+--------------------+------------------+-------------------+----------------------+ | Environment | dpdk_llvm_clang_compile | dpdk_meson_compile | dpdk_compile_ovs | dpdk_msvc_compile | dpdk_mingw64_compile | +===============================+=========================+====================+==================+===================+======================+ | Windows Server 2022 | PASS | SKIPPED | SKIPPED | PASS | PASS | +-------------------------------+-------------------------+--------------------+------------------+-------------------+----------------------+ | Debian GNU/Linux 12 | SKIPPED | PASS | SKIPPED | SKIPPED | SKIPPED | +-------------------------------+-------------------------+--------------------+------------------+-------------------+----------------------+ | Fedora Linux 42 | SKIPPED | PASS | PASS | SKIPPED | SKIPPED | +-------------------------------+-------------------------+--------------------+------------------+-------------------+----------------------+ | CentOS Stream 10 | SKIPPED | PASS | SKIPPED | SKIPPED | SKIPPED | +-------------------------------+-------------------------+--------------------+------------------+-------------------+----------------------+ | Red Hat Enterprise Linux 8.10 | SKIPPED | PASS | SKIPPED | SKIPPED | SKIPPED | +-------------------------------+-------------------------+--------------------+------------------+-------------------+----------------------+ | Red Hat Enterprise Linux 9.5 | SKIPPED | PASS | SKIPPED | SKIPPED | SKIPPED | +-------------------------------+-------------------------+--------------------+------------------+-------------------+----------------------+ | Ubuntu 20.04 | SKIPPED | PASS | SKIPPED | SKIPPED | SKIPPED | +-------------------------------+-------------------------+--------------------+------------------+-------------------+----------------------+ | openSUSE Leap 15.6 | SKIPPED | PASS | SKIPPED | SKIPPED | SKIPPED | +-------------------------------+-------------------------+--------------------+------------------+-------------------+----------------------+ | Ubuntu 22.04 | SKIPPED | PASS | SKIPPED | SKIPPED | SKIPPED | +-------------------------------+-------------------------+--------------------+------------------+-------------------+----------------------+ | FreeBSD 14.2 | SKIPPED | PASS | SKIPPED | SKIPPED | SKIPPED | +-------------------------------+-------------------------+--------------------+------------------+-------------------+----------------------+ | Ubuntu 24.04 | SKIPPED | PASS | PASS | SKIPPED | SKIPPED | +-------------------------------+-------------------------+--------------------+------------------+-------------------+----------------------+ | Alpine Linux 3.22.0 | SKIPPED | PASS | SKIPPED | SKIPPED | SKIPPED | +-------------------------------+-------------------------+--------------------+------------------+-------------------+----------------------+ | CentOS Stream 9 | SKIPPED | PASS | SKIPPED | SKIPPED | SKIPPED | +-------------------------------+-------------------------+--------------------+------------------+-------------------+----------------------+ Windows Server 2022 Kernel: 10.0.20348.2031 Compiler: clang 15.0.7, gcc 14.1.0 (MinGW), and MSVC VS 19.39.33521 Debian GNU/Linux 12 Kernel: 5.15 Compiler: gcc gcc (Debian 12.2.0-14+deb12u1) 12.2.0 Fedora Linux 42 Kernel: 5.15 Compiler: gcc gcc (GCC) 15.2.1 20250808 (Red Hat 15.2.1-1) CentOS Stream 10 Kernel: 5.15 Compiler: gcc gcc (GCC) 14.2.1 20250110 (Red Hat 14.2.1-8) Red Hat Enterprise Linux 8.10 Kernel: 5.15 Compiler: gcc gcc (GCC) 8.5.0 20210514 (Red Hat 8.5.0-22) Red Hat Enterprise Linux 9.5 Kernel: 5.15 Compiler: gcc gcc (GCC) 11.5.0 20240719 (Red Hat 11.5.0-2) Ubuntu 20.04 Kernel: 4.19 Compiler: gcc gcc (Ubuntu 9.4.0-1ubuntu1~20.04.2) 9.4.0 openSUSE Leap 15.6 Kernel: 5.15 Compiler: gcc gcc (SUSE Linux) 7.5.0 Ubuntu 22.04 Kernel: 5.15 Compiler: gcc gcc (Ubuntu 11.4.0-1ubuntu1~22.04) 11.4.0 FreeBSD 14.2 Kernel: 14.2-RELEASE Compiler: clang 18.1.6 Ubuntu 24.04 Kernel: 5.15 Compiler: gcc gcc (Ubuntu 13.3.0-6ubuntu2~24.04) 13.3.0 Alpine Linux 3.22.0 Kernel: 5.15 Compiler: gcc gcc (Alpine 14.2.0) 14.2.0 CentOS Stream 9 Kernel: 5.15 Compiler: gcc gcc (GCC) 11.5.0 20240719 (Red Hat 11.5.0-11) To view detailed results, visit: https://lab.dpdk.org/results/dashboard/patchsets/34635/ UNH-IOL DPDK Community Lab To manage your email subscriptions, visit: https://lab.dpdk.org/results/dashboard/preferences/subscriptions/