From mboxrd@z Thu Jan 1 00:00:00 1970 Return-Path: Received: from mails.dpdk.org (mails.dpdk.org [217.70.189.124]) by inbox.dpdk.org (Postfix) with ESMTP id 34E9648B4D for ; Wed, 19 Nov 2025 13:30:40 +0100 (CET) Received: from mails.dpdk.org (localhost [127.0.0.1]) by mails.dpdk.org (Postfix) with ESMTP id 0651340265; Wed, 19 Nov 2025 13:30:40 +0100 (CET) Received: from mail-pf1-f228.google.com (mail-pf1-f228.google.com [209.85.210.228]) by mails.dpdk.org (Postfix) with ESMTP id 314BD40265 for ; Wed, 19 Nov 2025 13:30:39 +0100 (CET) Received: by mail-pf1-f228.google.com with SMTP id d2e1a72fcca58-7ba49f92362so827077b3a.1 for ; Wed, 19 Nov 2025 04:30:39 -0800 (PST) DKIM-Signature: v=1; a=rsa-sha256; c=relaxed/relaxed; d=iol.unh.edu; s=unh-iol; t=1763555438; x=1764160238; darn=dpdk.org; h=references:in-reply-to:cc:to:from:subject:message-id:date:from:to :cc:subject:date:message-id:reply-to; bh=WHe4ow8PEQLeqJiKf8IXe7wBOdLtGuVaijIEXHnmHYY=; b=NP60pCZf7AcDuxG7LVncNcR/K9y9oU6hFnb0Vwe32SMjx1DitGIirCwaLu+P2rjTkE SVljql58VqYyjwwJ5FF4/bUimjJq7VTpd1YUNstPt76Shnh/ciaxK79VXVKnbJMOWdgJ HD0PDsgy90ovAlmCxVqF915LWNQhVhbbv2tY0= X-Google-DKIM-Signature: v=1; a=rsa-sha256; c=relaxed/relaxed; d=1e100.net; s=20230601; t=1763555438; x=1764160238; h=references:in-reply-to:cc:to:from:subject:message-id:date:x-gm-gg :x-gm-message-state:from:to:cc:subject:date:message-id:reply-to; bh=WHe4ow8PEQLeqJiKf8IXe7wBOdLtGuVaijIEXHnmHYY=; b=tHacoXOPsomA13h6MBCGaLIiuYrbQ63bJ9BTFiUq5epG0iN86xqVXBq2otzcnvFe2W jRE578gN2AM8fy75HD5HUc1mkw5EU7hq82DShKxQCWEp4nLffalNq+KIduv9m30f6d6T lUmXKkMoRcxbdsceNV7iQdWID/UiwfP8YgEY6JluMjWSiJ09g3Mgh3Sq2ARsc2Dao8Jf SImNCR4A2eG5bV9m1Dg9aIfFCZH8Cg75zpP3s9znthYWvPXvOCf0BrS+4vp4na7huR9H jRHSZG2yHNt4TFCfnnqh7WjzgnAkMBqNpKtCWtGeMbrD5uID+Z7URssXxZehEJXfTAJZ yk9g== X-Gm-Message-State: AOJu0YwA0ulE4b2KlnSwPYLP3RyByLhWPosVPEADYqtglolYVSNB6tBF xjR0Cf/jtvA5XKaXFmDc7bg4iuKrY8kU/HTAp6hyyljzdI7ilcuU1MThRTFT2DM9mGplYypBOXs FJkmlk8Dl7De91G/gmYj5WqucV7sI25ws4IOpH4G3KWH6 X-Gm-Gg: ASbGncs11pJX6DhE7mQahp3sI/HqXSkWzFZY5J5gRpfpoIjiFb9hnVdz94cxEjzyfMp G3fdhCWQMgEU9V7nt6EapW2kyqLqwuqTYAaU4zzEvU0Veuwt8gFfg4u64r9nW7gSBuOHI2tjVqa YgYVzQeOMAERJm9LCYIJNB9rApfuRZt7mCkSEB/0aJdRAItDNGCmCBSV32gsxcpy7I/Juvu1gED GQNqqCrZ82mDT1aFeppTv8jxo66jtnLwAoFuJhIIHH8620/SexN4ICoDB7wMN4KHzpQ4PjAUpB+ TPDXUJMVN+sjwaYZDo7H43DxngYHJV+e/roqJQ37U5O4ebZTT1Bwd9YM0mnxHqy+duKV4MsEWJA aRBxVOCtxl40KiMuFfCCgASAOSEymdUiyutpLU/KjQw== X-Google-Smtp-Source: AGHT+IEZskIQpJi5ow28YB+P2v0W642oxSB5vEYBV9Opslc8Hm6+po/Fl/yESnyRROgjd6C7OUImHPKyIHrt X-Received: by 2002:a05:6a00:1a12:b0:783:44b9:cbc9 with SMTP id d2e1a72fcca58-7c2bb4a5c22mr2860961b3a.9.1763555438183; Wed, 19 Nov 2025 04:30:38 -0800 (PST) Received: from postal.iol.unh.edu (postal.iol.unh.edu. [132.177.123.84]) by smtp-relay.gmail.com with ESMTPS id d2e1a72fcca58-7b9287040f6sm1899086b3a.10.2025.11.19.04.30.37 (version=TLS1_2 cipher=ECDHE-ECDSA-AES128-GCM-SHA256 bits=128/128); Wed, 19 Nov 2025 04:30:38 -0800 (PST) X-Relaying-Domain: iol.unh.edu Date: Wed, 19 Nov 2025 04:30:38 -0800 (PST) Message-ID: <691db86e.050a0220.25384e.1169SMTPIN_ADDED_MISSING@mx.google.com> Received: from [172.21.0.3] (unknown [172.18.0.240]) by postal.iol.unh.edu (Postfix) with ESMTP id 905146051830; Wed, 19 Nov 2025 07:30:36 -0500 (EST) Subject: |SUCCESS| pw158892 [PATCH] net/txgbe: fix the missing old mailbox in From: dpdklab@iol.unh.edu To: Test Report Cc: dpdk-test-reports@iol.unh.edu, Stephen Hemminger In-Reply-To: References: Content-Type: text/plain X-BeenThere: test-report@dpdk.org X-Mailman-Version: 2.1.29 Precedence: list List-Id: automatic DPDK test reports List-Unsubscribe: , List-Archive: List-Post: List-Help: List-Subscribe: , Errors-To: test-report-bounces@dpdk.org Test-Label: iol-compile-amd64-testing Test-Status: SUCCESS http://dpdk.org/patch/158892 _Testing PASS_ Submitter: Jiawen Wu Date: Wednesday, November 19 2025 08:56:24 DPDK git baseline: Repo:dpdk-next-net Branch: master CommitID:37c1fb70b39c3a2dea6f7a80187e57b03460a365 158892 --> testing pass Upstream job id: Generic-DPDK-Compile-Meson#446028 Test environment and result as below: +-------------------------------+--------------------+-------------------+-------------------------+------------------+----------------------+ | Environment | dpdk_meson_compile | dpdk_msvc_compile | dpdk_llvm_clang_compile | dpdk_compile_ovs | dpdk_mingw64_compile | +===============================+====================+===================+=========================+==================+======================+ | FreeBSD 14.2 | PASS | SKIPPED | SKIPPED | SKIPPED | SKIPPED | +-------------------------------+--------------------+-------------------+-------------------------+------------------+----------------------+ | CentOS Stream 10 | PASS | SKIPPED | SKIPPED | SKIPPED | SKIPPED | +-------------------------------+--------------------+-------------------+-------------------------+------------------+----------------------+ | Fedora Linux 42 | PASS | SKIPPED | SKIPPED | PASS | SKIPPED | +-------------------------------+--------------------+-------------------+-------------------------+------------------+----------------------+ | openSUSE Leap 15.6 | PASS | SKIPPED | SKIPPED | SKIPPED | SKIPPED | +-------------------------------+--------------------+-------------------+-------------------------+------------------+----------------------+ | CentOS Stream 9 | PASS | SKIPPED | SKIPPED | SKIPPED | SKIPPED | +-------------------------------+--------------------+-------------------+-------------------------+------------------+----------------------+ | Debian GNU/Linux 12 | PASS | SKIPPED | SKIPPED | SKIPPED | SKIPPED | +-------------------------------+--------------------+-------------------+-------------------------+------------------+----------------------+ | Ubuntu 24.04 | PASS | SKIPPED | SKIPPED | PASS | SKIPPED | +-------------------------------+--------------------+-------------------+-------------------------+------------------+----------------------+ | Ubuntu 20.04 | PASS | SKIPPED | SKIPPED | SKIPPED | SKIPPED | +-------------------------------+--------------------+-------------------+-------------------------+------------------+----------------------+ | Red Hat Enterprise Linux 8.10 | PASS | SKIPPED | SKIPPED | SKIPPED | SKIPPED | +-------------------------------+--------------------+-------------------+-------------------------+------------------+----------------------+ | Red Hat Enterprise Linux 9.5 | PASS | SKIPPED | SKIPPED | SKIPPED | SKIPPED | +-------------------------------+--------------------+-------------------+-------------------------+------------------+----------------------+ | Ubuntu 22.04 | PASS | SKIPPED | SKIPPED | SKIPPED | SKIPPED | +-------------------------------+--------------------+-------------------+-------------------------+------------------+----------------------+ | Alpine Linux 3.22.0 | PASS | SKIPPED | SKIPPED | SKIPPED | SKIPPED | +-------------------------------+--------------------+-------------------+-------------------------+------------------+----------------------+ | Windows Server 2022 | SKIPPED | PASS | PASS | SKIPPED | PASS | +-------------------------------+--------------------+-------------------+-------------------------+------------------+----------------------+ FreeBSD 14.2 Kernel: 14.2-RELEASE Compiler: clang 18.1.6 CentOS Stream 10 Kernel: 5.15 Compiler: gcc gcc (GCC) 14.2.1 20250110 (Red Hat 14.2.1-8) Fedora Linux 42 Kernel: 5.15 Compiler: gcc gcc (GCC) 15.2.1 20250808 (Red Hat 15.2.1-1) openSUSE Leap 15.6 Kernel: 5.15 Compiler: gcc gcc (SUSE Linux) 7.5.0 CentOS Stream 9 Kernel: 5.15 Compiler: gcc gcc (GCC) 11.5.0 20240719 (Red Hat 11.5.0-11) Debian GNU/Linux 12 Kernel: 5.15 Compiler: gcc gcc (Debian 12.2.0-14+deb12u1) 12.2.0 Ubuntu 24.04 Kernel: 5.15 Compiler: gcc gcc (Ubuntu 13.3.0-6ubuntu2~24.04) 13.3.0 Ubuntu 20.04 Kernel: 4.19 Compiler: gcc gcc (Ubuntu 9.4.0-1ubuntu1~20.04.2) 9.4.0 Red Hat Enterprise Linux 8.10 Kernel: 5.15 Compiler: gcc gcc (GCC) 8.5.0 20210514 (Red Hat 8.5.0-22) Red Hat Enterprise Linux 9.5 Kernel: 5.15 Compiler: gcc gcc (GCC) 11.5.0 20240719 (Red Hat 11.5.0-2) Ubuntu 22.04 Kernel: 5.15 Compiler: gcc gcc (Ubuntu 11.4.0-1ubuntu1~22.04) 11.4.0 Alpine Linux 3.22.0 Kernel: 5.15 Compiler: gcc gcc (Alpine 14.2.0) 14.2.0 Windows Server 2022 Kernel: 10.0.20348.2031 Compiler: clang 15.0.7, gcc 14.1.0 (MinGW), and MSVC VS 19.39.33521 To view detailed results, visit: https://lab.dpdk.org/results/dashboard/patchsets/34637/ UNH-IOL DPDK Community Lab To manage your email subscriptions, visit: https://lab.dpdk.org/results/dashboard/preferences/subscriptions/