From mboxrd@z Thu Jan 1 00:00:00 1970 Return-Path: Received: from mails.dpdk.org (mails.dpdk.org [217.70.189.124]) by inbox.dpdk.org (Postfix) with ESMTP id CD22148ACF for ; Wed, 19 Nov 2025 15:37:54 +0100 (CET) Received: from mails.dpdk.org (localhost [127.0.0.1]) by mails.dpdk.org (Postfix) with ESMTP id A9BC440262; Wed, 19 Nov 2025 15:37:54 +0100 (CET) Received: from mail-pf1-f228.google.com (mail-pf1-f228.google.com [209.85.210.228]) by mails.dpdk.org (Postfix) with ESMTP id B4F9F40262 for ; Wed, 19 Nov 2025 15:37:52 +0100 (CET) Received: by mail-pf1-f228.google.com with SMTP id d2e1a72fcca58-7b80fed1505so6080078b3a.3 for ; Wed, 19 Nov 2025 06:37:52 -0800 (PST) DKIM-Signature: v=1; a=rsa-sha256; c=relaxed/relaxed; d=iol.unh.edu; s=unh-iol; t=1763563072; x=1764167872; darn=dpdk.org; h=references:in-reply-to:cc:to:from:subject:message-id:date:from:to :cc:subject:date:message-id:reply-to; bh=P7IzbpyUepUIEclJV0S+ltJ7fTIWiGhv1DFhFHYGEms=; b=iptWWOGo4QMLILZ8WJntn3jqabDy398gmzR2ES76HblAngLuwaM9rmt0xIqMSVkHSL HzujkJcFJHoez9Nyg4nabUztXoPrivCh52HnGpfJUNMDMdovK+j3RzMnFE82PSm5L+ul JbyuWy3WhI7ZOE1J3lbjKpKzmOlHqv3jK/AQU= X-Google-DKIM-Signature: v=1; a=rsa-sha256; c=relaxed/relaxed; d=1e100.net; s=20230601; t=1763563072; x=1764167872; h=references:in-reply-to:cc:to:from:subject:message-id:date:x-gm-gg :x-gm-message-state:from:to:cc:subject:date:message-id:reply-to; bh=P7IzbpyUepUIEclJV0S+ltJ7fTIWiGhv1DFhFHYGEms=; b=TxmjLoI+4tQNmL6DRKIbAIbyFHvPEXhdEOsptTMGnj6qTwrivilXAQs48vye4X2jzG hy4jPbK0v7n9Cwxw8t9C2rkCNLiRG7g4A6q3tXD3MFyEOtwRLYdW32B6rFnGr1XmD2l7 OJW0tWXLct0QAImlIhxvVyG0/FaX9jhdmHMMrBOnnEYPGGXMF7PKWNTrMcCrtpjaKilv y028FOF80oKnYRd5BSkBbVSt832gbNN5LwsGXuQD9Yx8zbKM/5qsUSN26I9WFMdMz3+y jEAm57i25qTKy/Ru8NOuXbj5tofzI/yOeUPVYh1qXd8dQjtchxM0pmYsPlpCM4laObrk PQSw== X-Gm-Message-State: AOJu0Yw0VpRSyGHrDup77K7+Nt7X/YlNH3D3klhdN3+8w2lp2vtc98ao VtBHSHhsNI2kezxVPE/Ur3pJetPmckkcuggq2kbYpc/HzasIoJJiIc37nhjxC9vK3sDtfPfqBWH mKDCHAuDjEHcupXZhBn0IOrtEsWF8NotOwfM1WwbRTQLKZrS4bZO9OxMi/7eJ X-Gm-Gg: ASbGncvN7cSNtQ9NQ/mtDiGba4SJXNjOasKZVllOK7esU7DnQKx/WkgEGFY28kBpCXe 8a4xnze4CSB8I9wkjQNipcRarm4r5HX5nIx2lDXv0iPP2fLXjRBQ5yhQNesWMTxGinLrCoam+4H dK+LnYgedWb1s9I8ZCpvpe8DxMzc1xYF4PmfVChMdVMeHUseZUCXbLHLP4tn73qt7uy4CVt3UFq EpiFwATp3BNsxjS0QMzAnU5e/ECtNdcxRDHSBLM8PiByTYuE/fFpF9ekV7GhSoMqWRhjjL6ctcB u7CEVyusURJNPsptU+AQpHUYX3dw+6qxY8IfAzI2AffH273bpHMiamMAeLo6iosC13cDNOlyPS+ mVVANA9HhPjxTYZh7Wb4= X-Google-Smtp-Source: AGHT+IHGS0j56l99OCoOc4x3M1YL7gk+frv3llJ8GFqPExN/8+0+c2+YNsM69Mp1xNTCzmJw9COt8mJ4S7Ub X-Received: by 2002:a05:6a21:3287:b0:2db:f868:22c with SMTP id adf61e73a8af0-35ba1f964c8mr24052066637.40.1763563071585; Wed, 19 Nov 2025 06:37:51 -0800 (PST) Received: from postal.iol.unh.edu (postal.iol.unh.edu. [2606:4100:3880:1234::84]) by smtp-relay.gmail.com with ESMTPS id d2e1a72fcca58-7b9256bbb07sm1938386b3a.2.2025.11.19.06.37.51 (version=TLS1_2 cipher=ECDHE-ECDSA-AES128-GCM-SHA256 bits=128/128); Wed, 19 Nov 2025 06:37:51 -0800 (PST) X-Relaying-Domain: iol.unh.edu Date: Wed, 19 Nov 2025 06:37:51 -0800 (PST) Message-ID: <691dd63f.050a0220.15273b.0c55SMTPIN_ADDED_MISSING@mx.google.com> Received: from [172.21.0.3] (unknown [172.18.0.240]) by postal.iol.unh.edu (Postfix) with ESMTP id B886A6051830; Wed, 19 Nov 2025 09:37:50 -0500 (EST) Subject: |SUCCESS| pw158913-158930 [PATCH] [v5,18/18] vfio: introduce cdev mo From: dpdklab@iol.unh.edu To: Test Report Cc: dpdk-test-reports@iol.unh.edu In-Reply-To: <684f963686006c46a9b568b29c56494db9449148.1763550470.git.anatoly.burakov@intel.com> References: <684f963686006c46a9b568b29c56494db9449148.1763550470.git.anatoly.burakov@intel.com> Content-Type: text/plain X-BeenThere: test-report@dpdk.org X-Mailman-Version: 2.1.29 Precedence: list List-Id: automatic DPDK test reports List-Unsubscribe: , List-Archive: List-Post: List-Help: List-Subscribe: , Errors-To: test-report-bounces@dpdk.org Test-Label: iol-compile-amd64-testing Test-Status: SUCCESS http://dpdk.org/patch/158930 _Testing PASS_ Submitter: Anatoly Burakov Date: Wednesday, November 19 2025 11:08:16 DPDK git baseline: Repo:dpdk Branch: master CommitID:ef98b88455bf4a7c8b7aa3106a761c9e9270d6a3 158913-158930 --> testing pass Upstream job id: Windows-Compile-DPDK-Native#32525 Test environment and result as below: +---------------------+--------------------+-------------------+-------------------------+----------------------+ | Environment | dpdk_meson_compile | dpdk_msvc_compile | dpdk_llvm_clang_compile | dpdk_mingw64_compile | +=====================+====================+===================+=========================+======================+ | Ubuntu 20.04 | PASS | SKIPPED | SKIPPED | SKIPPED | +---------------------+--------------------+-------------------+-------------------------+----------------------+ | FreeBSD 14.2 | PASS | SKIPPED | SKIPPED | SKIPPED | +---------------------+--------------------+-------------------+-------------------------+----------------------+ | Windows Server 2022 | SKIPPED | PASS | PASS | PASS | +---------------------+--------------------+-------------------+-------------------------+----------------------+ Ubuntu 20.04 Kernel: 4.19 Compiler: gcc gcc (Ubuntu 9.4.0-1ubuntu1~20.04.2) 9.4.0 FreeBSD 14.2 Kernel: 14.2-RELEASE Compiler: clang 18.1.6 Windows Server 2022 Kernel: 10.0.20348.2031 Compiler: clang 15.0.7, gcc 14.1.0 (MinGW), and MSVC VS 19.39.33521 To view detailed results, visit: https://lab.dpdk.org/results/dashboard/patchsets/34641/ UNH-IOL DPDK Community Lab To manage your email subscriptions, visit: https://lab.dpdk.org/results/dashboard/preferences/subscriptions/