* [dpdk-test-report] |SUCCESS| pw60528 [PATCH v3] eventdev: flag to identify same destined packets enqueue
[not found] <20191004104748.13803-1-nipun.gupta@nxp.com>
@ 2019-10-04 11:04 ` checkpatch
0 siblings, 0 replies; 4+ messages in thread
From: checkpatch @ 2019-10-04 11:04 UTC (permalink / raw)
To: test-report
Test-Label: checkpatch
Test-Status: SUCCESS
http://dpdk.org/patch/60528
_coding style OK_
^ permalink raw reply [flat|nested] 4+ messages in thread
* [dpdk-test-report] |SUCCESS| pw60528 [PATCH] [v3] eventdev: flag to identify same destined packets enqueue
@ 2019-10-04 12:48 dpdklab
0 siblings, 0 replies; 4+ messages in thread
From: dpdklab @ 2019-10-04 12:48 UTC (permalink / raw)
To: Ali Alnubani, Test Report; +Cc: dpdk-test-reports
[-- Attachment #1: Type: text/plain, Size: 3905 bytes --]
Test-Label: iol-mellanox-Performance
Test-Status: SUCCESS
http://dpdk.org/patch/60528
_Performance Testing PASS_
Submitter: Nipun Gupta <nipun.gupta@nxp.com>
Date: Friday, October 04 2019 10:47:48
DPDK git baseline: Repo:dpdk
Branch: master
CommitID:5b5bb56532fd5dea5d6260c0a0e405c0e32da2a0
60528 --> performance testing pass
Test environment and result as below:
Ubuntu 18.04
Kernel: 4.15.0-generic
GCC: 7.4
NIC: Mellanox ConnectX-5 100000 Mbps
Target: x86_64-native-linuxapp-gcc
Fail/Total: 0/6
Detail performance results:
+------------+---------+-------------------------------------+
| frame_size | txd/rxd | throughput difference from expected |
+============+=========+=====================================+
| 64 | 256 | -0.290 |
+------------+---------+-------------------------------------+
| 128 | 256 | -0.121 |
+------------+---------+-------------------------------------+
| 256 | 256 | -0.109 |
+------------+---------+-------------------------------------+
| 512 | 256 | 0.065 |
+------------+---------+-------------------------------------+
| 1024 | 256 | 0.017 |
+------------+---------+-------------------------------------+
| 1518 | 256 | 0.025 |
+------------+---------+-------------------------------------+
Ubuntu 18.04
Kernel: 4.15.0-generic
GCC: 7.4
NIC: Mellanox ConnectX-4 Lx 25000 Mbps
Target: x86_64-native-linuxapp-gcc
Fail/Total: 0/6
Detail performance results:
+------------+---------+-------------------------------------+
| frame_size | txd/rxd | throughput difference from expected |
+============+=========+=====================================+
| 64 | 256 | 0.071 |
+------------+---------+-------------------------------------+
| 128 | 256 | 0.056 |
+------------+---------+-------------------------------------+
| 256 | 256 | 0.009 |
+------------+---------+-------------------------------------+
| 512 | 256 | 0.006 |
+------------+---------+-------------------------------------+
| 1024 | 256 | 0.001 |
+------------+---------+-------------------------------------+
| 1518 | 256 | -0.008 |
+------------+---------+-------------------------------------+
Ubuntu 18.04
Kernel: 4.15.0-generic
GCC: 7.4
NIC: Mellanox ConnectX-4 Lx 40000 Mbps
Target: x86_64-native-linuxapp-gcc
Fail/Total: 0/6
Detail performance results:
+------------+---------+-------------------------------------+
| frame_size | txd/rxd | throughput difference from expected |
+============+=========+=====================================+
| 64 | 256 | -0.112 |
+------------+---------+-------------------------------------+
| 128 | 256 | 0.044 |
+------------+---------+-------------------------------------+
| 256 | 256 | 0.083 |
+------------+---------+-------------------------------------+
| 512 | 256 | 0 |
+------------+---------+-------------------------------------+
| 1024 | 256 | 0.020 |
+------------+---------+-------------------------------------+
| 1518 | 256 | 0.007 |
+------------+---------+-------------------------------------+
https://lab.dpdk.org/results/dashboard/patchsets/7784/
UNH-IOL DPDK Performance Test Lab
To manage your email subscriptions visit:
https://lab.dpdk.org/results/dashboard/preferences/subscriptions/
^ permalink raw reply [flat|nested] 4+ messages in thread
* [dpdk-test-report] |SUCCESS| pw60528 [PATCH] [v3] eventdev: flag to identify same destined packets enqueue
@ 2019-10-04 12:10 dpdklab
0 siblings, 0 replies; 4+ messages in thread
From: dpdklab @ 2019-10-04 12:10 UTC (permalink / raw)
To: Test Report; +Cc: dpdk-test-reports
[-- Attachment #1: Type: text/plain, Size: 1990 bytes --]
Test-Label: iol-intel-Performance
Test-Status: SUCCESS
http://dpdk.org/patch/60528
_Performance Testing PASS_
Submitter: Nipun Gupta <nipun.gupta@nxp.com>
Date: Friday, October 04 2019 10:47:48
DPDK git baseline: Repo:dpdk
Branch: master
CommitID:5b5bb56532fd5dea5d6260c0a0e405c0e32da2a0
60528 --> performance testing pass
Test environment and result as below:
Ubuntu 18.04
Kernel: 4.15.0-generic
GCC: 7.4
NIC: Intel Corporation Ethernet Converged Network Adapter 82599ES 10000 Mbps
Target: x86_64-native-linuxapp-gcc
Fail/Total: 0/3
Detail performance results:
+------------+---------+-------------------------------------+
| frame_size | txd/rxd | throughput difference from expected |
+============+=========+=====================================+
| 64 | 128 | -0.100 |
+------------+---------+-------------------------------------+
| 64 | 512 | 0.021 |
+------------+---------+-------------------------------------+
| 64 | 2048 | -0.181 |
+------------+---------+-------------------------------------+
Ubuntu 18.04
Kernel: 4.15.0-generic
GCC: 7.4
NIC: Intel Corporation Ethernet Converged Network Adapter XL710-QDA2 40000 Mbps
Target: x86_64-native-linuxapp-gcc
Fail/Total: 0/2
Detail performance results:
+------------+---------+-------------------------------------+
| frame_size | txd/rxd | throughput difference from expected |
+============+=========+=====================================+
| 64 | 512 | 0.441 |
+------------+---------+-------------------------------------+
| 64 | 2048 | -0.063 |
+------------+---------+-------------------------------------+
https://lab.dpdk.org/results/dashboard/patchsets/7784/
UNH-IOL DPDK Performance Test Lab
To manage your email subscriptions visit:
https://lab.dpdk.org/results/dashboard/preferences/subscriptions/
^ permalink raw reply [flat|nested] 4+ messages in thread
* [dpdk-test-report] |SUCCESS| pw60528 [PATCH] [v3] eventdev: flag to identify same destined packets enqueue
@ 2019-10-04 12:05 dpdklab
0 siblings, 0 replies; 4+ messages in thread
From: dpdklab @ 2019-10-04 12:05 UTC (permalink / raw)
To: Test Report; +Cc: dpdk-test-reports
[-- Attachment #1: Type: text/plain, Size: 1141 bytes --]
Test-Label: iol-compilation
Test-Status: SUCCESS
http://dpdk.org/patch/60528
_Compile Testing PASS_
Submitter: Nipun Gupta <nipun.gupta@nxp.com>
Date: Friday, October 04 2019 10:47:48
DPDK git baseline: Repo:dpdk
Branch: master
CommitID:5b5bb56532fd5dea5d6260c0a0e405c0e32da2a0
60528 --> compile testing pass
Test environment and result as below:
+--------------+--------------+------------------+-------------------+
| Environment | dpdk_compile | dpdk_compile_ovs | dpdk_compile_spdk |
+==============+==============+==================+===================+
| FreeBSD 11.2 | PASS | | PASS |
+--------------+--------------+------------------+-------------------+
| Ubuntu 18.04 | PASS | PASS | PASS |
+--------------+--------------+------------------+-------------------+
FreeBSD 11.2
Kernel: 11.2
GCC: 8.3
Ubuntu 18.04
Kernel: 4.15.0-generic
GCC: 7.4
https://lab.dpdk.org/results/dashboard/patchsets/7784/
UNH-IOL DPDK Performance Test Lab
To manage your email subscriptions visit:
https://lab.dpdk.org/results/dashboard/preferences/subscriptions/
^ permalink raw reply [flat|nested] 4+ messages in thread
end of thread, other threads:[~2019-10-04 12:48 UTC | newest]
Thread overview: 4+ messages (download: mbox.gz / follow: Atom feed)
-- links below jump to the message on this page --
[not found] <20191004104748.13803-1-nipun.gupta@nxp.com>
2019-10-04 11:04 ` [dpdk-test-report] |SUCCESS| pw60528 [PATCH v3] eventdev: flag to identify same destined packets enqueue checkpatch
2019-10-04 12:05 [dpdk-test-report] |SUCCESS| pw60528 [PATCH] [v3] " dpdklab
2019-10-04 12:10 dpdklab
2019-10-04 12:48 dpdklab
This is a public inbox, see mirroring instructions
for how to clone and mirror all data and code used for this inbox;
as well as URLs for NNTP newsgroup(s).