* [dpdk-test-report] |SUCCESS| pw60753-60761 [PATCH] [v10, 1/9] vhost: add the inflight description
@ 2019-10-09 12:20 dpdklab
0 siblings, 0 replies; 2+ messages in thread
From: dpdklab @ 2019-10-09 12:20 UTC (permalink / raw)
To: Test Report; +Cc: dpdk-test-reports
[-- Attachment #1: Type: text/plain, Size: 1142 bytes --]
Test-Label: iol-compilation
Test-Status: SUCCESS
http://dpdk.org/patch/60753
_Compile Testing PASS_
Submitter: Jin Yu <jin.yu@intel.com>
Date: Wednesday, October 09 2019 15:25:07
DPDK git baseline: Repo:dpdk
Branch: master
CommitID:5b5bb56532fd5dea5d6260c0a0e405c0e32da2a0
60753-60761 --> compile testing pass
Test environment and result as below:
+--------------+------------------+-------------------+--------------+
| Environment | dpdk_compile_ovs | dpdk_compile_spdk | dpdk_compile |
+==============+==================+===================+==============+
| Ubuntu 18.04 | PASS | PASS | PASS |
+--------------+------------------+-------------------+--------------+
| FreeBSD 11.2 | | PASS | PASS |
+--------------+------------------+-------------------+--------------+
Ubuntu 18.04
Kernel: 4.15.0-generic
GCC: 7.4
FreeBSD 11.2
Kernel: 11.2
GCC: 8.3
https://lab.dpdk.org/results/dashboard/patchsets/7844/
UNH-IOL DPDK Performance Test Lab
To manage your email subscriptions visit:
https://lab.dpdk.org/results/dashboard/preferences/subscriptions/
^ permalink raw reply [flat|nested] 2+ messages in thread
* [dpdk-test-report] |SUCCESS| pw60753-60761 [PATCH] [v10, 1/9] vhost: add the inflight description
@ 2019-10-09 12:52 dpdklab
0 siblings, 0 replies; 2+ messages in thread
From: dpdklab @ 2019-10-09 12:52 UTC (permalink / raw)
To: Ali Alnubani, Test Report; +Cc: dpdk-test-reports
[-- Attachment #1: Type: text/plain, Size: 3906 bytes --]
Test-Label: iol-mellanox-Performance
Test-Status: SUCCESS
http://dpdk.org/patch/60753
_Performance Testing PASS_
Submitter: Jin Yu <jin.yu@intel.com>
Date: Wednesday, October 09 2019 15:25:07
DPDK git baseline: Repo:dpdk
Branch: master
CommitID:5b5bb56532fd5dea5d6260c0a0e405c0e32da2a0
60753-60761 --> performance testing pass
Test environment and result as below:
Ubuntu 18.04
Kernel: 4.15.0-generic
GCC: 7.4
NIC: Mellanox ConnectX-4 Lx 25000 Mbps
Target: x86_64-native-linuxapp-gcc
Fail/Total: 0/6
Detail performance results:
+------------+---------+-------------------------------------+
| frame_size | txd/rxd | throughput difference from expected |
+============+=========+=====================================+
| 64 | 256 | -0.088 |
+------------+---------+-------------------------------------+
| 128 | 256 | 0.151 |
+------------+---------+-------------------------------------+
| 256 | 256 | 0.438 |
+------------+---------+-------------------------------------+
| 512 | 256 | 0.017 |
+------------+---------+-------------------------------------+
| 1024 | 256 | 0.017 |
+------------+---------+-------------------------------------+
| 1518 | 256 | -0.013 |
+------------+---------+-------------------------------------+
Ubuntu 18.04
Kernel: 4.15.0-generic
GCC: 7.4
NIC: Mellanox ConnectX-5 100000 Mbps
Target: x86_64-native-linuxapp-gcc
Fail/Total: 0/6
Detail performance results:
+------------+---------+-------------------------------------+
| frame_size | txd/rxd | throughput difference from expected |
+============+=========+=====================================+
| 64 | 256 | -0.222 |
+------------+---------+-------------------------------------+
| 128 | 256 | 0.101 |
+------------+---------+-------------------------------------+
| 256 | 256 | 0.280 |
+------------+---------+-------------------------------------+
| 512 | 256 | 0.156 |
+------------+---------+-------------------------------------+
| 1024 | 256 | 0.098 |
+------------+---------+-------------------------------------+
| 1518 | 256 | -0.048 |
+------------+---------+-------------------------------------+
Ubuntu 18.04
Kernel: 4.15.0-generic
GCC: 7.4
NIC: Mellanox ConnectX-4 Lx 40000 Mbps
Target: x86_64-native-linuxapp-gcc
Fail/Total: 0/6
Detail performance results:
+------------+---------+-------------------------------------+
| frame_size | txd/rxd | throughput difference from expected |
+============+=========+=====================================+
| 64 | 256 | -0.324 |
+------------+---------+-------------------------------------+
| 128 | 256 | 0.194 |
+------------+---------+-------------------------------------+
| 256 | 256 | 0.679 |
+------------+---------+-------------------------------------+
| 512 | 256 | -0.003 |
+------------+---------+-------------------------------------+
| 1024 | 256 | -0.002 |
+------------+---------+-------------------------------------+
| 1518 | 256 | 0.021 |
+------------+---------+-------------------------------------+
https://lab.dpdk.org/results/dashboard/patchsets/7844/
UNH-IOL DPDK Performance Test Lab
To manage your email subscriptions visit:
https://lab.dpdk.org/results/dashboard/preferences/subscriptions/
^ permalink raw reply [flat|nested] 2+ messages in thread
end of thread, other threads:[~2019-10-09 12:52 UTC | newest]
Thread overview: 2+ messages (download: mbox.gz / follow: Atom feed)
-- links below jump to the message on this page --
2019-10-09 12:20 [dpdk-test-report] |SUCCESS| pw60753-60761 [PATCH] [v10, 1/9] vhost: add the inflight description dpdklab
2019-10-09 12:52 dpdklab
This is a public inbox, see mirroring instructions
for how to clone and mirror all data and code used for this inbox;
as well as URLs for NNTP newsgroup(s).