* [dpdk-test-report] |SUCCESS| [GIT MASTER] cfd0ff81b3a4c82ddbd47cab51e9e0fa324b43ab
@ 2019-10-16 11:11 dpdklab
0 siblings, 0 replies; 3+ messages in thread
From: dpdklab @ 2019-10-16 11:11 UTC (permalink / raw)
To: Test Report; +Cc: dpdk-test-reports
[-- Attachment #1: Type: text/plain, Size: 941 bytes --]
_Compile Testing PASS_
Branch: dpdk-next-eventdev
cfd0ff81b3a4c82ddbd47cab51e9e0fa324b43ab --> compile testing pass
Test environment and result as below:
+--------------+--------------+-------------------+------------------+
| Environment | dpdk_compile | dpdk_compile_spdk | dpdk_compile_ovs |
+==============+==============+===================+==================+
| Ubuntu 18.04 | PASS | PASS | PASS |
+--------------+--------------+-------------------+------------------+
| FreeBSD 11.2 | PASS | PASS | |
+--------------+--------------+-------------------+------------------+
Ubuntu 18.04
Kernel: 4.15.0-generic
GCC: 7.4
FreeBSD 11.2
Kernel: 11.2
GCC: 8.3
https://lab.dpdk.org/results/dashboard/tarballs/6578/
UNH-IOL DPDK Performance Test Lab
To manage your email subscriptions visit:
https://lab.dpdk.org/results/dashboard/preferences/subscriptions/
^ permalink raw reply [flat|nested] 3+ messages in thread
* [dpdk-test-report] |SUCCESS| [GIT MASTER] cfd0ff81b3a4c82ddbd47cab51e9e0fa324b43ab
@ 2019-10-16 12:09 dpdklab
0 siblings, 0 replies; 3+ messages in thread
From: dpdklab @ 2019-10-16 12:09 UTC (permalink / raw)
To: Ali Alnubani, Test Report; +Cc: dpdk-test-reports
[-- Attachment #1: Type: text/plain, Size: 3696 bytes --]
_Performance Testing PASS_
Branch: dpdk-next-eventdev
cfd0ff81b3a4c82ddbd47cab51e9e0fa324b43ab --> performance testing pass
Test environment and result as below:
Ubuntu 18.04
Kernel: 4.15.0-generic
GCC: 7.4
NIC: Mellanox ConnectX-5 100000 Mbps
Target: x86_64-native-linuxapp-gcc
Fail/Total: 0/6
Detail performance results:
+------------+---------+-------------------------------------+
| frame_size | txd/rxd | throughput difference from expected |
+============+=========+=====================================+
| 64 | 256 | 0.009 |
+------------+---------+-------------------------------------+
| 128 | 256 | -0.036 |
+------------+---------+-------------------------------------+
| 256 | 256 | 0.085 |
+------------+---------+-------------------------------------+
| 512 | 256 | -0.174 |
+------------+---------+-------------------------------------+
| 1024 | 256 | 0.018 |
+------------+---------+-------------------------------------+
| 1518 | 256 | -0.008 |
+------------+---------+-------------------------------------+
Ubuntu 18.04
Kernel: 4.15.0-generic
GCC: 7.4
NIC: Mellanox ConnectX-4 Lx 40000 Mbps
Target: x86_64-native-linuxapp-gcc
Fail/Total: 0/6
Detail performance results:
+------------+---------+-------------------------------------+
| frame_size | txd/rxd | throughput difference from expected |
+============+=========+=====================================+
| 64 | 256 | 0.131 |
+------------+---------+-------------------------------------+
| 128 | 256 | 0.218 |
+------------+---------+-------------------------------------+
| 256 | 256 | -0.012 |
+------------+---------+-------------------------------------+
| 512 | 256 | -0.049 |
+------------+---------+-------------------------------------+
| 1024 | 256 | -0.012 |
+------------+---------+-------------------------------------+
| 1518 | 256 | -0.001 |
+------------+---------+-------------------------------------+
Ubuntu 18.04
Kernel: 4.15.0-generic
GCC: 7.4
NIC: Mellanox ConnectX-4 Lx 25000 Mbps
Target: x86_64-native-linuxapp-gcc
Fail/Total: 0/6
Detail performance results:
+------------+---------+-------------------------------------+
| frame_size | txd/rxd | throughput difference from expected |
+============+=========+=====================================+
| 64 | 256 | -0.257 |
+------------+---------+-------------------------------------+
| 128 | 256 | 0.066 |
+------------+---------+-------------------------------------+
| 256 | 256 | 0.014 |
+------------+---------+-------------------------------------+
| 512 | 256 | -0.003 |
+------------+---------+-------------------------------------+
| 1024 | 256 | -0.015 |
+------------+---------+-------------------------------------+
| 1518 | 256 | -0.001 |
+------------+---------+-------------------------------------+
https://lab.dpdk.org/results/dashboard/tarballs/6578/
UNH-IOL DPDK Performance Test Lab
To manage your email subscriptions visit:
https://lab.dpdk.org/results/dashboard/preferences/subscriptions/
^ permalink raw reply [flat|nested] 3+ messages in thread
* [dpdk-test-report] |SUCCESS| [GIT MASTER] cfd0ff81b3a4c82ddbd47cab51e9e0fa324b43ab
@ 2019-10-16 11:17 dpdklab
0 siblings, 0 replies; 3+ messages in thread
From: dpdklab @ 2019-10-16 11:17 UTC (permalink / raw)
To: Test Report; +Cc: dpdk-test-reports
[-- Attachment #1: Type: text/plain, Size: 1784 bytes --]
_Performance Testing PASS_
Branch: dpdk-next-eventdev
cfd0ff81b3a4c82ddbd47cab51e9e0fa324b43ab --> performance testing pass
Test environment and result as below:
Ubuntu 18.04
Kernel: 4.15.0-generic
GCC: 7.4
NIC: Intel Corporation Ethernet Converged Network Adapter 82599ES 10000 Mbps
Target: x86_64-native-linuxapp-gcc
Fail/Total: 0/3
Detail performance results:
+------------+---------+-------------------------------------+
| frame_size | txd/rxd | throughput difference from expected |
+============+=========+=====================================+
| 64 | 128 | -0.089 |
+------------+---------+-------------------------------------+
| 64 | 512 | 0.464 |
+------------+---------+-------------------------------------+
| 64 | 2048 | 0.289 |
+------------+---------+-------------------------------------+
Ubuntu 18.04
Kernel: 4.15.0-generic
GCC: 7.4
NIC: Intel Corporation Ethernet Converged Network Adapter XL710-QDA2 40000 Mbps
Target: x86_64-native-linuxapp-gcc
Fail/Total: 0/2
Detail performance results:
+------------+---------+-------------------------------------+
| frame_size | txd/rxd | throughput difference from expected |
+============+=========+=====================================+
| 64 | 512 | 0.178 |
+------------+---------+-------------------------------------+
| 64 | 2048 | 0.097 |
+------------+---------+-------------------------------------+
https://lab.dpdk.org/results/dashboard/tarballs/6578/
UNH-IOL DPDK Performance Test Lab
To manage your email subscriptions visit:
https://lab.dpdk.org/results/dashboard/preferences/subscriptions/
^ permalink raw reply [flat|nested] 3+ messages in thread
end of thread, other threads:[~2019-10-16 12:09 UTC | newest]
Thread overview: 3+ messages (download: mbox.gz / follow: Atom feed)
-- links below jump to the message on this page --
2019-10-16 11:11 [dpdk-test-report] |SUCCESS| [GIT MASTER] cfd0ff81b3a4c82ddbd47cab51e9e0fa324b43ab dpdklab
2019-10-16 11:17 dpdklab
2019-10-16 12:09 dpdklab
This is a public inbox, see mirroring instructions
for how to clone and mirror all data and code used for this inbox;
as well as URLs for NNTP newsgroup(s).