* [dpdk-test-report] |SUCCESS| [GIT MASTER] 5005bcda71239fa25b48811dff64d6050d3bc4a3
@ 2019-10-16 15:28 dpdklab
0 siblings, 0 replies; 3+ messages in thread
From: dpdklab @ 2019-10-16 15:28 UTC (permalink / raw)
To: Test Report; +Cc: dpdk-test-reports
[-- Attachment #1: Type: text/plain, Size: 939 bytes --]
_Compile Testing PASS_
Branch: dpdk-next-virtio
5005bcda71239fa25b48811dff64d6050d3bc4a3 --> compile testing pass
Test environment and result as below:
+--------------+------------------+--------------+-------------------+
| Environment | dpdk_compile_ovs | dpdk_compile | dpdk_compile_spdk |
+==============+==================+==============+===================+
| Ubuntu 18.04 | PASS | PASS | PASS |
+--------------+------------------+--------------+-------------------+
| FreeBSD 11.2 | | PASS | PASS |
+--------------+------------------+--------------+-------------------+
Ubuntu 18.04
Kernel: 4.15.0-generic
GCC: 7.4
FreeBSD 11.2
Kernel: 11.2
GCC: 8.3
https://lab.dpdk.org/results/dashboard/tarballs/6583/
UNH-IOL DPDK Performance Test Lab
To manage your email subscriptions visit:
https://lab.dpdk.org/results/dashboard/preferences/subscriptions/
^ permalink raw reply [flat|nested] 3+ messages in thread
* [dpdk-test-report] |SUCCESS| [GIT MASTER] 5005bcda71239fa25b48811dff64d6050d3bc4a3
@ 2019-10-16 17:11 dpdklab
0 siblings, 0 replies; 3+ messages in thread
From: dpdklab @ 2019-10-16 17:11 UTC (permalink / raw)
To: Ali Alnubani, Test Report; +Cc: dpdk-test-reports
[-- Attachment #1: Type: text/plain, Size: 3694 bytes --]
_Performance Testing PASS_
Branch: dpdk-next-virtio
5005bcda71239fa25b48811dff64d6050d3bc4a3 --> performance testing pass
Test environment and result as below:
Ubuntu 18.04
Kernel: 4.15.0-generic
GCC: 7.4
NIC: Mellanox ConnectX-5 100000 Mbps
Target: x86_64-native-linuxapp-gcc
Fail/Total: 0/6
Detail performance results:
+------------+---------+-------------------------------------+
| frame_size | txd/rxd | throughput difference from expected |
+============+=========+=====================================+
| 64 | 256 | -0.503 |
+------------+---------+-------------------------------------+
| 128 | 256 | 0.042 |
+------------+---------+-------------------------------------+
| 256 | 256 | 0.228 |
+------------+---------+-------------------------------------+
| 512 | 256 | 0.043 |
+------------+---------+-------------------------------------+
| 1024 | 256 | 0.020 |
+------------+---------+-------------------------------------+
| 1518 | 256 | 0.018 |
+------------+---------+-------------------------------------+
Ubuntu 18.04
Kernel: 4.15.0-generic
GCC: 7.4
NIC: Mellanox ConnectX-4 Lx 40000 Mbps
Target: x86_64-native-linuxapp-gcc
Fail/Total: 0/6
Detail performance results:
+------------+---------+-------------------------------------+
| frame_size | txd/rxd | throughput difference from expected |
+============+=========+=====================================+
| 64 | 256 | 0.230 |
+------------+---------+-------------------------------------+
| 128 | 256 | 0.449 |
+------------+---------+-------------------------------------+
| 256 | 256 | 0.103 |
+------------+---------+-------------------------------------+
| 512 | 256 | -0.036 |
+------------+---------+-------------------------------------+
| 1024 | 256 | -0.014 |
+------------+---------+-------------------------------------+
| 1518 | 256 | 0.004 |
+------------+---------+-------------------------------------+
Ubuntu 18.04
Kernel: 4.15.0-generic
GCC: 7.4
NIC: Mellanox ConnectX-4 Lx 25000 Mbps
Target: x86_64-native-linuxapp-gcc
Fail/Total: 0/6
Detail performance results:
+------------+---------+-------------------------------------+
| frame_size | txd/rxd | throughput difference from expected |
+============+=========+=====================================+
| 64 | 256 | -0.060 |
+------------+---------+-------------------------------------+
| 128 | 256 | 0.193 |
+------------+---------+-------------------------------------+
| 256 | 256 | 0.011 |
+------------+---------+-------------------------------------+
| 512 | 256 | 0.035 |
+------------+---------+-------------------------------------+
| 1024 | 256 | -0.012 |
+------------+---------+-------------------------------------+
| 1518 | 256 | 0.014 |
+------------+---------+-------------------------------------+
https://lab.dpdk.org/results/dashboard/tarballs/6583/
UNH-IOL DPDK Performance Test Lab
To manage your email subscriptions visit:
https://lab.dpdk.org/results/dashboard/preferences/subscriptions/
^ permalink raw reply [flat|nested] 3+ messages in thread
* [dpdk-test-report] |SUCCESS| [GIT MASTER] 5005bcda71239fa25b48811dff64d6050d3bc4a3
@ 2019-10-16 15:34 dpdklab
0 siblings, 0 replies; 3+ messages in thread
From: dpdklab @ 2019-10-16 15:34 UTC (permalink / raw)
To: Test Report; +Cc: dpdk-test-reports
[-- Attachment #1: Type: text/plain, Size: 1782 bytes --]
_Performance Testing PASS_
Branch: dpdk-next-virtio
5005bcda71239fa25b48811dff64d6050d3bc4a3 --> performance testing pass
Test environment and result as below:
Ubuntu 18.04
Kernel: 4.15.0-generic
GCC: 7.4
NIC: Intel Corporation Ethernet Converged Network Adapter 82599ES 10000 Mbps
Target: x86_64-native-linuxapp-gcc
Fail/Total: 0/3
Detail performance results:
+------------+---------+-------------------------------------+
| frame_size | txd/rxd | throughput difference from expected |
+============+=========+=====================================+
| 64 | 128 | -0.082 |
+------------+---------+-------------------------------------+
| 64 | 512 | 0.177 |
+------------+---------+-------------------------------------+
| 64 | 2048 | -0.096 |
+------------+---------+-------------------------------------+
Ubuntu 18.04
Kernel: 4.15.0-generic
GCC: 7.4
NIC: Intel Corporation Ethernet Converged Network Adapter XL710-QDA2 40000 Mbps
Target: x86_64-native-linuxapp-gcc
Fail/Total: 0/2
Detail performance results:
+------------+---------+-------------------------------------+
| frame_size | txd/rxd | throughput difference from expected |
+============+=========+=====================================+
| 64 | 512 | 0.429 |
+------------+---------+-------------------------------------+
| 64 | 2048 | 0.172 |
+------------+---------+-------------------------------------+
https://lab.dpdk.org/results/dashboard/tarballs/6583/
UNH-IOL DPDK Performance Test Lab
To manage your email subscriptions visit:
https://lab.dpdk.org/results/dashboard/preferences/subscriptions/
^ permalink raw reply [flat|nested] 3+ messages in thread
end of thread, other threads:[~2019-10-16 17:11 UTC | newest]
Thread overview: 3+ messages (download: mbox.gz / follow: Atom feed)
-- links below jump to the message on this page --
2019-10-16 15:28 [dpdk-test-report] |SUCCESS| [GIT MASTER] 5005bcda71239fa25b48811dff64d6050d3bc4a3 dpdklab
2019-10-16 15:34 dpdklab
2019-10-16 17:11 dpdklab
This is a public inbox, see mirroring instructions
for how to clone and mirror all data and code used for this inbox;
as well as URLs for NNTP newsgroup(s).