* [dpdk-test-report] |SUCCESS| pw61315-61325 [PATCH] [v3, 01/11] crypto/octeontx2: add PMD skeleton
@ 2019-10-16 15:59 dpdklab
0 siblings, 0 replies; 3+ messages in thread
From: dpdklab @ 2019-10-16 15:59 UTC (permalink / raw)
To: Test Report; +Cc: dpdk-test-reports
[-- Attachment #1: Type: text/plain, Size: 2011 bytes --]
Test-Label: iol-intel-Performance
Test-Status: SUCCESS
http://dpdk.org/patch/61315
_Performance Testing PASS_
Submitter: Anoob Joseph <anoobj@marvell.com>
Date: Wednesday, October 16 2019 15:25:34
DPDK git baseline: Repo:dpdk-next-crypto
Branch: master
CommitID:36112de91a441dd87564fdd14911a89941e84701
61315-61325 --> performance testing pass
Test environment and result as below:
Ubuntu 18.04
Kernel: 4.15.0-generic
GCC: 7.4
NIC: Intel Corporation Ethernet Converged Network Adapter 82599ES 10000 Mbps
Target: x86_64-native-linuxapp-gcc
Fail/Total: 0/3
Detail performance results:
+------------+---------+-------------------------------------+
| frame_size | txd/rxd | throughput difference from expected |
+============+=========+=====================================+
| 64 | 128 | 0.149 |
+------------+---------+-------------------------------------+
| 64 | 512 | -0.084 |
+------------+---------+-------------------------------------+
| 64 | 2048 | -0.372 |
+------------+---------+-------------------------------------+
Ubuntu 18.04
Kernel: 4.15.0-generic
GCC: 7.4
NIC: Intel Corporation Ethernet Converged Network Adapter XL710-QDA2 40000 Mbps
Target: x86_64-native-linuxapp-gcc
Fail/Total: 0/2
Detail performance results:
+------------+---------+-------------------------------------+
| frame_size | txd/rxd | throughput difference from expected |
+============+=========+=====================================+
| 64 | 512 | -0.386 |
+------------+---------+-------------------------------------+
| 64 | 2048 | -0.108 |
+------------+---------+-------------------------------------+
https://lab.dpdk.org/results/dashboard/patchsets/7976/
UNH-IOL DPDK Performance Test Lab
To manage your email subscriptions visit:
https://lab.dpdk.org/results/dashboard/preferences/subscriptions/
^ permalink raw reply [flat|nested] 3+ messages in thread
* [dpdk-test-report] |SUCCESS| pw61315-61325 [PATCH] [v3, 01/11] crypto/octeontx2: add PMD skeleton
@ 2019-10-16 18:28 dpdklab
0 siblings, 0 replies; 3+ messages in thread
From: dpdklab @ 2019-10-16 18:28 UTC (permalink / raw)
To: Ali Alnubani, Test Report; +Cc: dpdk-test-reports
[-- Attachment #1: Type: text/plain, Size: 3926 bytes --]
Test-Label: iol-mellanox-Performance
Test-Status: SUCCESS
http://dpdk.org/patch/61315
_Performance Testing PASS_
Submitter: Anoob Joseph <anoobj@marvell.com>
Date: Wednesday, October 16 2019 15:25:34
DPDK git baseline: Repo:dpdk-next-crypto
Branch: master
CommitID:36112de91a441dd87564fdd14911a89941e84701
61315-61325 --> performance testing pass
Test environment and result as below:
Ubuntu 18.04
Kernel: 4.15.0-generic
GCC: 7.4
NIC: Mellanox ConnectX-4 Lx 40000 Mbps
Target: x86_64-native-linuxapp-gcc
Fail/Total: 0/6
Detail performance results:
+------------+---------+-------------------------------------+
| frame_size | txd/rxd | throughput difference from expected |
+============+=========+=====================================+
| 64 | 256 | -0.061 |
+------------+---------+-------------------------------------+
| 128 | 256 | -0.030 |
+------------+---------+-------------------------------------+
| 256 | 256 | 0.001 |
+------------+---------+-------------------------------------+
| 512 | 256 | 0 |
+------------+---------+-------------------------------------+
| 1024 | 256 | -0.012 |
+------------+---------+-------------------------------------+
| 1518 | 256 | 0.016 |
+------------+---------+-------------------------------------+
Ubuntu 18.04
Kernel: 4.15.0-generic
GCC: 7.4
NIC: Mellanox ConnectX-5 100000 Mbps
Target: x86_64-native-linuxapp-gcc
Fail/Total: 0/6
Detail performance results:
+------------+---------+-------------------------------------+
| frame_size | txd/rxd | throughput difference from expected |
+============+=========+=====================================+
| 64 | 256 | -0.102 |
+------------+---------+-------------------------------------+
| 128 | 256 | 0.083 |
+------------+---------+-------------------------------------+
| 256 | 256 | 0.100 |
+------------+---------+-------------------------------------+
| 512 | 256 | -0.036 |
+------------+---------+-------------------------------------+
| 1024 | 256 | -0.055 |
+------------+---------+-------------------------------------+
| 1518 | 256 | -0.004 |
+------------+---------+-------------------------------------+
Ubuntu 18.04
Kernel: 4.15.0-generic
GCC: 7.4
NIC: Mellanox ConnectX-4 Lx 25000 Mbps
Target: x86_64-native-linuxapp-gcc
Fail/Total: 0/6
Detail performance results:
+------------+---------+-------------------------------------+
| frame_size | txd/rxd | throughput difference from expected |
+============+=========+=====================================+
| 64 | 256 | -0.089 |
+------------+---------+-------------------------------------+
| 128 | 256 | 0.040 |
+------------+---------+-------------------------------------+
| 256 | 256 | -0.009 |
+------------+---------+-------------------------------------+
| 512 | 256 | -0.003 |
+------------+---------+-------------------------------------+
| 1024 | 256 | -0.016 |
+------------+---------+-------------------------------------+
| 1518 | 256 | 0.012 |
+------------+---------+-------------------------------------+
https://lab.dpdk.org/results/dashboard/patchsets/7976/
UNH-IOL DPDK Performance Test Lab
To manage your email subscriptions visit:
https://lab.dpdk.org/results/dashboard/preferences/subscriptions/
^ permalink raw reply [flat|nested] 3+ messages in thread
* [dpdk-test-report] |SUCCESS| pw61315-61325 [PATCH] [v3, 01/11] crypto/octeontx2: add PMD skeleton
@ 2019-10-16 16:07 dpdklab
0 siblings, 0 replies; 3+ messages in thread
From: dpdklab @ 2019-10-16 16:07 UTC (permalink / raw)
To: Test Report; +Cc: dpdk-test-reports
[-- Attachment #1: Type: text/plain, Size: 1346 bytes --]
Test-Label: iol-compilation
Test-Status: SUCCESS
http://dpdk.org/patch/61315
_Compile Testing PASS_
Submitter: Anoob Joseph <anoobj@marvell.com>
Date: Wednesday, October 16 2019 15:25:34
DPDK git baseline: Repo:dpdk-next-crypto
Branch: master
CommitID:36112de91a441dd87564fdd14911a89941e84701
61315-61325 --> compile testing pass
Test environment and result as below:
+--------------+-------------------+--------------+------------------+
| Environment | dpdk_compile_spdk | dpdk_compile | dpdk_compile_ovs |
+==============+===================+==============+==================+
| Ubuntu 18.04 | PASS | PASS | PASS |
+--------------+-------------------+--------------+------------------+
| FreeBSD 11.2 | PASS | PASS | |
+--------------+-------------------+--------------+------------------+
| CentOS 8 | | PASS | |
+--------------+-------------------+--------------+------------------+
Ubuntu 18.04
Kernel: 4.15.0-generic
GCC: 7.4
FreeBSD 11.2
Kernel: 11.2
GCC: 8.3
CentOS 8
Kernel: 4.18.0.el8_0
GCC: 8.2
https://lab.dpdk.org/results/dashboard/patchsets/7976/
UNH-IOL DPDK Performance Test Lab
To manage your email subscriptions visit:
https://lab.dpdk.org/results/dashboard/preferences/subscriptions/
^ permalink raw reply [flat|nested] 3+ messages in thread
end of thread, other threads:[~2019-10-16 18:28 UTC | newest]
Thread overview: 3+ messages (download: mbox.gz / follow: Atom feed)
-- links below jump to the message on this page --
2019-10-16 15:59 [dpdk-test-report] |SUCCESS| pw61315-61325 [PATCH] [v3, 01/11] crypto/octeontx2: add PMD skeleton dpdklab
2019-10-16 16:07 dpdklab
2019-10-16 18:28 dpdklab
This is a public inbox, see mirroring instructions
for how to clone and mirror all data and code used for this inbox;
as well as URLs for NNTP newsgroup(s).