Test-Label: checkpatch Test-Status: SUCCESS http://dpdk.org/patch/61367 _coding style OK_
From: robot@bytheb.org Test-Label: travis-robot Test-Status: WARNING http://dpdk.org/patch/61367 _Travis build: failed_ Build URL: https://travis-ci.com/ovsrobot/dpdk/builds/132324821
[-- Attachment #1: Type: text/plain, Size: 1998 bytes --] Test-Label: iol-intel-Performance Test-Status: SUCCESS http://dpdk.org/patch/61367 _Performance Testing PASS_ Submitter: Reshma Pattan <reshma.pattan@intel.com> Date: Thursday, October 17 2019 11:16:28 DPDK git baseline: Repo:dpdk Branch: master CommitID:a8f8ae1cf9b68f6398b49019ca07a215a57bba41 61367 --> performance testing pass Test environment and result as below: Ubuntu 18.04 Kernel: 4.15.0-generic GCC: 7.4 NIC: Intel Corporation Ethernet Converged Network Adapter 82599ES 10000 Mbps Target: x86_64-native-linuxapp-gcc Fail/Total: 0/3 Detail performance results: +------------+---------+-------------------------------------+ | frame_size | txd/rxd | throughput difference from expected | +============+=========+=====================================+ | 64 | 128 | -0.025 | +------------+---------+-------------------------------------+ | 64 | 512 | 0.011 | +------------+---------+-------------------------------------+ | 64 | 2048 | -0.563 | +------------+---------+-------------------------------------+ Ubuntu 18.04 Kernel: 4.15.0-generic GCC: 7.4 NIC: Intel Corporation Ethernet Converged Network Adapter XL710-QDA2 40000 Mbps Target: x86_64-native-linuxapp-gcc Fail/Total: 0/2 Detail performance results: +------------+---------+-------------------------------------+ | frame_size | txd/rxd | throughput difference from expected | +============+=========+=====================================+ | 64 | 512 | 1.365 | +------------+---------+-------------------------------------+ | 64 | 2048 | -0.171 | +------------+---------+-------------------------------------+ https://lab.dpdk.org/results/dashboard/patchsets/7992/ UNH-IOL DPDK Performance Test Lab To manage your email subscriptions visit: https://lab.dpdk.org/results/dashboard/preferences/subscriptions/
[-- Attachment #1: Type: text/plain, Size: 1333 bytes --] Test-Label: iol-compilation Test-Status: SUCCESS http://dpdk.org/patch/61367 _Compile Testing PASS_ Submitter: Reshma Pattan <reshma.pattan@intel.com> Date: Thursday, October 17 2019 11:16:28 DPDK git baseline: Repo:dpdk Branch: master CommitID:a8f8ae1cf9b68f6398b49019ca07a215a57bba41 61367 --> compile testing pass Test environment and result as below: +--------------+------------------+-------------------+--------------+ | Environment | dpdk_compile_ovs | dpdk_compile_spdk | dpdk_compile | +==============+==================+===================+==============+ | Ubuntu 18.04 | PASS | PASS | PASS | +--------------+------------------+-------------------+--------------+ | CentOS 8 | PASS | | PASS | +--------------+------------------+-------------------+--------------+ | FreeBSD 11.2 | | PASS | PASS | +--------------+------------------+-------------------+--------------+ Ubuntu 18.04 Kernel: 4.15.0-generic GCC: 7.4 CentOS 8 Kernel: 4.18.0.el8_0 GCC: 8.2 FreeBSD 11.2 Kernel: 11.2 GCC: 8.3 https://lab.dpdk.org/results/dashboard/patchsets/7992/ UNH-IOL DPDK Performance Test Lab To manage your email subscriptions visit: https://lab.dpdk.org/results/dashboard/preferences/subscriptions/
[-- Attachment #1: Type: text/plain, Size: 3913 bytes --] Test-Label: iol-mellanox-Performance Test-Status: SUCCESS http://dpdk.org/patch/61367 _Performance Testing PASS_ Submitter: Reshma Pattan <reshma.pattan@intel.com> Date: Thursday, October 17 2019 11:16:28 DPDK git baseline: Repo:dpdk Branch: master CommitID:a8f8ae1cf9b68f6398b49019ca07a215a57bba41 61367 --> performance testing pass Test environment and result as below: Ubuntu 18.04 Kernel: 4.15.0-generic GCC: 7.4 NIC: Mellanox ConnectX-4 Lx 40000 Mbps Target: x86_64-native-linuxapp-gcc Fail/Total: 0/6 Detail performance results: +------------+---------+-------------------------------------+ | frame_size | txd/rxd | throughput difference from expected | +============+=========+=====================================+ | 64 | 256 | 0.120 | +------------+---------+-------------------------------------+ | 128 | 256 | 0.351 | +------------+---------+-------------------------------------+ | 256 | 256 | 0.060 | +------------+---------+-------------------------------------+ | 512 | 256 | -0.045 | +------------+---------+-------------------------------------+ | 1024 | 256 | -0.013 | +------------+---------+-------------------------------------+ | 1518 | 256 | 0.005 | +------------+---------+-------------------------------------+ Ubuntu 18.04 Kernel: 4.15.0-generic GCC: 7.4 NIC: Mellanox ConnectX-5 100000 Mbps Target: x86_64-native-linuxapp-gcc Fail/Total: 0/6 Detail performance results: +------------+---------+-------------------------------------+ | frame_size | txd/rxd | throughput difference from expected | +============+=========+=====================================+ | 64 | 256 | -0.053 | +------------+---------+-------------------------------------+ | 128 | 256 | 0.080 | +------------+---------+-------------------------------------+ | 256 | 256 | 0.313 | +------------+---------+-------------------------------------+ | 512 | 256 | -0.016 | +------------+---------+-------------------------------------+ | 1024 | 256 | 0.021 | +------------+---------+-------------------------------------+ | 1518 | 256 | -0.003 | +------------+---------+-------------------------------------+ Ubuntu 18.04 Kernel: 4.15.0-generic GCC: 7.4 NIC: Mellanox ConnectX-4 Lx 25000 Mbps Target: x86_64-native-linuxapp-gcc Fail/Total: 0/6 Detail performance results: +------------+---------+-------------------------------------+ | frame_size | txd/rxd | throughput difference from expected | +============+=========+=====================================+ | 64 | 256 | 0.061 | +------------+---------+-------------------------------------+ | 128 | 256 | 0.027 | +------------+---------+-------------------------------------+ | 256 | 256 | 0.014 | +------------+---------+-------------------------------------+ | 512 | 256 | 0.027 | +------------+---------+-------------------------------------+ | 1024 | 256 | -0.012 | +------------+---------+-------------------------------------+ | 1518 | 256 | 0.009 | +------------+---------+-------------------------------------+ https://lab.dpdk.org/results/dashboard/patchsets/7992/ UNH-IOL DPDK Performance Test Lab To manage your email subscriptions visit: https://lab.dpdk.org/results/dashboard/preferences/subscriptions/