* [dpdk-test-report] |SUCCESS| [GIT MASTER] db8e4e4e5a23a89822fefbf3d1fb79c10332a7dd
@ 2019-10-17 15:49 dpdklab
0 siblings, 0 replies; 4+ messages in thread
From: dpdklab @ 2019-10-17 15:49 UTC (permalink / raw)
To: Test Report; +Cc: dpdk-test-reports
[-- Attachment #1: Type: text/plain, Size: 1782 bytes --]
_Performance Testing PASS_
Branch: dpdk-next-crypto
db8e4e4e5a23a89822fefbf3d1fb79c10332a7dd --> performance testing pass
Test environment and result as below:
Ubuntu 18.04
Kernel: 4.15.0-generic
GCC: 7.4
NIC: Intel Corporation Ethernet Converged Network Adapter 82599ES 10000 Mbps
Target: x86_64-native-linuxapp-gcc
Fail/Total: 0/3
Detail performance results:
+------------+---------+-------------------------------------+
| frame_size | txd/rxd | throughput difference from expected |
+============+=========+=====================================+
| 64 | 128 | 0.059 |
+------------+---------+-------------------------------------+
| 64 | 512 | 0.289 |
+------------+---------+-------------------------------------+
| 64 | 2048 | -0.281 |
+------------+---------+-------------------------------------+
Ubuntu 18.04
Kernel: 4.15.0-generic
GCC: 7.4
NIC: Intel Corporation Ethernet Converged Network Adapter XL710-QDA2 40000 Mbps
Target: x86_64-native-linuxapp-gcc
Fail/Total: 0/2
Detail performance results:
+------------+---------+-------------------------------------+
| frame_size | txd/rxd | throughput difference from expected |
+============+=========+=====================================+
| 64 | 512 | 0.784 |
+------------+---------+-------------------------------------+
| 64 | 2048 | -0.254 |
+------------+---------+-------------------------------------+
https://lab.dpdk.org/results/dashboard/tarballs/6594/
UNH-IOL DPDK Performance Test Lab
To manage your email subscriptions visit:
https://lab.dpdk.org/results/dashboard/preferences/subscriptions/
^ permalink raw reply [flat|nested] 4+ messages in thread
* [dpdk-test-report] |SUCCESS| [GIT MASTER] db8e4e4e5a23a89822fefbf3d1fb79c10332a7dd
@ 2019-10-17 15:49 dpdklab
0 siblings, 0 replies; 4+ messages in thread
From: dpdklab @ 2019-10-17 15:49 UTC (permalink / raw)
To: Ali Alnubani, Test Report; +Cc: dpdk-test-reports
[-- Attachment #1: Type: text/plain, Size: 1472 bytes --]
_Performance Testing PASS_
Branch: dpdk-next-crypto
db8e4e4e5a23a89822fefbf3d1fb79c10332a7dd --> performance testing pass
Test environment and result as below:
Ubuntu 18.04
Kernel: 4.15.0-generic
GCC: 7.4
NIC: Mellanox ConnectX-5 100000 Mbps
Target: x86_64-native-linuxapp-gcc
Fail/Total: 0/6
Detail performance results:
+------------+---------+-------------------------------------+
| frame_size | txd/rxd | throughput difference from expected |
+============+=========+=====================================+
| 64 | 256 | -0.149 |
+------------+---------+-------------------------------------+
| 128 | 256 | 0.032 |
+------------+---------+-------------------------------------+
| 256 | 256 | 0.266 |
+------------+---------+-------------------------------------+
| 512 | 256 | 0.015 |
+------------+---------+-------------------------------------+
| 1024 | 256 | 0.010 |
+------------+---------+-------------------------------------+
| 1518 | 256 | 0.030 |
+------------+---------+-------------------------------------+
https://lab.dpdk.org/results/dashboard/tarballs/6594/
UNH-IOL DPDK Performance Test Lab
To manage your email subscriptions visit:
https://lab.dpdk.org/results/dashboard/preferences/subscriptions/
^ permalink raw reply [flat|nested] 4+ messages in thread
* [dpdk-test-report] |SUCCESS| [GIT MASTER] db8e4e4e5a23a89822fefbf3d1fb79c10332a7dd
@ 2019-10-17 16:13 dpdklab
0 siblings, 0 replies; 4+ messages in thread
From: dpdklab @ 2019-10-17 16:13 UTC (permalink / raw)
To: Ali Alnubani, Test Report; +Cc: dpdk-test-reports
[-- Attachment #1: Type: text/plain, Size: 2585 bytes --]
_Performance Testing PASS_
Branch: dpdk-next-crypto
db8e4e4e5a23a89822fefbf3d1fb79c10332a7dd --> performance testing pass
Test environment and result as below:
Ubuntu 18.04
Kernel: 4.15.0-generic
GCC: 7.4
NIC: Mellanox ConnectX-4 Lx 40000 Mbps
Target: x86_64-native-linuxapp-gcc
Fail/Total: 0/6
Detail performance results:
+------------+---------+-------------------------------------+
| frame_size | txd/rxd | throughput difference from expected |
+============+=========+=====================================+
| 64 | 256 | 0.112 |
+------------+---------+-------------------------------------+
| 128 | 256 | 0.299 |
+------------+---------+-------------------------------------+
| 256 | 256 | 0.046 |
+------------+---------+-------------------------------------+
| 512 | 256 | -0.046 |
+------------+---------+-------------------------------------+
| 1024 | 256 | -0.010 |
+------------+---------+-------------------------------------+
| 1518 | 256 | 0 |
+------------+---------+-------------------------------------+
Ubuntu 18.04
Kernel: 4.15.0-generic
GCC: 7.4
NIC: Mellanox ConnectX-4 Lx 25000 Mbps
Target: x86_64-native-linuxapp-gcc
Fail/Total: 0/6
Detail performance results:
+------------+---------+-------------------------------------+
| frame_size | txd/rxd | throughput difference from expected |
+============+=========+=====================================+
| 64 | 256 | -0.176 |
+------------+---------+-------------------------------------+
| 128 | 256 | 0.139 |
+------------+---------+-------------------------------------+
| 256 | 256 | 0.002 |
+------------+---------+-------------------------------------+
| 512 | 256 | -0.004 |
+------------+---------+-------------------------------------+
| 1024 | 256 | 0 |
+------------+---------+-------------------------------------+
| 1518 | 256 | 0 |
+------------+---------+-------------------------------------+
https://lab.dpdk.org/results/dashboard/tarballs/6594/
UNH-IOL DPDK Performance Test Lab
To manage your email subscriptions visit:
https://lab.dpdk.org/results/dashboard/preferences/subscriptions/
^ permalink raw reply [flat|nested] 4+ messages in thread
* [dpdk-test-report] |SUCCESS| [GIT MASTER] db8e4e4e5a23a89822fefbf3d1fb79c10332a7dd
@ 2019-10-17 17:30 dpdklab
0 siblings, 0 replies; 4+ messages in thread
From: dpdklab @ 2019-10-17 17:30 UTC (permalink / raw)
To: Test Report; +Cc: dpdk-test-reports
[-- Attachment #1: Type: text/plain, Size: 1123 bytes --]
_Compile Testing PASS_
Branch: dpdk-next-crypto
db8e4e4e5a23a89822fefbf3d1fb79c10332a7dd --> compile testing pass
Test environment and result as below:
+--------------+-------------------+--------------+------------------+
| Environment | dpdk_compile_spdk | dpdk_compile | dpdk_compile_ovs |
+==============+===================+==============+==================+
| FreeBSD 11.2 | PASS | PASS | |
+--------------+-------------------+--------------+------------------+
| Ubuntu 18.04 | PASS | PASS | PASS |
+--------------+-------------------+--------------+------------------+
| CentOS 8 | | PASS | PASS |
+--------------+-------------------+--------------+------------------+
FreeBSD 11.2
Kernel: 11.2
GCC: 8.3
Ubuntu 18.04
Kernel: 4.15.0-generic
GCC: 7.4
CentOS 8
Kernel: 4.18.0.el8_0
GCC: 8.2
https://lab.dpdk.org/results/dashboard/tarballs/6594/
UNH-IOL DPDK Performance Test Lab
To manage your email subscriptions visit:
https://lab.dpdk.org/results/dashboard/preferences/subscriptions/
^ permalink raw reply [flat|nested] 4+ messages in thread
end of thread, other threads:[~2019-10-17 17:31 UTC | newest]
Thread overview: 4+ messages (download: mbox.gz / follow: Atom feed)
-- links below jump to the message on this page --
2019-10-17 15:49 [dpdk-test-report] |SUCCESS| [GIT MASTER] db8e4e4e5a23a89822fefbf3d1fb79c10332a7dd dpdklab
2019-10-17 15:49 dpdklab
2019-10-17 16:13 dpdklab
2019-10-17 17:30 dpdklab
This is a public inbox, see mirroring instructions
for how to clone and mirror all data and code used for this inbox;
as well as URLs for NNTP newsgroup(s).