[-- Attachment #1: Type: text/plain, Size: 1346 bytes --] Test-Label: iol-compilation Test-Status: SUCCESS http://dpdk.org/patch/61435 _Compile Testing PASS_ Submitter: Pablo de Lara <pablo.de.lara.guarch@intel.com> Date: Thursday, October 17 2019 16:30:49 DPDK git baseline: Repo:dpdk Branch: master CommitID:a8f8ae1cf9b68f6398b49019ca07a215a57bba41 61435-61436 --> compile testing pass Test environment and result as below: +--------------+--------------+------------------+-------------------+ | Environment | dpdk_compile | dpdk_compile_ovs | dpdk_compile_spdk | +==============+==============+==================+===================+ | FreeBSD 11.2 | PASS | | PASS | +--------------+--------------+------------------+-------------------+ | Ubuntu 18.04 | PASS | PASS | PASS | +--------------+--------------+------------------+-------------------+ | CentOS 8 | PASS | PASS | | +--------------+--------------+------------------+-------------------+ FreeBSD 11.2 Kernel: 11.2 GCC: 8.3 Ubuntu 18.04 Kernel: 4.15.0-generic GCC: 7.4 CentOS 8 Kernel: 4.18.0.el8_0 GCC: 8.2 https://lab.dpdk.org/results/dashboard/patchsets/8008/ UNH-IOL DPDK Performance Test Lab To manage your email subscriptions visit: https://lab.dpdk.org/results/dashboard/preferences/subscriptions/
[-- Attachment #1: Type: text/plain, Size: 2817 bytes --] Test-Label: iol-mellanox-Performance Test-Status: SUCCESS http://dpdk.org/patch/61435 _Performance Testing PASS_ Submitter: Pablo de Lara <pablo.de.lara.guarch@intel.com> Date: Thursday, October 17 2019 16:30:49 DPDK git baseline: Repo:dpdk Branch: master CommitID:a8f8ae1cf9b68f6398b49019ca07a215a57bba41 61435-61436 --> performance testing pass Test environment and result as below: Ubuntu 18.04 Kernel: 4.15.0-generic GCC: 7.4 NIC: Mellanox ConnectX-4 Lx 40000 Mbps Target: x86_64-native-linuxapp-gcc Fail/Total: 0/6 Detail performance results: +------------+---------+-------------------------------------+ | frame_size | txd/rxd | throughput difference from expected | +============+=========+=====================================+ | 64 | 256 | 0.280 | +------------+---------+-------------------------------------+ | 128 | 256 | -0.176 | +------------+---------+-------------------------------------+ | 256 | 256 | 0.077 | +------------+---------+-------------------------------------+ | 512 | 256 | -0.040 | +------------+---------+-------------------------------------+ | 1024 | 256 | -0.012 | +------------+---------+-------------------------------------+ | 1518 | 256 | 0.007 | +------------+---------+-------------------------------------+ Ubuntu 18.04 Kernel: 4.15.0-generic GCC: 7.4 NIC: Mellanox ConnectX-4 Lx 25000 Mbps Target: x86_64-native-linuxapp-gcc Fail/Total: 0/6 Detail performance results: +------------+---------+-------------------------------------+ | frame_size | txd/rxd | throughput difference from expected | +============+=========+=====================================+ | 64 | 256 | -0.129 | +------------+---------+-------------------------------------+ | 128 | 256 | 0.037 | +------------+---------+-------------------------------------+ | 256 | 256 | 0.062 | +------------+---------+-------------------------------------+ | 512 | 256 | -0.003 | +------------+---------+-------------------------------------+ | 1024 | 256 | -0.006 | +------------+---------+-------------------------------------+ | 1518 | 256 | 0.001 | +------------+---------+-------------------------------------+ https://lab.dpdk.org/results/dashboard/patchsets/8008/ UNH-IOL DPDK Performance Test Lab To manage your email subscriptions visit: https://lab.dpdk.org/results/dashboard/preferences/subscriptions/
[-- Attachment #1: Type: text/plain, Size: 1363 bytes --] Test-Label: iol-intel-Performance Test-Status: SUCCESS http://dpdk.org/patch/61435 _Performance Testing PASS_ Submitter: Pablo de Lara <pablo.de.lara.guarch@intel.com> Date: Thursday, October 17 2019 16:30:49 DPDK git baseline: Repo:dpdk Branch: master CommitID:a8f8ae1cf9b68f6398b49019ca07a215a57bba41 61435-61436 --> performance testing pass Test environment and result as below: Ubuntu 18.04 Kernel: 4.15.0-generic GCC: 7.4 NIC: Intel Corporation Ethernet Converged Network Adapter 82599ES 10000 Mbps Target: x86_64-native-linuxapp-gcc Fail/Total: 0/3 Detail performance results: +------------+---------+-------------------------------------+ | frame_size | txd/rxd | throughput difference from expected | +============+=========+=====================================+ | 64 | 128 | 0.088 | +------------+---------+-------------------------------------+ | 64 | 512 | 0.268 | +------------+---------+-------------------------------------+ | 64 | 2048 | -0.389 | +------------+---------+-------------------------------------+ https://lab.dpdk.org/results/dashboard/patchsets/8008/ UNH-IOL DPDK Performance Test Lab To manage your email subscriptions visit: https://lab.dpdk.org/results/dashboard/preferences/subscriptions/
[-- Attachment #1: Type: text/plain, Size: 1704 bytes --] Test-Label: iol-mellanox-Performance Test-Status: SUCCESS http://dpdk.org/patch/61435 _Performance Testing PASS_ Submitter: Pablo de Lara <pablo.de.lara.guarch@intel.com> Date: Thursday, October 17 2019 16:30:49 DPDK git baseline: Repo:dpdk Branch: master CommitID:a8f8ae1cf9b68f6398b49019ca07a215a57bba41 61435-61436 --> performance testing pass Test environment and result as below: Ubuntu 18.04 Kernel: 4.15.0-generic GCC: 7.4 NIC: Mellanox ConnectX-5 100000 Mbps Target: x86_64-native-linuxapp-gcc Fail/Total: 0/6 Detail performance results: +------------+---------+-------------------------------------+ | frame_size | txd/rxd | throughput difference from expected | +============+=========+=====================================+ | 64 | 256 | -0.163 | +------------+---------+-------------------------------------+ | 128 | 256 | -0.081 | +------------+---------+-------------------------------------+ | 256 | 256 | 0.287 | +------------+---------+-------------------------------------+ | 512 | 256 | 0.054 | +------------+---------+-------------------------------------+ | 1024 | 256 | 0.017 | +------------+---------+-------------------------------------+ | 1518 | 256 | -0.008 | +------------+---------+-------------------------------------+ https://lab.dpdk.org/results/dashboard/patchsets/8008/ UNH-IOL DPDK Performance Test Lab To manage your email subscriptions visit: https://lab.dpdk.org/results/dashboard/preferences/subscriptions/