* [dpdk-test-report] |SUCCESS| pw61399-61407 [PATCH] [v4, 01/10] config: change ABI versioning to global
@ 2019-10-17 20:30 dpdklab
0 siblings, 0 replies; 3+ messages in thread
From: dpdklab @ 2019-10-17 20:30 UTC (permalink / raw)
To: Test Report; +Cc: dpdk-test-reports
[-- Attachment #1: Type: text/plain, Size: 1344 bytes --]
Test-Label: iol-compilation
Test-Status: SUCCESS
http://dpdk.org/patch/61399
_Compile Testing PASS_
Submitter: Burakov, Anatoly <anatoly.burakov@intel.com>
Date: Thursday, October 17 2019 14:31:51
DPDK git baseline: Repo:dpdk
Branch: master
CommitID:a8f8ae1cf9b68f6398b49019ca07a215a57bba41
61399-61407 --> compile testing pass
Test environment and result as below:
+--------------+--------------+------------------+-------------------+
| Environment | dpdk_compile | dpdk_compile_ovs | dpdk_compile_spdk |
+==============+==============+==================+===================+
| FreeBSD 11.2 | PASS | | PASS |
+--------------+--------------+------------------+-------------------+
| Ubuntu 18.04 | PASS | PASS | PASS |
+--------------+--------------+------------------+-------------------+
| CentOS 8 | PASS | PASS | |
+--------------+--------------+------------------+-------------------+
FreeBSD 11.2
Kernel: 11.2
GCC: 8.3
Ubuntu 18.04
Kernel: 4.15.0-generic
GCC: 7.4
CentOS 8
Kernel: 4.18.0.el8_0
GCC: 8.2
https://lab.dpdk.org/results/dashboard/patchsets/8002/
UNH-IOL DPDK Performance Test Lab
To manage your email subscriptions visit:
https://lab.dpdk.org/results/dashboard/preferences/subscriptions/
^ permalink raw reply [flat|nested] 3+ messages in thread
* [dpdk-test-report] |SUCCESS| pw61399-61407 [PATCH] [v4, 01/10] config: change ABI versioning to global
@ 2019-10-17 21:20 dpdklab
0 siblings, 0 replies; 3+ messages in thread
From: dpdklab @ 2019-10-17 21:20 UTC (permalink / raw)
To: Ali Alnubani, Test Report; +Cc: dpdk-test-reports
[-- Attachment #1: Type: text/plain, Size: 3923 bytes --]
Test-Label: iol-mellanox-Performance
Test-Status: SUCCESS
http://dpdk.org/patch/61399
_Performance Testing PASS_
Submitter: Anatoly Burakov <anatoly.burakov@intel.com>
Date: Thursday, October 17 2019 14:31:51
DPDK git baseline: Repo:dpdk
Branch: master
CommitID:a8f8ae1cf9b68f6398b49019ca07a215a57bba41
61399-61407 --> performance testing pass
Test environment and result as below:
Ubuntu 18.04
Kernel: 4.15.0-generic
GCC: 7.4
NIC: Mellanox ConnectX-4 Lx 25000 Mbps
Target: x86_64-native-linuxapp-gcc
Fail/Total: 0/6
Detail performance results:
+------------+---------+-------------------------------------+
| frame_size | txd/rxd | throughput difference from expected |
+============+=========+=====================================+
| 64 | 256 | -0.117 |
+------------+---------+-------------------------------------+
| 128 | 256 | 0.051 |
+------------+---------+-------------------------------------+
| 256 | 256 | 0.016 |
+------------+---------+-------------------------------------+
| 512 | 256 | 0.018 |
+------------+---------+-------------------------------------+
| 1024 | 256 | -0.013 |
+------------+---------+-------------------------------------+
| 1518 | 256 | 0 |
+------------+---------+-------------------------------------+
Ubuntu 18.04
Kernel: 4.15.0-generic
GCC: 7.4
NIC: Mellanox ConnectX-5 100000 Mbps
Target: x86_64-native-linuxapp-gcc
Fail/Total: 0/6
Detail performance results:
+------------+---------+-------------------------------------+
| frame_size | txd/rxd | throughput difference from expected |
+============+=========+=====================================+
| 64 | 256 | -0.093 |
+------------+---------+-------------------------------------+
| 128 | 256 | -0.031 |
+------------+---------+-------------------------------------+
| 256 | 256 | 0.282 |
+------------+---------+-------------------------------------+
| 512 | 256 | -0.116 |
+------------+---------+-------------------------------------+
| 1024 | 256 | 0.007 |
+------------+---------+-------------------------------------+
| 1518 | 256 | -0.017 |
+------------+---------+-------------------------------------+
Ubuntu 18.04
Kernel: 4.15.0-generic
GCC: 7.4
NIC: Mellanox ConnectX-4 Lx 40000 Mbps
Target: x86_64-native-linuxapp-gcc
Fail/Total: 0/6
Detail performance results:
+------------+---------+-------------------------------------+
| frame_size | txd/rxd | throughput difference from expected |
+============+=========+=====================================+
| 64 | 256 | 0.070 |
+------------+---------+-------------------------------------+
| 128 | 256 | 0.410 |
+------------+---------+-------------------------------------+
| 256 | 256 | 0.144 |
+------------+---------+-------------------------------------+
| 512 | 256 | -0.045 |
+------------+---------+-------------------------------------+
| 1024 | 256 | -0.011 |
+------------+---------+-------------------------------------+
| 1518 | 256 | 0 |
+------------+---------+-------------------------------------+
https://lab.dpdk.org/results/dashboard/patchsets/8002/
UNH-IOL DPDK Performance Test Lab
To manage your email subscriptions visit:
https://lab.dpdk.org/results/dashboard/preferences/subscriptions/
^ permalink raw reply [flat|nested] 3+ messages in thread
* [dpdk-test-report] |SUCCESS| pw61399-61407 [PATCH] [v4, 01/10] config: change ABI versioning to global
@ 2019-10-17 19:26 dpdklab
0 siblings, 0 replies; 3+ messages in thread
From: dpdklab @ 2019-10-17 19:26 UTC (permalink / raw)
To: Test Report; +Cc: dpdk-test-reports
[-- Attachment #1: Type: text/plain, Size: 2009 bytes --]
Test-Label: iol-intel-Performance
Test-Status: SUCCESS
http://dpdk.org/patch/61399
_Performance Testing PASS_
Submitter: Burakov, Anatoly <anatoly.burakov@intel.com>
Date: Thursday, October 17 2019 14:31:51
DPDK git baseline: Repo:dpdk
Branch: master
CommitID:a8f8ae1cf9b68f6398b49019ca07a215a57bba41
61399-61407 --> performance testing pass
Test environment and result as below:
Ubuntu 18.04
Kernel: 4.15.0-generic
GCC: 7.4
NIC: Intel Corporation Ethernet Converged Network Adapter 82599ES 10000 Mbps
Target: x86_64-native-linuxapp-gcc
Fail/Total: 0/3
Detail performance results:
+------------+---------+-------------------------------------+
| frame_size | txd/rxd | throughput difference from expected |
+============+=========+=====================================+
| 64 | 128 | 0.185 |
+------------+---------+-------------------------------------+
| 64 | 512 | 0.305 |
+------------+---------+-------------------------------------+
| 64 | 2048 | -0.297 |
+------------+---------+-------------------------------------+
Ubuntu 18.04
Kernel: 4.15.0-generic
GCC: 7.4
NIC: Intel Corporation Ethernet Converged Network Adapter XL710-QDA2 40000 Mbps
Target: x86_64-native-linuxapp-gcc
Fail/Total: 0/2
Detail performance results:
+------------+---------+-------------------------------------+
| frame_size | txd/rxd | throughput difference from expected |
+============+=========+=====================================+
| 64 | 512 | 0.083 |
+------------+---------+-------------------------------------+
| 64 | 2048 | -0.411 |
+------------+---------+-------------------------------------+
https://lab.dpdk.org/results/dashboard/patchsets/8002/
UNH-IOL DPDK Performance Test Lab
To manage your email subscriptions visit:
https://lab.dpdk.org/results/dashboard/preferences/subscriptions/
^ permalink raw reply [flat|nested] 3+ messages in thread
end of thread, other threads:[~2019-10-17 21:21 UTC | newest]
Thread overview: 3+ messages (download: mbox.gz / follow: Atom feed)
-- links below jump to the message on this page --
2019-10-17 20:30 [dpdk-test-report] |SUCCESS| pw61399-61407 [PATCH] [v4, 01/10] config: change ABI versioning to global dpdklab
-- strict thread matches above, loose matches on Subject: below --
2019-10-17 21:20 dpdklab
2019-10-17 19:26 dpdklab
This is a public inbox, see mirroring instructions
for how to clone and mirror all data and code used for this inbox;
as well as URLs for NNTP newsgroup(s).