automatic DPDK test reports
 help / color / mirror / Atom feed
* [dpdk-test-report] |SUCCESS| [GIT MASTER] ad4305d0d5ed103cf5217eb120168ff8f285466c
@ 2019-10-17 22:07 dpdklab
  0 siblings, 0 replies; 3+ messages in thread
From: dpdklab @ 2019-10-17 22:07 UTC (permalink / raw)
  To: Test Report; +Cc: dpdk-test-reports

[-- Attachment #1: Type: text/plain, Size: 1770 bytes --]

_Performance Testing PASS_

Branch: dpdk

ad4305d0d5ed103cf5217eb120168ff8f285466c --> performance testing pass

Test environment and result as below:

Ubuntu 18.04
Kernel: 4.15.0-generic
GCC: 7.4
NIC: Intel Corporation Ethernet Converged Network Adapter 82599ES 10000 Mbps
Target: x86_64-native-linuxapp-gcc
Fail/Total: 0/3

Detail performance results: 
+------------+---------+-------------------------------------+
| frame_size | txd/rxd | throughput difference from expected |
+============+=========+=====================================+
| 64         | 128     | -0.193                              |
+------------+---------+-------------------------------------+
| 64         | 512     | 0.234                               |
+------------+---------+-------------------------------------+
| 64         | 2048    | -0.474                              |
+------------+---------+-------------------------------------+

Ubuntu 18.04
Kernel: 4.15.0-generic
GCC: 7.4
NIC: Intel Corporation Ethernet Converged Network Adapter XL710-QDA2 40000 Mbps
Target: x86_64-native-linuxapp-gcc
Fail/Total: 0/2

Detail performance results: 
+------------+---------+-------------------------------------+
| frame_size | txd/rxd | throughput difference from expected |
+============+=========+=====================================+
| 64         | 512     | 0.486                               |
+------------+---------+-------------------------------------+
| 64         | 2048    | -0.169                              |
+------------+---------+-------------------------------------+

https://lab.dpdk.org/results/dashboard/tarballs/6609/

UNH-IOL DPDK Performance Test Lab

To manage your email subscriptions visit: 
https://lab.dpdk.org/results/dashboard/preferences/subscriptions/

^ permalink raw reply	[flat|nested] 3+ messages in thread

* [dpdk-test-report] |SUCCESS| [GIT MASTER] ad4305d0d5ed103cf5217eb120168ff8f285466c
@ 2019-10-18  3:07 dpdklab
  0 siblings, 0 replies; 3+ messages in thread
From: dpdklab @ 2019-10-18  3:07 UTC (permalink / raw)
  To: Ali Alnubani, Test Report; +Cc: dpdk-test-reports

[-- Attachment #1: Type: text/plain, Size: 3682 bytes --]

_Performance Testing PASS_

Branch: dpdk

ad4305d0d5ed103cf5217eb120168ff8f285466c --> performance testing pass

Test environment and result as below:

Ubuntu 18.04
Kernel: 4.15.0-generic
GCC: 7.4
NIC: Mellanox ConnectX-5 100000 Mbps
Target: x86_64-native-linuxapp-gcc
Fail/Total: 0/6

Detail performance results: 
+------------+---------+-------------------------------------+
| frame_size | txd/rxd | throughput difference from expected |
+============+=========+=====================================+
| 64         | 256     | -0.283                              |
+------------+---------+-------------------------------------+
| 128        | 256     | 0.167                               |
+------------+---------+-------------------------------------+
| 256        | 256     | 0.204                               |
+------------+---------+-------------------------------------+
| 512        | 256     | -0.045                              |
+------------+---------+-------------------------------------+
| 1024       | 256     | 0.018                               |
+------------+---------+-------------------------------------+
| 1518       | 256     | 0.029                               |
+------------+---------+-------------------------------------+

Ubuntu 18.04
Kernel: 4.15.0-generic
GCC: 7.4
NIC: Mellanox ConnectX-4 Lx 25000 Mbps
Target: x86_64-native-linuxapp-gcc
Fail/Total: 0/6

Detail performance results: 
+------------+---------+-------------------------------------+
| frame_size | txd/rxd | throughput difference from expected |
+============+=========+=====================================+
| 64         | 256     | -0.146                              |
+------------+---------+-------------------------------------+
| 128        | 256     | -0.066                              |
+------------+---------+-------------------------------------+
| 256        | 256     | 0.008                               |
+------------+---------+-------------------------------------+
| 512        | 256     | -0.017                              |
+------------+---------+-------------------------------------+
| 1024       | 256     | 0.001                               |
+------------+---------+-------------------------------------+
| 1518       | 256     | 0.001                               |
+------------+---------+-------------------------------------+

Ubuntu 18.04
Kernel: 4.15.0-generic
GCC: 7.4
NIC: Mellanox ConnectX-4 Lx 40000 Mbps
Target: x86_64-native-linuxapp-gcc
Fail/Total: 0/6

Detail performance results: 
+------------+---------+-------------------------------------+
| frame_size | txd/rxd | throughput difference from expected |
+============+=========+=====================================+
| 64         | 256     | 0.258                               |
+------------+---------+-------------------------------------+
| 128        | 256     | 0.004                               |
+------------+---------+-------------------------------------+
| 256        | 256     | 0.044                               |
+------------+---------+-------------------------------------+
| 512        | 256     | -0.043                              |
+------------+---------+-------------------------------------+
| 1024       | 256     | 0                                   |
+------------+---------+-------------------------------------+
| 1518       | 256     | 0.009                               |
+------------+---------+-------------------------------------+

https://lab.dpdk.org/results/dashboard/tarballs/6609/

UNH-IOL DPDK Performance Test Lab

To manage your email subscriptions visit: 
https://lab.dpdk.org/results/dashboard/preferences/subscriptions/

^ permalink raw reply	[flat|nested] 3+ messages in thread

* [dpdk-test-report] |SUCCESS| [GIT MASTER] ad4305d0d5ed103cf5217eb120168ff8f285466c
@ 2019-10-18  1:01 dpdklab
  0 siblings, 0 replies; 3+ messages in thread
From: dpdklab @ 2019-10-18  1:01 UTC (permalink / raw)
  To: Test Report; +Cc: dpdk-test-reports

[-- Attachment #1: Type: text/plain, Size: 1111 bytes --]

_Compile Testing PASS_

Branch: dpdk

ad4305d0d5ed103cf5217eb120168ff8f285466c --> compile testing pass

Test environment and result as below:

+--------------+--------------+------------------+-------------------+
| Environment  | dpdk_compile | dpdk_compile_ovs | dpdk_compile_spdk |
+==============+==============+==================+===================+
| FreeBSD 11.2 | PASS         |                  | PASS              |
+--------------+--------------+------------------+-------------------+
| Ubuntu 18.04 | PASS         | PASS             | PASS              |
+--------------+--------------+------------------+-------------------+
| CentOS 8     | PASS         | PASS             |                   |
+--------------+--------------+------------------+-------------------+

FreeBSD 11.2
	Kernel: 11.2
	GCC: 8.3

Ubuntu 18.04
	Kernel: 4.15.0-generic
	GCC: 7.4

CentOS 8
	Kernel: 4.18.0.el8_0
	GCC: 8.2

https://lab.dpdk.org/results/dashboard/tarballs/6609/

UNH-IOL DPDK Performance Test Lab

To manage your email subscriptions visit: 
https://lab.dpdk.org/results/dashboard/preferences/subscriptions/

^ permalink raw reply	[flat|nested] 3+ messages in thread

end of thread, other threads:[~2019-10-18  3:07 UTC | newest]

Thread overview: 3+ messages (download: mbox.gz / follow: Atom feed)
-- links below jump to the message on this page --
2019-10-17 22:07 [dpdk-test-report] |SUCCESS| [GIT MASTER] ad4305d0d5ed103cf5217eb120168ff8f285466c dpdklab
2019-10-18  1:01 dpdklab
2019-10-18  3:07 dpdklab

automatic DPDK test reports

This inbox may be cloned and mirrored by anyone:

	git clone --mirror https://inbox.dpdk.org/test-report/0 test-report/git/0.git

	# If you have public-inbox 1.1+ installed, you may
	# initialize and index your mirror using the following commands:
	public-inbox-init -V2 test-report test-report/ https://inbox.dpdk.org/test-report \
		test-report@dpdk.org
	public-inbox-index test-report

Example config snippet for mirrors.
Newsgroup available over NNTP:
	nntp://inbox.dpdk.org/inbox.dpdk.test-report


AGPL code for this site: git clone https://public-inbox.org/public-inbox.git