automatic DPDK test reports
 help / color / mirror / Atom feed
* [dpdk-test-report] |SUCCESS| pw61366 [PATCH] net/mlx5: fix segfault when create hash rxq of drop
@ 2019-10-18  0:31 dpdklab
  0 siblings, 0 replies; 4+ messages in thread
From: dpdklab @ 2019-10-18  0:31 UTC (permalink / raw)
  To: Test Report; +Cc: dpdk-test-reports

[-- Attachment #1: Type: text/plain, Size: 1327 bytes --]

Test-Label: iol-compilation
Test-Status: SUCCESS
http://dpdk.org/patch/61366

_Compile Testing PASS_

Submitter: Xiaoyu Min <jackmin@mellanox.com>
Date: Thursday, October 17 2019 10:49:46 
DPDK git baseline: Repo:dpdk
  Branch: master
  CommitID:a8f8ae1cf9b68f6398b49019ca07a215a57bba41

61366 --> compile testing pass

Test environment and result as below:

+--------------+------------------+-------------------+--------------+
| Environment  | dpdk_compile_ovs | dpdk_compile_spdk | dpdk_compile |
+==============+==================+===================+==============+
| Ubuntu 18.04 | PASS             | PASS              | PASS         |
+--------------+------------------+-------------------+--------------+
| CentOS 8     | PASS             |                   | PASS         |
+--------------+------------------+-------------------+--------------+
| FreeBSD 11.2 |                  | PASS              | PASS         |
+--------------+------------------+-------------------+--------------+

Ubuntu 18.04
	Kernel: 4.15.0-generic
	GCC: 7.4

CentOS 8
	Kernel: 4.18.0.el8_0
	GCC: 8.2

FreeBSD 11.2
	Kernel: 11.2
	GCC: 8.3

https://lab.dpdk.org/results/dashboard/patchsets/7991/

UNH-IOL DPDK Performance Test Lab

To manage your email subscriptions visit: 
https://lab.dpdk.org/results/dashboard/preferences/subscriptions/

^ permalink raw reply	[flat|nested] 4+ messages in thread

* [dpdk-test-report] |SUCCESS| pw61366 [PATCH] net/mlx5: fix segfault when create hash rxq of drop
@ 2019-10-18  2:29 dpdklab
  0 siblings, 0 replies; 4+ messages in thread
From: dpdklab @ 2019-10-18  2:29 UTC (permalink / raw)
  To: Ali Alnubani, Test Report; +Cc: dpdk-test-reports

[-- Attachment #1: Type: text/plain, Size: 3907 bytes --]

Test-Label: iol-mellanox-Performance
Test-Status: SUCCESS
http://dpdk.org/patch/61366

_Performance Testing PASS_

Submitter: Xiaoyu Min <jackmin@mellanox.com>
Date: Thursday, October 17 2019 10:49:46 
DPDK git baseline: Repo:dpdk
  Branch: master
  CommitID:a8f8ae1cf9b68f6398b49019ca07a215a57bba41

61366 --> performance testing pass

Test environment and result as below:

Ubuntu 18.04
Kernel: 4.15.0-generic
GCC: 7.4
NIC: Mellanox ConnectX-5 100000 Mbps
Target: x86_64-native-linuxapp-gcc
Fail/Total: 0/6

Detail performance results: 
+------------+---------+-------------------------------------+
| frame_size | txd/rxd | throughput difference from expected |
+============+=========+=====================================+
| 64         | 256     | -0.185                              |
+------------+---------+-------------------------------------+
| 128        | 256     | 0.048                               |
+------------+---------+-------------------------------------+
| 256        | 256     | 0.187                               |
+------------+---------+-------------------------------------+
| 512        | 256     | 0.087                               |
+------------+---------+-------------------------------------+
| 1024       | 256     | -0.009                              |
+------------+---------+-------------------------------------+
| 1518       | 256     | 0.006                               |
+------------+---------+-------------------------------------+

Ubuntu 18.04
Kernel: 4.15.0-generic
GCC: 7.4
NIC: Mellanox ConnectX-4 Lx 25000 Mbps
Target: x86_64-native-linuxapp-gcc
Fail/Total: 0/6

Detail performance results: 
+------------+---------+-------------------------------------+
| frame_size | txd/rxd | throughput difference from expected |
+============+=========+=====================================+
| 64         | 256     | -0.152                              |
+------------+---------+-------------------------------------+
| 128        | 256     | -0.010                              |
+------------+---------+-------------------------------------+
| 256        | 256     | 0.027                               |
+------------+---------+-------------------------------------+
| 512        | 256     | 0.002                               |
+------------+---------+-------------------------------------+
| 1024       | 256     | -0.001                              |
+------------+---------+-------------------------------------+
| 1518       | 256     | -0.001                              |
+------------+---------+-------------------------------------+

Ubuntu 18.04
Kernel: 4.15.0-generic
GCC: 7.4
NIC: Mellanox ConnectX-4 Lx 40000 Mbps
Target: x86_64-native-linuxapp-gcc
Fail/Total: 0/6

Detail performance results: 
+------------+---------+-------------------------------------+
| frame_size | txd/rxd | throughput difference from expected |
+============+=========+=====================================+
| 64         | 256     | 0.110                               |
+------------+---------+-------------------------------------+
| 128        | 256     | 0.015                               |
+------------+---------+-------------------------------------+
| 256        | 256     | 0.106                               |
+------------+---------+-------------------------------------+
| 512        | 256     | -0.068                              |
+------------+---------+-------------------------------------+
| 1024       | 256     | -0.013                              |
+------------+---------+-------------------------------------+
| 1518       | 256     | 0.002                               |
+------------+---------+-------------------------------------+

https://lab.dpdk.org/results/dashboard/patchsets/7991/

UNH-IOL DPDK Performance Test Lab

To manage your email subscriptions visit: 
https://lab.dpdk.org/results/dashboard/preferences/subscriptions/

^ permalink raw reply	[flat|nested] 4+ messages in thread

* [dpdk-test-report] |SUCCESS| pw61366 [PATCH] net/mlx5: fix segfault when create hash rxq of drop
@ 2019-10-17 21:55 dpdklab
  0 siblings, 0 replies; 4+ messages in thread
From: dpdklab @ 2019-10-17 21:55 UTC (permalink / raw)
  To: Test Report; +Cc: dpdk-test-reports

[-- Attachment #1: Type: text/plain, Size: 1992 bytes --]

Test-Label: iol-intel-Performance
Test-Status: SUCCESS
http://dpdk.org/patch/61366

_Performance Testing PASS_

Submitter: Xiaoyu Min <jackmin@mellanox.com>
Date: Thursday, October 17 2019 10:49:46 
DPDK git baseline: Repo:dpdk
  Branch: master
  CommitID:a8f8ae1cf9b68f6398b49019ca07a215a57bba41

61366 --> performance testing pass

Test environment and result as below:

Ubuntu 18.04
Kernel: 4.15.0-generic
GCC: 7.4
NIC: Intel Corporation Ethernet Converged Network Adapter 82599ES 10000 Mbps
Target: x86_64-native-linuxapp-gcc
Fail/Total: 0/3

Detail performance results: 
+------------+---------+-------------------------------------+
| frame_size | txd/rxd | throughput difference from expected |
+============+=========+=====================================+
| 64         | 128     | -0.017                              |
+------------+---------+-------------------------------------+
| 64         | 512     | 0.050                               |
+------------+---------+-------------------------------------+
| 64         | 2048    | -0.291                              |
+------------+---------+-------------------------------------+

Ubuntu 18.04
Kernel: 4.15.0-generic
GCC: 7.4
NIC: Intel Corporation Ethernet Converged Network Adapter XL710-QDA2 40000 Mbps
Target: x86_64-native-linuxapp-gcc
Fail/Total: 0/2

Detail performance results: 
+------------+---------+-------------------------------------+
| frame_size | txd/rxd | throughput difference from expected |
+============+=========+=====================================+
| 64         | 512     | 1.354                               |
+------------+---------+-------------------------------------+
| 64         | 2048    | -0.112                              |
+------------+---------+-------------------------------------+

https://lab.dpdk.org/results/dashboard/patchsets/7991/

UNH-IOL DPDK Performance Test Lab

To manage your email subscriptions visit: 
https://lab.dpdk.org/results/dashboard/preferences/subscriptions/

^ permalink raw reply	[flat|nested] 4+ messages in thread

* [dpdk-test-report] |SUCCESS| pw61366 [PATCH] net/mlx5: fix segfault when create hash rxq of drop
       [not found] <5457ba5f9334191a03696e630fde2ddbe31ad879.1571305289.git.jackmin@mellanox.com>
@ 2019-10-17 10:51 ` checkpatch
  0 siblings, 0 replies; 4+ messages in thread
From: checkpatch @ 2019-10-17 10:51 UTC (permalink / raw)
  To: test-report

Test-Label: checkpatch
Test-Status: SUCCESS
http://dpdk.org/patch/61366

_coding style OK_



^ permalink raw reply	[flat|nested] 4+ messages in thread

end of thread, other threads:[~2019-10-18  2:29 UTC | newest]

Thread overview: 4+ messages (download: mbox.gz / follow: Atom feed)
-- links below jump to the message on this page --
2019-10-18  0:31 [dpdk-test-report] |SUCCESS| pw61366 [PATCH] net/mlx5: fix segfault when create hash rxq of drop dpdklab
  -- strict thread matches above, loose matches on Subject: below --
2019-10-18  2:29 dpdklab
2019-10-17 21:55 dpdklab
     [not found] <5457ba5f9334191a03696e630fde2ddbe31ad879.1571305289.git.jackmin@mellanox.com>
2019-10-17 10:51 ` checkpatch

automatic DPDK test reports

This inbox may be cloned and mirrored by anyone:

	git clone --mirror https://inbox.dpdk.org/test-report/0 test-report/git/0.git

	# If you have public-inbox 1.1+ installed, you may
	# initialize and index your mirror using the following commands:
	public-inbox-init -V2 test-report test-report/ https://inbox.dpdk.org/test-report \
		test-report@dpdk.org
	public-inbox-index test-report

Example config snippet for mirrors.
Newsgroup available over NNTP:
	nntp://inbox.dpdk.org/inbox.dpdk.test-report


AGPL code for this site: git clone https://public-inbox.org/public-inbox.git