automatic DPDK test reports
 help / color / mirror / Atom feed
* [dpdk-test-report] |SUCCESS| pw61448-61456 [PATCH] [v7, 1/9] net/ice: enable flow director engine
@ 2019-10-18  5:03 dpdklab
  0 siblings, 0 replies; 2+ messages in thread
From: dpdklab @ 2019-10-18  5:03 UTC (permalink / raw)
  To: Ali Alnubani, Test Report; +Cc: dpdk-test-reports

[-- Attachment #1: Type: text/plain, Size: 3924 bytes --]

Test-Label: iol-mellanox-Performance
Test-Status: SUCCESS
http://dpdk.org/patch/61448

_Performance Testing PASS_

Submitter: Yahui Cao <yahui.cao@intel.com>
Date: Friday, October 18 2019 11:15:54 
DPDK git baseline: Repo:dpdk-next-net-intel
  Branch: master
  CommitID:aba180bf9f870ce2e591ea7f52e3d23811842494

61448-61456 --> performance testing pass

Test environment and result as below:

Ubuntu 18.04
Kernel: 4.15.0-generic
GCC: 7.4
NIC: Mellanox ConnectX-4 Lx 40000 Mbps
Target: x86_64-native-linuxapp-gcc
Fail/Total: 0/6

Detail performance results: 
+------------+---------+-------------------------------------+
| frame_size | txd/rxd | throughput difference from expected |
+============+=========+=====================================+
| 64         | 256     | -0.123                              |
+------------+---------+-------------------------------------+
| 128        | 256     | 0.002                               |
+------------+---------+-------------------------------------+
| 256        | 256     | 0.037                               |
+------------+---------+-------------------------------------+
| 512        | 256     | 0                                   |
+------------+---------+-------------------------------------+
| 1024       | 256     | -0.004                              |
+------------+---------+-------------------------------------+
| 1518       | 256     | -0.002                              |
+------------+---------+-------------------------------------+

Ubuntu 18.04
Kernel: 4.15.0-generic
GCC: 7.4
NIC: Mellanox ConnectX-4 Lx 25000 Mbps
Target: x86_64-native-linuxapp-gcc
Fail/Total: 0/6

Detail performance results: 
+------------+---------+-------------------------------------+
| frame_size | txd/rxd | throughput difference from expected |
+============+=========+=====================================+
| 64         | 256     | -0.072                              |
+------------+---------+-------------------------------------+
| 128        | 256     | 0.137                               |
+------------+---------+-------------------------------------+
| 256        | 256     | 0.005                               |
+------------+---------+-------------------------------------+
| 512        | 256     | 0.021                               |
+------------+---------+-------------------------------------+
| 1024       | 256     | -0.013                              |
+------------+---------+-------------------------------------+
| 1518       | 256     | -0.001                              |
+------------+---------+-------------------------------------+

Ubuntu 18.04
Kernel: 4.15.0-generic
GCC: 7.4
NIC: Mellanox ConnectX-5 100000 Mbps
Target: x86_64-native-linuxapp-gcc
Fail/Total: 0/6

Detail performance results: 
+------------+---------+-------------------------------------+
| frame_size | txd/rxd | throughput difference from expected |
+============+=========+=====================================+
| 64         | 256     | 0.367                               |
+------------+---------+-------------------------------------+
| 128        | 256     | -0.124                              |
+------------+---------+-------------------------------------+
| 256        | 256     | 0.071                               |
+------------+---------+-------------------------------------+
| 512        | 256     | 0.197                               |
+------------+---------+-------------------------------------+
| 1024       | 256     | 0.012                               |
+------------+---------+-------------------------------------+
| 1518       | 256     | -0.043                              |
+------------+---------+-------------------------------------+

https://lab.dpdk.org/results/dashboard/patchsets/8015/

UNH-IOL DPDK Performance Test Lab

To manage your email subscriptions visit: 
https://lab.dpdk.org/results/dashboard/preferences/subscriptions/

^ permalink raw reply	[flat|nested] 2+ messages in thread

* [dpdk-test-report] |SUCCESS| pw61448-61456 [PATCH] [v7, 1/9] net/ice: enable flow director engine
@ 2019-10-18  4:15 dpdklab
  0 siblings, 0 replies; 2+ messages in thread
From: dpdklab @ 2019-10-18  4:15 UTC (permalink / raw)
  To: Test Report; +Cc: dpdk-test-reports

[-- Attachment #1: Type: text/plain, Size: 1344 bytes --]

Test-Label: iol-compilation
Test-Status: SUCCESS
http://dpdk.org/patch/61448

_Compile Testing PASS_

Submitter: Yahui Cao <yahui.cao@intel.com>
Date: Friday, October 18 2019 11:15:54 
DPDK git baseline: Repo:dpdk-next-net-intel
  Branch: master
  CommitID:aba180bf9f870ce2e591ea7f52e3d23811842494

61448-61456 --> compile testing pass

Test environment and result as below:

+--------------+--------------+------------------+-------------------+
| Environment  | dpdk_compile | dpdk_compile_ovs | dpdk_compile_spdk |
+==============+==============+==================+===================+
| FreeBSD 11.2 | PASS         |                  | PASS              |
+--------------+--------------+------------------+-------------------+
| Ubuntu 18.04 | PASS         | PASS             | PASS              |
+--------------+--------------+------------------+-------------------+
| CentOS 8     | PASS         | PASS             |                   |
+--------------+--------------+------------------+-------------------+

FreeBSD 11.2
	Kernel: 11.2
	GCC: 8.3

Ubuntu 18.04
	Kernel: 4.15.0-generic
	GCC: 7.4

CentOS 8
	Kernel: 4.18.0.el8_0
	GCC: 8.2

https://lab.dpdk.org/results/dashboard/patchsets/8015/

UNH-IOL DPDK Performance Test Lab

To manage your email subscriptions visit: 
https://lab.dpdk.org/results/dashboard/preferences/subscriptions/

^ permalink raw reply	[flat|nested] 2+ messages in thread

end of thread, other threads:[~2019-10-18  5:03 UTC | newest]

Thread overview: 2+ messages (download: mbox.gz / follow: Atom feed)
-- links below jump to the message on this page --
2019-10-18  5:03 [dpdk-test-report] |SUCCESS| pw61448-61456 [PATCH] [v7, 1/9] net/ice: enable flow director engine dpdklab
  -- strict thread matches above, loose matches on Subject: below --
2019-10-18  4:15 dpdklab

automatic DPDK test reports

This inbox may be cloned and mirrored by anyone:

	git clone --mirror https://inbox.dpdk.org/test-report/0 test-report/git/0.git

	# If you have public-inbox 1.1+ installed, you may
	# initialize and index your mirror using the following commands:
	public-inbox-init -V2 test-report test-report/ https://inbox.dpdk.org/test-report \
		test-report@dpdk.org
	public-inbox-index test-report

Example config snippet for mirrors.
Newsgroup available over NNTP:
	nntp://inbox.dpdk.org/inbox.dpdk.test-report


AGPL code for this site: git clone https://public-inbox.org/public-inbox.git