From: dpdklab@iol.unh.edu To: Test Report <test-report@dpdk.org> Cc: dpdk-test-reports@iol.unh.edu Subject: [dpdk-test-report] |SUCCESS| pw61461 [PATCH] app/proc-info: fix compilation with no security Date: Fri, 18 Oct 2019 09:19:32 -0400 (EDT) Message-ID: <20191018131932.672EC4D5@noxus.dpdklab.iol.unh.edu> (raw) [-- Attachment #1: Type: text/plain, Size: 1331 bytes --] Test-Label: iol-compilation Test-Status: SUCCESS http://dpdk.org/patch/61461 _Compile Testing PASS_ Submitter: Hemant Agrawal <hemant.agrawal@nxp.com> Date: Friday, October 18 2019 07:56:12 DPDK git baseline: Repo:dpdk Branch: master CommitID:ad4305d0d5ed103cf5217eb120168ff8f285466c 61461 --> compile testing pass Test environment and result as below: +--------------+--------------+------------------+-------------------+ | Environment | dpdk_compile | dpdk_compile_ovs | dpdk_compile_spdk | +==============+==============+==================+===================+ | FreeBSD 11.2 | PASS | | PASS | +--------------+--------------+------------------+-------------------+ | Ubuntu 18.04 | PASS | PASS | PASS | +--------------+--------------+------------------+-------------------+ | CentOS 8 | PASS | PASS | | +--------------+--------------+------------------+-------------------+ FreeBSD 11.2 Kernel: 11.2 GCC: 8.3 Ubuntu 18.04 Kernel: 4.15.0-generic GCC: 7.4 CentOS 8 Kernel: 4.18.0.el8_0 GCC: 8.2 https://lab.dpdk.org/results/dashboard/patchsets/8020/ UNH-IOL DPDK Performance Test Lab To manage your email subscriptions visit: https://lab.dpdk.org/results/dashboard/preferences/subscriptions/
next reply other threads:[~2019-10-18 13:19 UTC|newest] Thread overview: 4+ messages / expand[flat|nested] mbox.gz Atom feed top 2019-10-18 13:19 dpdklab [this message] -- strict thread matches above, loose matches on Subject: below -- 2019-10-18 13:58 dpdklab 2019-10-18 11:46 dpdklab [not found] <20191018075613.2784-2-hemant.agrawal@nxp.com> 2019-10-18 7:59 ` checkpatch
Reply instructions: You may reply publicly to this message via plain-text email using any one of the following methods: * Save the following mbox file, import it into your mail client, and reply-to-all from there: mbox Avoid top-posting and favor interleaved quoting: https://en.wikipedia.org/wiki/Posting_style#Interleaved_style * Reply using the --to, --cc, and --in-reply-to switches of git-send-email(1): git send-email \ --in-reply-to=20191018131932.672EC4D5@noxus.dpdklab.iol.unh.edu \ --to=dpdklab@iol.unh.edu \ --cc=dpdk-test-reports@iol.unh.edu \ --cc=test-report@dpdk.org \ /path/to/YOUR_REPLY https://kernel.org/pub/software/scm/git/docs/git-send-email.html * If your mail client supports setting the In-Reply-To header via mailto: links, try the mailto: link
automatic DPDK test reports This inbox may be cloned and mirrored by anyone: git clone --mirror https://inbox.dpdk.org/test-report/0 test-report/git/0.git # If you have public-inbox 1.1+ installed, you may # initialize and index your mirror using the following commands: public-inbox-init -V2 test-report test-report/ https://inbox.dpdk.org/test-report \ test-report@dpdk.org public-inbox-index test-report Example config snippet for mirrors. Newsgroup available over NNTP: nntp://inbox.dpdk.org/inbox.dpdk.test-report AGPL code for this site: git clone https://public-inbox.org/public-inbox.git