automatic DPDK test reports
 help / color / mirror / Atom feed
* [dpdk-test-report] |SUCCESS| pw61471 [PATCH] test/crypto: add unit tests for AES-CTR + AES CMAC
@ 2019-10-18 15:25 dpdklab
  0 siblings, 0 replies; 4+ messages in thread
From: dpdklab @ 2019-10-18 15:25 UTC (permalink / raw)
  To: Test Report; +Cc: dpdk-test-reports

[-- Attachment #1: Type: text/plain, Size: 1334 bytes --]

Test-Label: iol-compilation
Test-Status: SUCCESS
http://dpdk.org/patch/61471

_Compile Testing PASS_

Submitter: Adam Dybkowski <adamx.dybkowski@intel.com>
Date: Friday, October 18 2019 13:02:35 
DPDK git baseline: Repo:dpdk
  Branch: master
  CommitID:ad4305d0d5ed103cf5217eb120168ff8f285466c

61471 --> compile testing pass

Test environment and result as below:

+--------------+-------------------+------------------+--------------+
| Environment  | dpdk_compile_spdk | dpdk_compile_ovs | dpdk_compile |
+==============+===================+==================+==============+
| FreeBSD 11.2 | PASS              |                  | PASS         |
+--------------+-------------------+------------------+--------------+
| Ubuntu 18.04 | PASS              | PASS             | PASS         |
+--------------+-------------------+------------------+--------------+
| CentOS 8     |                   | PASS             | PASS         |
+--------------+-------------------+------------------+--------------+

FreeBSD 11.2
	Kernel: 11.2
	GCC: 8.3

Ubuntu 18.04
	Kernel: 4.15.0-generic
	GCC: 7.4

CentOS 8
	Kernel: 4.18.0.el8_0
	GCC: 8.2

https://lab.dpdk.org/results/dashboard/patchsets/8026/

UNH-IOL DPDK Performance Test Lab

To manage your email subscriptions visit: 
https://lab.dpdk.org/results/dashboard/preferences/subscriptions/

^ permalink raw reply	[flat|nested] 4+ messages in thread
* [dpdk-test-report] |SUCCESS| pw61471 [PATCH] test/crypto: add unit tests for AES-CTR + AES CMAC
@ 2019-10-18 16:33 dpdklab
  0 siblings, 0 replies; 4+ messages in thread
From: dpdklab @ 2019-10-18 16:33 UTC (permalink / raw)
  To: Ali Alnubani, Test Report; +Cc: dpdk-test-reports

[-- Attachment #1: Type: text/plain, Size: 3914 bytes --]

Test-Label: iol-mellanox-Performance
Test-Status: SUCCESS
http://dpdk.org/patch/61471

_Performance Testing PASS_

Submitter: Adam Dybkowski <adamx.dybkowski@intel.com>
Date: Friday, October 18 2019 13:02:35 
DPDK git baseline: Repo:dpdk
  Branch: master
  CommitID:ad4305d0d5ed103cf5217eb120168ff8f285466c

61471 --> performance testing pass

Test environment and result as below:

Ubuntu 18.04
Kernel: 4.15.0-generic
GCC: 7.4
NIC: Mellanox ConnectX-5 100000 Mbps
Target: x86_64-native-linuxapp-gcc
Fail/Total: 0/6

Detail performance results: 
+------------+---------+-------------------------------------+
| frame_size | txd/rxd | throughput difference from expected |
+============+=========+=====================================+
| 64         | 256     | 0.196                               |
+------------+---------+-------------------------------------+
| 128        | 256     | -0.089                              |
+------------+---------+-------------------------------------+
| 256        | 256     | -0.039                              |
+------------+---------+-------------------------------------+
| 512        | 256     | -0.176                              |
+------------+---------+-------------------------------------+
| 1024       | 256     | -0.027                              |
+------------+---------+-------------------------------------+
| 1518       | 256     | -0.043                              |
+------------+---------+-------------------------------------+

Ubuntu 18.04
Kernel: 4.15.0-generic
GCC: 7.4
NIC: Mellanox ConnectX-4 Lx 25000 Mbps
Target: x86_64-native-linuxapp-gcc
Fail/Total: 0/6

Detail performance results: 
+------------+---------+-------------------------------------+
| frame_size | txd/rxd | throughput difference from expected |
+============+=========+=====================================+
| 64         | 256     | -0.022                              |
+------------+---------+-------------------------------------+
| 128        | 256     | 0.048                               |
+------------+---------+-------------------------------------+
| 256        | 256     | -0.014                              |
+------------+---------+-------------------------------------+
| 512        | 256     | 0.030                               |
+------------+---------+-------------------------------------+
| 1024       | 256     | 0.002                               |
+------------+---------+-------------------------------------+
| 1518       | 256     | 0.001                               |
+------------+---------+-------------------------------------+

Ubuntu 18.04
Kernel: 4.15.0-generic
GCC: 7.4
NIC: Mellanox ConnectX-4 Lx 40000 Mbps
Target: x86_64-native-linuxapp-gcc
Fail/Total: 0/6

Detail performance results: 
+------------+---------+-------------------------------------+
| frame_size | txd/rxd | throughput difference from expected |
+============+=========+=====================================+
| 64         | 256     | -0.110                              |
+------------+---------+-------------------------------------+
| 128        | 256     | 0.374                               |
+------------+---------+-------------------------------------+
| 256        | 256     | 0.031                               |
+------------+---------+-------------------------------------+
| 512        | 256     | 0.007                               |
+------------+---------+-------------------------------------+
| 1024       | 256     | -0.017                              |
+------------+---------+-------------------------------------+
| 1518       | 256     | -0.005                              |
+------------+---------+-------------------------------------+

https://lab.dpdk.org/results/dashboard/patchsets/8026/

UNH-IOL DPDK Performance Test Lab

To manage your email subscriptions visit: 
https://lab.dpdk.org/results/dashboard/preferences/subscriptions/

^ permalink raw reply	[flat|nested] 4+ messages in thread
* [dpdk-test-report] |SUCCESS| pw61471 [PATCH] test/crypto: add unit tests for AES-CTR + AES CMAC
@ 2019-10-18 13:40 dpdklab
  0 siblings, 0 replies; 4+ messages in thread
From: dpdklab @ 2019-10-18 13:40 UTC (permalink / raw)
  To: Test Report; +Cc: dpdk-test-reports

[-- Attachment #1: Type: text/plain, Size: 1999 bytes --]

Test-Label: iol-intel-Performance
Test-Status: SUCCESS
http://dpdk.org/patch/61471

_Performance Testing PASS_

Submitter: Adam Dybkowski <adamx.dybkowski@intel.com>
Date: Friday, October 18 2019 13:02:35 
DPDK git baseline: Repo:dpdk
  Branch: master
  CommitID:ad4305d0d5ed103cf5217eb120168ff8f285466c

61471 --> performance testing pass

Test environment and result as below:

Ubuntu 18.04
Kernel: 4.15.0-generic
GCC: 7.4
NIC: Intel Corporation Ethernet Converged Network Adapter 82599ES 10000 Mbps
Target: x86_64-native-linuxapp-gcc
Fail/Total: 0/3

Detail performance results: 
+------------+---------+-------------------------------------+
| frame_size | txd/rxd | throughput difference from expected |
+============+=========+=====================================+
| 64         | 128     | 0.436                               |
+------------+---------+-------------------------------------+
| 64         | 512     | -0.162                              |
+------------+---------+-------------------------------------+
| 64         | 2048    | 0.387                               |
+------------+---------+-------------------------------------+

Ubuntu 18.04
Kernel: 4.15.0-generic
GCC: 7.4
NIC: Intel Corporation Ethernet Converged Network Adapter XL710-QDA2 40000 Mbps
Target: x86_64-native-linuxapp-gcc
Fail/Total: 0/2

Detail performance results: 
+------------+---------+-------------------------------------+
| frame_size | txd/rxd | throughput difference from expected |
+============+=========+=====================================+
| 64         | 512     | 0.578                               |
+------------+---------+-------------------------------------+
| 64         | 2048    | 0.053                               |
+------------+---------+-------------------------------------+

https://lab.dpdk.org/results/dashboard/patchsets/8026/

UNH-IOL DPDK Performance Test Lab

To manage your email subscriptions visit: 
https://lab.dpdk.org/results/dashboard/preferences/subscriptions/

^ permalink raw reply	[flat|nested] 4+ messages in thread
[parent not found: <20191018130235.7836-1-adamx.dybkowski@intel.com>]

end of thread, other threads:[~2019-10-18 16:33 UTC | newest]

Thread overview: 4+ messages (download: mbox.gz / follow: Atom feed)
-- links below jump to the message on this page --
2019-10-18 15:25 [dpdk-test-report] |SUCCESS| pw61471 [PATCH] test/crypto: add unit tests for AES-CTR + AES CMAC dpdklab
  -- strict thread matches above, loose matches on Subject: below --
2019-10-18 16:33 dpdklab
2019-10-18 13:40 dpdklab
     [not found] <20191018130235.7836-1-adamx.dybkowski@intel.com>
2019-10-18 13:14 ` checkpatch

automatic DPDK test reports

This inbox may be cloned and mirrored by anyone:

	git clone --mirror https://inbox.dpdk.org/test-report/0 test-report/git/0.git

	# If you have public-inbox 1.1+ installed, you may
	# initialize and index your mirror using the following commands:
	public-inbox-init -V2 test-report test-report/ https://inbox.dpdk.org/test-report \
		test-report@dpdk.org
	public-inbox-index test-report

Example config snippet for mirrors.
Newsgroup available over NNTP:
	nntp://inbox.dpdk.org/inbox.dpdk.test-report


AGPL code for this site: git clone https://public-inbox.org/public-inbox.git