* [dpdk-test-report] |SUCCESS| [GIT MASTER] ab15570f6ec7e6ad94ab973e9a349304e58434d0
@ 2019-10-18 17:49 dpdklab
0 siblings, 0 replies; 3+ messages in thread
From: dpdklab @ 2019-10-18 17:49 UTC (permalink / raw)
To: Ali Alnubani, Test Report; +Cc: dpdk-test-reports
[-- Attachment #1: Type: text/plain, Size: 3694 bytes --]
_Performance Testing PASS_
Branch: dpdk-next-crypto
ab15570f6ec7e6ad94ab973e9a349304e58434d0 --> performance testing pass
Test environment and result as below:
Ubuntu 18.04
Kernel: 4.15.0-generic
GCC: 7.4
NIC: Mellanox ConnectX-5 100000 Mbps
Target: x86_64-native-linuxapp-gcc
Fail/Total: 0/6
Detail performance results:
+------------+---------+-------------------------------------+
| frame_size | txd/rxd | throughput difference from expected |
+============+=========+=====================================+
| 64 | 256 | 0.305 |
+------------+---------+-------------------------------------+
| 128 | 256 | -0.219 |
+------------+---------+-------------------------------------+
| 256 | 256 | 0.075 |
+------------+---------+-------------------------------------+
| 512 | 256 | -0.076 |
+------------+---------+-------------------------------------+
| 1024 | 256 | 0.019 |
+------------+---------+-------------------------------------+
| 1518 | 256 | -0.022 |
+------------+---------+-------------------------------------+
Ubuntu 18.04
Kernel: 4.15.0-generic
GCC: 7.4
NIC: Mellanox ConnectX-4 Lx 25000 Mbps
Target: x86_64-native-linuxapp-gcc
Fail/Total: 0/6
Detail performance results:
+------------+---------+-------------------------------------+
| frame_size | txd/rxd | throughput difference from expected |
+============+=========+=====================================+
| 64 | 256 | 0.097 |
+------------+---------+-------------------------------------+
| 128 | 256 | 0.032 |
+------------+---------+-------------------------------------+
| 256 | 256 | -0.009 |
+------------+---------+-------------------------------------+
| 512 | 256 | 0.014 |
+------------+---------+-------------------------------------+
| 1024 | 256 | -0.001 |
+------------+---------+-------------------------------------+
| 1518 | 256 | -0.001 |
+------------+---------+-------------------------------------+
Ubuntu 18.04
Kernel: 4.15.0-generic
GCC: 7.4
NIC: Mellanox ConnectX-4 Lx 40000 Mbps
Target: x86_64-native-linuxapp-gcc
Fail/Total: 0/6
Detail performance results:
+------------+---------+-------------------------------------+
| frame_size | txd/rxd | throughput difference from expected |
+============+=========+=====================================+
| 64 | 256 | 0.048 |
+------------+---------+-------------------------------------+
| 128 | 256 | 0.099 |
+------------+---------+-------------------------------------+
| 256 | 256 | 0.060 |
+------------+---------+-------------------------------------+
| 512 | 256 | 0.018 |
+------------+---------+-------------------------------------+
| 1024 | 256 | -0.011 |
+------------+---------+-------------------------------------+
| 1518 | 256 | 0.001 |
+------------+---------+-------------------------------------+
https://lab.dpdk.org/results/dashboard/tarballs/6623/
UNH-IOL DPDK Performance Test Lab
To manage your email subscriptions visit:
https://lab.dpdk.org/results/dashboard/preferences/subscriptions/
^ permalink raw reply [flat|nested] 3+ messages in thread
* [dpdk-test-report] |SUCCESS| [GIT MASTER] ab15570f6ec7e6ad94ab973e9a349304e58434d0
@ 2019-10-18 16:26 dpdklab
0 siblings, 0 replies; 3+ messages in thread
From: dpdklab @ 2019-10-18 16:26 UTC (permalink / raw)
To: Test Report; +Cc: dpdk-test-reports
[-- Attachment #1: Type: text/plain, Size: 1123 bytes --]
_Compile Testing PASS_
Branch: dpdk-next-crypto
ab15570f6ec7e6ad94ab973e9a349304e58434d0 --> compile testing pass
Test environment and result as below:
+--------------+------------------+-------------------+--------------+
| Environment | dpdk_compile_ovs | dpdk_compile_spdk | dpdk_compile |
+==============+==================+===================+==============+
| Ubuntu 18.04 | PASS | PASS | PASS |
+--------------+------------------+-------------------+--------------+
| CentOS 8 | PASS | | PASS |
+--------------+------------------+-------------------+--------------+
| FreeBSD 11.2 | | PASS | PASS |
+--------------+------------------+-------------------+--------------+
Ubuntu 18.04
Kernel: 4.15.0-generic
GCC: 7.4
CentOS 8
Kernel: 4.18.0.el8_0
GCC: 8.2
FreeBSD 11.2
Kernel: 11.2
GCC: 8.3
https://lab.dpdk.org/results/dashboard/tarballs/6623/
UNH-IOL DPDK Performance Test Lab
To manage your email subscriptions visit:
https://lab.dpdk.org/results/dashboard/preferences/subscriptions/
^ permalink raw reply [flat|nested] 3+ messages in thread
* [dpdk-test-report] |SUCCESS| [GIT MASTER] ab15570f6ec7e6ad94ab973e9a349304e58434d0
@ 2019-10-18 15:45 dpdklab
0 siblings, 0 replies; 3+ messages in thread
From: dpdklab @ 2019-10-18 15:45 UTC (permalink / raw)
To: Test Report; +Cc: dpdk-test-reports
[-- Attachment #1: Type: text/plain, Size: 1782 bytes --]
_Performance Testing PASS_
Branch: dpdk-next-crypto
ab15570f6ec7e6ad94ab973e9a349304e58434d0 --> performance testing pass
Test environment and result as below:
Ubuntu 18.04
Kernel: 4.15.0-generic
GCC: 7.4
NIC: Intel Corporation Ethernet Converged Network Adapter 82599ES 10000 Mbps
Target: x86_64-native-linuxapp-gcc
Fail/Total: 0/3
Detail performance results:
+------------+---------+-------------------------------------+
| frame_size | txd/rxd | throughput difference from expected |
+============+=========+=====================================+
| 64 | 128 | 0.170 |
+------------+---------+-------------------------------------+
| 64 | 512 | -0.185 |
+------------+---------+-------------------------------------+
| 64 | 2048 | 0.341 |
+------------+---------+-------------------------------------+
Ubuntu 18.04
Kernel: 4.15.0-generic
GCC: 7.4
NIC: Intel Corporation Ethernet Converged Network Adapter XL710-QDA2 40000 Mbps
Target: x86_64-native-linuxapp-gcc
Fail/Total: 0/2
Detail performance results:
+------------+---------+-------------------------------------+
| frame_size | txd/rxd | throughput difference from expected |
+============+=========+=====================================+
| 64 | 512 | 0.354 |
+------------+---------+-------------------------------------+
| 64 | 2048 | -0.017 |
+------------+---------+-------------------------------------+
https://lab.dpdk.org/results/dashboard/tarballs/6623/
UNH-IOL DPDK Performance Test Lab
To manage your email subscriptions visit:
https://lab.dpdk.org/results/dashboard/preferences/subscriptions/
^ permalink raw reply [flat|nested] 3+ messages in thread
end of thread, other threads:[~2019-10-18 17:50 UTC | newest]
Thread overview: 3+ messages (download: mbox.gz / follow: Atom feed)
-- links below jump to the message on this page --
2019-10-18 17:49 [dpdk-test-report] |SUCCESS| [GIT MASTER] ab15570f6ec7e6ad94ab973e9a349304e58434d0 dpdklab
-- strict thread matches above, loose matches on Subject: below --
2019-10-18 16:26 dpdklab
2019-10-18 15:45 dpdklab
This is a public inbox, see mirroring instructions
for how to clone and mirror all data and code used for this inbox;
as well as URLs for NNTP newsgroup(s).