automatic DPDK test reports
 help / color / mirror / Atom feed
* [dpdk-test-report] |SUCCESS| pw61474 [PATCH] app/testpmd: fix missing loop topology option
@ 2019-10-18 18:28 dpdklab
  0 siblings, 0 replies; 4+ messages in thread
From: dpdklab @ 2019-10-18 18:28 UTC (permalink / raw)
  To: Ali Alnubani, Test Report; +Cc: dpdk-test-reports

[-- Attachment #1: Type: text/plain, Size: 3907 bytes --]

Test-Label: iol-mellanox-Performance
Test-Status: SUCCESS
http://dpdk.org/patch/61474

_Performance Testing PASS_

Submitter: Ciara Power <ciara.power@intel.com>
Date: Friday, October 18 2019 15:45:40 
DPDK git baseline: Repo:dpdk
  Branch: master
  CommitID:ad4305d0d5ed103cf5217eb120168ff8f285466c

61474 --> performance testing pass

Test environment and result as below:

Ubuntu 18.04
Kernel: 4.15.0-generic
GCC: 7.4
NIC: Mellanox ConnectX-5 100000 Mbps
Target: x86_64-native-linuxapp-gcc
Fail/Total: 0/6

Detail performance results: 
+------------+---------+-------------------------------------+
| frame_size | txd/rxd | throughput difference from expected |
+============+=========+=====================================+
| 64         | 256     | -0.017                              |
+------------+---------+-------------------------------------+
| 128        | 256     | -0.143                              |
+------------+---------+-------------------------------------+
| 256        | 256     | 0.099                               |
+------------+---------+-------------------------------------+
| 512        | 256     | 0.109                               |
+------------+---------+-------------------------------------+
| 1024       | 256     | 0.024                               |
+------------+---------+-------------------------------------+
| 1518       | 256     | -0.042                              |
+------------+---------+-------------------------------------+

Ubuntu 18.04
Kernel: 4.15.0-generic
GCC: 7.4
NIC: Mellanox ConnectX-4 Lx 40000 Mbps
Target: x86_64-native-linuxapp-gcc
Fail/Total: 0/6

Detail performance results: 
+------------+---------+-------------------------------------+
| frame_size | txd/rxd | throughput difference from expected |
+============+=========+=====================================+
| 64         | 256     | -0.103                              |
+------------+---------+-------------------------------------+
| 128        | 256     | 0.369                               |
+------------+---------+-------------------------------------+
| 256        | 256     | 0.034                               |
+------------+---------+-------------------------------------+
| 512        | 256     | -0.006                              |
+------------+---------+-------------------------------------+
| 1024       | 256     | -0.010                              |
+------------+---------+-------------------------------------+
| 1518       | 256     | -0.007                              |
+------------+---------+-------------------------------------+

Ubuntu 18.04
Kernel: 4.15.0-generic
GCC: 7.4
NIC: Mellanox ConnectX-4 Lx 25000 Mbps
Target: x86_64-native-linuxapp-gcc
Fail/Total: 0/6

Detail performance results: 
+------------+---------+-------------------------------------+
| frame_size | txd/rxd | throughput difference from expected |
+============+=========+=====================================+
| 64         | 256     | -0.006                              |
+------------+---------+-------------------------------------+
| 128        | 256     | 0.102                               |
+------------+---------+-------------------------------------+
| 256        | 256     | -0.015                              |
+------------+---------+-------------------------------------+
| 512        | 256     | 0.032                               |
+------------+---------+-------------------------------------+
| 1024       | 256     | -0.002                              |
+------------+---------+-------------------------------------+
| 1518       | 256     | 0.011                               |
+------------+---------+-------------------------------------+

https://lab.dpdk.org/results/dashboard/patchsets/8029/

UNH-IOL DPDK Performance Test Lab

To manage your email subscriptions visit: 
https://lab.dpdk.org/results/dashboard/preferences/subscriptions/

^ permalink raw reply	[flat|nested] 4+ messages in thread

* [dpdk-test-report] |SUCCESS| pw61474 [PATCH] app/testpmd: fix missing loop topology option
@ 2019-10-18 16:57 dpdklab
  0 siblings, 0 replies; 4+ messages in thread
From: dpdklab @ 2019-10-18 16:57 UTC (permalink / raw)
  To: Test Report; +Cc: dpdk-test-reports

[-- Attachment #1: Type: text/plain, Size: 1327 bytes --]

Test-Label: iol-compilation
Test-Status: SUCCESS
http://dpdk.org/patch/61474

_Compile Testing PASS_

Submitter: Ciara Power <ciara.power@intel.com>
Date: Friday, October 18 2019 15:45:40 
DPDK git baseline: Repo:dpdk
  Branch: master
  CommitID:ad4305d0d5ed103cf5217eb120168ff8f285466c

61474 --> compile testing pass

Test environment and result as below:

+--------------+--------------+-------------------+------------------+
| Environment  | dpdk_compile | dpdk_compile_spdk | dpdk_compile_ovs |
+==============+==============+===================+==================+
| Ubuntu 18.04 | PASS         | PASS              | PASS             |
+--------------+--------------+-------------------+------------------+
| FreeBSD 11.2 | PASS         | PASS              |                  |
+--------------+--------------+-------------------+------------------+
| CentOS 8     | PASS         |                   | PASS             |
+--------------+--------------+-------------------+------------------+

Ubuntu 18.04
	Kernel: 4.15.0-generic
	GCC: 7.4

FreeBSD 11.2
	Kernel: 11.2
	GCC: 8.3

CentOS 8
	Kernel: 4.18.0.el8_0
	GCC: 8.2

https://lab.dpdk.org/results/dashboard/patchsets/8029/

UNH-IOL DPDK Performance Test Lab

To manage your email subscriptions visit: 
https://lab.dpdk.org/results/dashboard/preferences/subscriptions/

^ permalink raw reply	[flat|nested] 4+ messages in thread

* [dpdk-test-report] |SUCCESS| pw61474 [PATCH] app/testpmd: fix missing loop topology option
@ 2019-10-18 16:25 dpdklab
  0 siblings, 0 replies; 4+ messages in thread
From: dpdklab @ 2019-10-18 16:25 UTC (permalink / raw)
  To: Test Report; +Cc: dpdk-test-reports

[-- Attachment #1: Type: text/plain, Size: 1992 bytes --]

Test-Label: iol-intel-Performance
Test-Status: SUCCESS
http://dpdk.org/patch/61474

_Performance Testing PASS_

Submitter: Ciara Power <ciara.power@intel.com>
Date: Friday, October 18 2019 15:45:40 
DPDK git baseline: Repo:dpdk
  Branch: master
  CommitID:ad4305d0d5ed103cf5217eb120168ff8f285466c

61474 --> performance testing pass

Test environment and result as below:

Ubuntu 18.04
Kernel: 4.15.0-generic
GCC: 7.4
NIC: Intel Corporation Ethernet Converged Network Adapter 82599ES 10000 Mbps
Target: x86_64-native-linuxapp-gcc
Fail/Total: 0/3

Detail performance results: 
+------------+---------+-------------------------------------+
| frame_size | txd/rxd | throughput difference from expected |
+============+=========+=====================================+
| 64         | 128     | 0.189                               |
+------------+---------+-------------------------------------+
| 64         | 512     | -0.153                              |
+------------+---------+-------------------------------------+
| 64         | 2048    | -0.013                              |
+------------+---------+-------------------------------------+

Ubuntu 18.04
Kernel: 4.15.0-generic
GCC: 7.4
NIC: Intel Corporation Ethernet Converged Network Adapter XL710-QDA2 40000 Mbps
Target: x86_64-native-linuxapp-gcc
Fail/Total: 0/2

Detail performance results: 
+------------+---------+-------------------------------------+
| frame_size | txd/rxd | throughput difference from expected |
+============+=========+=====================================+
| 64         | 512     | 0.101                               |
+------------+---------+-------------------------------------+
| 64         | 2048    | -0.082                              |
+------------+---------+-------------------------------------+

https://lab.dpdk.org/results/dashboard/patchsets/8029/

UNH-IOL DPDK Performance Test Lab

To manage your email subscriptions visit: 
https://lab.dpdk.org/results/dashboard/preferences/subscriptions/

^ permalink raw reply	[flat|nested] 4+ messages in thread

* [dpdk-test-report] |SUCCESS| pw61474 [PATCH] app/testpmd: fix missing loop topology option
       [not found] <20191018154540.19952-1-ciara.power@intel.com>
@ 2019-10-18 15:48 ` checkpatch
  0 siblings, 0 replies; 4+ messages in thread
From: checkpatch @ 2019-10-18 15:48 UTC (permalink / raw)
  To: test-report

Test-Label: checkpatch
Test-Status: SUCCESS
http://dpdk.org/patch/61474

_coding style OK_



^ permalink raw reply	[flat|nested] 4+ messages in thread

end of thread, other threads:[~2019-10-18 18:28 UTC | newest]

Thread overview: 4+ messages (download: mbox.gz / follow: Atom feed)
-- links below jump to the message on this page --
2019-10-18 18:28 [dpdk-test-report] |SUCCESS| pw61474 [PATCH] app/testpmd: fix missing loop topology option dpdklab
  -- strict thread matches above, loose matches on Subject: below --
2019-10-18 16:57 dpdklab
2019-10-18 16:25 dpdklab
     [not found] <20191018154540.19952-1-ciara.power@intel.com>
2019-10-18 15:48 ` checkpatch

automatic DPDK test reports

This inbox may be cloned and mirrored by anyone:

	git clone --mirror https://inbox.dpdk.org/test-report/0 test-report/git/0.git

	# If you have public-inbox 1.1+ installed, you may
	# initialize and index your mirror using the following commands:
	public-inbox-init -V2 test-report test-report/ https://inbox.dpdk.org/test-report \
		test-report@dpdk.org
	public-inbox-index test-report

Example config snippet for mirrors.
Newsgroup available over NNTP:
	nntp://inbox.dpdk.org/inbox.dpdk.test-report


AGPL code for this site: git clone https://public-inbox.org/public-inbox.git