From: dpdklab@iol.unh.edu
To: Test Report <test-report@dpdk.org>
Cc: dpdk-test-reports@iol.unh.edu
Subject: [dpdk-test-report] |SUCCESS| pw61476 [PATCH] [v4] app/test: add tests for atomic exchanges
Date: Fri, 18 Oct 2019 17:44:36 -0400 (EDT) [thread overview]
Message-ID: <20191018214436.0F480473@noxus.dpdklab.iol.unh.edu> (raw)
[-- Attachment #1: Type: text/plain, Size: 1334 bytes --]
Test-Label: iol-compilation
Test-Status: SUCCESS
http://dpdk.org/patch/61476
_Compile Testing PASS_
Submitter: David Christensen <drc@linux.vnet.ibm.com>
Date: Friday, October 18 2019 20:30:41
DPDK git baseline: Repo:dpdk
Branch: master
CommitID:ad4305d0d5ed103cf5217eb120168ff8f285466c
61476 --> compile testing pass
Test environment and result as below:
+--------------+--------------+-------------------+------------------+
| Environment | dpdk_compile | dpdk_compile_spdk | dpdk_compile_ovs |
+==============+==============+===================+==================+
| Ubuntu 18.04 | PASS | PASS | PASS |
+--------------+--------------+-------------------+------------------+
| FreeBSD 11.2 | PASS | PASS | |
+--------------+--------------+-------------------+------------------+
| CentOS 8 | PASS | | PASS |
+--------------+--------------+-------------------+------------------+
Ubuntu 18.04
Kernel: 4.15.0-generic
GCC: 7.4
FreeBSD 11.2
Kernel: 11.2
GCC: 8.3
CentOS 8
Kernel: 4.18.0.el8_0
GCC: 8.2
https://lab.dpdk.org/results/dashboard/patchsets/8031/
UNH-IOL DPDK Performance Test Lab
To manage your email subscriptions visit:
https://lab.dpdk.org/results/dashboard/preferences/subscriptions/
next reply other threads:[~2019-10-18 21:44 UTC|newest]
Thread overview: 4+ messages / expand[flat|nested] mbox.gz Atom feed top
2019-10-18 21:44 dpdklab [this message]
-- strict thread matches above, loose matches on Subject: below --
2019-10-18 21:59 dpdklab
2019-10-18 21:06 dpdklab
[not found] <20191018203041.22074-1-drc@linux.vnet.ibm.com>
2019-10-18 20:32 ` [dpdk-test-report] |SUCCESS| pw61476 [PATCH v4] " checkpatch
Reply instructions:
You may reply publicly to this message via plain-text email
using any one of the following methods:
* Save the following mbox file, import it into your mail client,
and reply-to-all from there: mbox
Avoid top-posting and favor interleaved quoting:
https://en.wikipedia.org/wiki/Posting_style#Interleaved_style
* Reply using the --to, --cc, and --in-reply-to
switches of git-send-email(1):
git send-email \
--in-reply-to=20191018214436.0F480473@noxus.dpdklab.iol.unh.edu \
--to=dpdklab@iol.unh.edu \
--cc=dpdk-test-reports@iol.unh.edu \
--cc=test-report@dpdk.org \
/path/to/YOUR_REPLY
https://kernel.org/pub/software/scm/git/docs/git-send-email.html
* If your mail client supports setting the In-Reply-To header
via mailto: links, try the mailto: link
Be sure your reply has a Subject: header at the top and a blank line
before the message body.
This is a public inbox, see mirroring instructions
for how to clone and mirror all data and code used for this inbox;
as well as URLs for NNTP newsgroup(s).