* [dpdk-test-report] |SUCCESS| pw61593-61605 [PATCH] [v8, 01/13] vhost: add packed ring indexes increasing function
@ 2019-10-21 16:53 dpdklab
0 siblings, 0 replies; 3+ messages in thread
From: dpdklab @ 2019-10-21 16:53 UTC (permalink / raw)
To: Ali Alnubani, Test Report; +Cc: dpdk-test-reports
[-- Attachment #1: Type: text/plain, Size: 3920 bytes --]
Test-Label: iol-mellanox-Performance
Test-Status: SUCCESS
http://dpdk.org/patch/61593
_Performance Testing PASS_
Submitter: Liu, Yong <yong.liu@intel.com>
Date: Monday, October 21 2019 22:08:01
DPDK git baseline: Repo:dpdk-next-virtio
Branch: master
CommitID:5005bcda71239fa25b48811dff64d6050d3bc4a3
61593-61605 --> performance testing pass
Test environment and result as below:
Ubuntu 18.04
Kernel: 4.15.0-generic
GCC: 7.4
NIC: Mellanox ConnectX-4 Lx 25000 Mbps
Target: x86_64-native-linuxapp-gcc
Fail/Total: 0/6
Detail performance results:
+------------+---------+-------------------------------------+
| frame_size | txd/rxd | throughput difference from expected |
+============+=========+=====================================+
| 64 | 256 | 0.240 |
+------------+---------+-------------------------------------+
| 128 | 256 | 0.021 |
+------------+---------+-------------------------------------+
| 256 | 256 | -0.018 |
+------------+---------+-------------------------------------+
| 512 | 256 | 0.015 |
+------------+---------+-------------------------------------+
| 1024 | 256 | -0.015 |
+------------+---------+-------------------------------------+
| 1518 | 256 | 0.001 |
+------------+---------+-------------------------------------+
Ubuntu 18.04
Kernel: 4.15.0-generic
GCC: 7.4
NIC: Mellanox ConnectX-4 Lx 40000 Mbps
Target: x86_64-native-linuxapp-gcc
Fail/Total: 0/6
Detail performance results:
+------------+---------+-------------------------------------+
| frame_size | txd/rxd | throughput difference from expected |
+============+=========+=====================================+
| 64 | 256 | 0.069 |
+------------+---------+-------------------------------------+
| 128 | 256 | -0.149 |
+------------+---------+-------------------------------------+
| 256 | 256 | 0.069 |
+------------+---------+-------------------------------------+
| 512 | 256 | 0.010 |
+------------+---------+-------------------------------------+
| 1024 | 256 | 0.001 |
+------------+---------+-------------------------------------+
| 1518 | 256 | 0.003 |
+------------+---------+-------------------------------------+
Ubuntu 18.04
Kernel: 4.15.0-generic
GCC: 7.4
NIC: Mellanox ConnectX-5 100000 Mbps
Target: x86_64-native-linuxapp-gcc
Fail/Total: 0/6
Detail performance results:
+------------+---------+-------------------------------------+
| frame_size | txd/rxd | throughput difference from expected |
+============+=========+=====================================+
| 64 | 256 | 0.051 |
+------------+---------+-------------------------------------+
| 128 | 256 | -0.120 |
+------------+---------+-------------------------------------+
| 256 | 256 | -0.094 |
+------------+---------+-------------------------------------+
| 512 | 256 | -0.139 |
+------------+---------+-------------------------------------+
| 1024 | 256 | -0.030 |
+------------+---------+-------------------------------------+
| 1518 | 256 | 0.011 |
+------------+---------+-------------------------------------+
https://lab.dpdk.org/results/dashboard/patchsets/8057/
UNH-IOL DPDK Performance Test Lab
To manage your email subscriptions visit:
https://lab.dpdk.org/results/dashboard/preferences/subscriptions/
^ permalink raw reply [flat|nested] 3+ messages in thread
* [dpdk-test-report] |SUCCESS| pw61593-61605 [PATCH] [v8, 01/13] vhost: add packed ring indexes increasing function
@ 2019-10-21 15:25 dpdklab
0 siblings, 0 replies; 3+ messages in thread
From: dpdklab @ 2019-10-21 15:25 UTC (permalink / raw)
To: Test Report; +Cc: dpdk-test-reports
[-- Attachment #1: Type: text/plain, Size: 1340 bytes --]
Test-Label: iol-compilation
Test-Status: SUCCESS
http://dpdk.org/patch/61593
_Compile Testing PASS_
Submitter: Liu, Yong <yong.liu@intel.com>
Date: Monday, October 21 2019 22:08:01
DPDK git baseline: Repo:dpdk-next-virtio
Branch: master
CommitID:5005bcda71239fa25b48811dff64d6050d3bc4a3
61593-61605 --> compile testing pass
Test environment and result as below:
+--------------+-------------------+------------------+--------------+
| Environment | dpdk_compile_spdk | dpdk_compile_ovs | dpdk_compile |
+==============+===================+==================+==============+
| FreeBSD 11.2 | PASS | | PASS |
+--------------+-------------------+------------------+--------------+
| Ubuntu 18.04 | PASS | PASS | PASS |
+--------------+-------------------+------------------+--------------+
| CentOS 8 | | PASS | PASS |
+--------------+-------------------+------------------+--------------+
FreeBSD 11.2
Kernel: 11.2
GCC: 8.3
Ubuntu 18.04
Kernel: 4.15.0-generic
GCC: 7.4
CentOS 8
Kernel: 4.18.0.el8_0
GCC: 8.2
https://lab.dpdk.org/results/dashboard/patchsets/8057/
UNH-IOL DPDK Performance Test Lab
To manage your email subscriptions visit:
https://lab.dpdk.org/results/dashboard/preferences/subscriptions/
^ permalink raw reply [flat|nested] 3+ messages in thread
* [dpdk-test-report] |SUCCESS| pw61593-61605 [PATCH] [v8, 01/13] vhost: add packed ring indexes increasing function
@ 2019-10-21 14:56 dpdklab
0 siblings, 0 replies; 3+ messages in thread
From: dpdklab @ 2019-10-21 14:56 UTC (permalink / raw)
To: Test Report; +Cc: dpdk-test-reports
[-- Attachment #1: Type: text/plain, Size: 2005 bytes --]
Test-Label: iol-intel-Performance
Test-Status: SUCCESS
http://dpdk.org/patch/61593
_Performance Testing PASS_
Submitter: Liu, Yong <yong.liu@intel.com>
Date: Monday, October 21 2019 22:08:01
DPDK git baseline: Repo:dpdk-next-virtio
Branch: master
CommitID:5005bcda71239fa25b48811dff64d6050d3bc4a3
61593-61605 --> performance testing pass
Test environment and result as below:
Ubuntu 18.04
Kernel: 4.15.0-generic
GCC: 7.4
NIC: Intel Corporation Ethernet Converged Network Adapter 82599ES 10000 Mbps
Target: x86_64-native-linuxapp-gcc
Fail/Total: 0/3
Detail performance results:
+------------+---------+-------------------------------------+
| frame_size | txd/rxd | throughput difference from expected |
+============+=========+=====================================+
| 64 | 128 | 0.013 |
+------------+---------+-------------------------------------+
| 64 | 512 | -0.193 |
+------------+---------+-------------------------------------+
| 64 | 2048 | 0.262 |
+------------+---------+-------------------------------------+
Ubuntu 18.04
Kernel: 4.15.0-generic
GCC: 7.4
NIC: Intel Corporation Ethernet Converged Network Adapter XL710-QDA2 40000 Mbps
Target: x86_64-native-linuxapp-gcc
Fail/Total: 0/2
Detail performance results:
+------------+---------+-------------------------------------+
| frame_size | txd/rxd | throughput difference from expected |
+============+=========+=====================================+
| 64 | 512 | -0.553 |
+------------+---------+-------------------------------------+
| 64 | 2048 | -0.435 |
+------------+---------+-------------------------------------+
https://lab.dpdk.org/results/dashboard/patchsets/8057/
UNH-IOL DPDK Performance Test Lab
To manage your email subscriptions visit:
https://lab.dpdk.org/results/dashboard/preferences/subscriptions/
^ permalink raw reply [flat|nested] 3+ messages in thread
end of thread, other threads:[~2019-10-21 16:53 UTC | newest]
Thread overview: 3+ messages (download: mbox.gz / follow: Atom feed)
-- links below jump to the message on this page --
2019-10-21 16:53 [dpdk-test-report] |SUCCESS| pw61593-61605 [PATCH] [v8, 01/13] vhost: add packed ring indexes increasing function dpdklab
-- strict thread matches above, loose matches on Subject: below --
2019-10-21 15:25 dpdklab
2019-10-21 14:56 dpdklab
This is a public inbox, see mirroring instructions
for how to clone and mirror all data and code used for this inbox;
as well as URLs for NNTP newsgroup(s).