* [dpdk-test-report] |SUCCESS| pw61607-61611 [PATCH] [v7, 1/5] ipsec: add inbound SAD API
@ 2019-10-21 17:32 dpdklab
0 siblings, 0 replies; 3+ messages in thread
From: dpdklab @ 2019-10-21 17:32 UTC (permalink / raw)
To: Ali Alnubani, Test Report; +Cc: dpdk-test-reports
[-- Attachment #1: Type: text/plain, Size: 3927 bytes --]
Test-Label: iol-mellanox-Performance
Test-Status: SUCCESS
http://dpdk.org/patch/61607
_Performance Testing PASS_
Submitter: Vladimir Medvedkin <vladimir.medvedkin@intel.com>
Date: Monday, October 21 2019 14:35:42
DPDK git baseline: Repo:dpdk
Branch: master
CommitID:b36f587f010bba421a8fd0b4c383276ecb796ae3
61607-61611 --> performance testing pass
Test environment and result as below:
Ubuntu 18.04
Kernel: 4.15.0-generic
GCC: 7.4
NIC: Mellanox ConnectX-5 100000 Mbps
Target: x86_64-native-linuxapp-gcc
Fail/Total: 0/6
Detail performance results:
+------------+---------+-------------------------------------+
| frame_size | txd/rxd | throughput difference from expected |
+============+=========+=====================================+
| 64 | 256 | 0.242 |
+------------+---------+-------------------------------------+
| 128 | 256 | -0.139 |
+------------+---------+-------------------------------------+
| 256 | 256 | -0.049 |
+------------+---------+-------------------------------------+
| 512 | 256 | -0.059 |
+------------+---------+-------------------------------------+
| 1024 | 256 | 0.016 |
+------------+---------+-------------------------------------+
| 1518 | 256 | 0.005 |
+------------+---------+-------------------------------------+
Ubuntu 18.04
Kernel: 4.15.0-generic
GCC: 7.4
NIC: Mellanox ConnectX-4 Lx 25000 Mbps
Target: x86_64-native-linuxapp-gcc
Fail/Total: 0/6
Detail performance results:
+------------+---------+-------------------------------------+
| frame_size | txd/rxd | throughput difference from expected |
+============+=========+=====================================+
| 64 | 256 | 0.482 |
+------------+---------+-------------------------------------+
| 128 | 256 | -0.115 |
+------------+---------+-------------------------------------+
| 256 | 256 | 0.008 |
+------------+---------+-------------------------------------+
| 512 | 256 | 0.029 |
+------------+---------+-------------------------------------+
| 1024 | 256 | -0.005 |
+------------+---------+-------------------------------------+
| 1518 | 256 | 0 |
+------------+---------+-------------------------------------+
Ubuntu 18.04
Kernel: 4.15.0-generic
GCC: 7.4
NIC: Mellanox ConnectX-4 Lx 40000 Mbps
Target: x86_64-native-linuxapp-gcc
Fail/Total: 0/6
Detail performance results:
+------------+---------+-------------------------------------+
| frame_size | txd/rxd | throughput difference from expected |
+============+=========+=====================================+
| 64 | 256 | 0.080 |
+------------+---------+-------------------------------------+
| 128 | 256 | -0.168 |
+------------+---------+-------------------------------------+
| 256 | 256 | 0.025 |
+------------+---------+-------------------------------------+
| 512 | 256 | 0.010 |
+------------+---------+-------------------------------------+
| 1024 | 256 | 0.001 |
+------------+---------+-------------------------------------+
| 1518 | 256 | 0.010 |
+------------+---------+-------------------------------------+
https://lab.dpdk.org/results/dashboard/patchsets/8058/
UNH-IOL DPDK Performance Test Lab
To manage your email subscriptions visit:
https://lab.dpdk.org/results/dashboard/preferences/subscriptions/
^ permalink raw reply [flat|nested] 3+ messages in thread
* [dpdk-test-report] |SUCCESS| pw61607-61611 [PATCH] [v7, 1/5] ipsec: add inbound SAD API
@ 2019-10-21 15:57 dpdklab
0 siblings, 0 replies; 3+ messages in thread
From: dpdklab @ 2019-10-21 15:57 UTC (permalink / raw)
To: Test Report; +Cc: dpdk-test-reports
[-- Attachment #1: Type: text/plain, Size: 1347 bytes --]
Test-Label: iol-compilation
Test-Status: SUCCESS
http://dpdk.org/patch/61607
_Compile Testing PASS_
Submitter: Vladimir Medvedkin <vladimir.medvedkin@intel.com>
Date: Monday, October 21 2019 14:35:42
DPDK git baseline: Repo:dpdk
Branch: master
CommitID:b36f587f010bba421a8fd0b4c383276ecb796ae3
61607-61611 --> compile testing pass
Test environment and result as below:
+--------------+------------------+-------------------+--------------+
| Environment | dpdk_compile_ovs | dpdk_compile_spdk | dpdk_compile |
+==============+==================+===================+==============+
| Ubuntu 18.04 | PASS | PASS | PASS |
+--------------+------------------+-------------------+--------------+
| CentOS 8 | PASS | | PASS |
+--------------+------------------+-------------------+--------------+
| FreeBSD 11.2 | | PASS | PASS |
+--------------+------------------+-------------------+--------------+
Ubuntu 18.04
Kernel: 4.15.0-generic
GCC: 7.4
CentOS 8
Kernel: 4.18.0.el8_0
GCC: 8.2
FreeBSD 11.2
Kernel: 11.2
GCC: 8.3
https://lab.dpdk.org/results/dashboard/patchsets/8058/
UNH-IOL DPDK Performance Test Lab
To manage your email subscriptions visit:
https://lab.dpdk.org/results/dashboard/preferences/subscriptions/
^ permalink raw reply [flat|nested] 3+ messages in thread
* [dpdk-test-report] |SUCCESS| pw61607-61611 [PATCH] [v7, 1/5] ipsec: add inbound SAD API
@ 2019-10-21 15:16 dpdklab
0 siblings, 0 replies; 3+ messages in thread
From: dpdklab @ 2019-10-21 15:16 UTC (permalink / raw)
To: Test Report; +Cc: dpdk-test-reports
[-- Attachment #1: Type: text/plain, Size: 2012 bytes --]
Test-Label: iol-intel-Performance
Test-Status: SUCCESS
http://dpdk.org/patch/61607
_Performance Testing PASS_
Submitter: Vladimir Medvedkin <vladimir.medvedkin@intel.com>
Date: Monday, October 21 2019 14:35:42
DPDK git baseline: Repo:dpdk
Branch: master
CommitID:b36f587f010bba421a8fd0b4c383276ecb796ae3
61607-61611 --> performance testing pass
Test environment and result as below:
Ubuntu 18.04
Kernel: 4.15.0-generic
GCC: 7.4
NIC: Intel Corporation Ethernet Converged Network Adapter 82599ES 10000 Mbps
Target: x86_64-native-linuxapp-gcc
Fail/Total: 0/3
Detail performance results:
+------------+---------+-------------------------------------+
| frame_size | txd/rxd | throughput difference from expected |
+============+=========+=====================================+
| 64 | 128 | -0.008 |
+------------+---------+-------------------------------------+
| 64 | 512 | -0.127 |
+------------+---------+-------------------------------------+
| 64 | 2048 | -0.105 |
+------------+---------+-------------------------------------+
Ubuntu 18.04
Kernel: 4.15.0-generic
GCC: 7.4
NIC: Intel Corporation Ethernet Converged Network Adapter XL710-QDA2 40000 Mbps
Target: x86_64-native-linuxapp-gcc
Fail/Total: 0/2
Detail performance results:
+------------+---------+-------------------------------------+
| frame_size | txd/rxd | throughput difference from expected |
+============+=========+=====================================+
| 64 | 512 | -0.226 |
+------------+---------+-------------------------------------+
| 64 | 2048 | -0.316 |
+------------+---------+-------------------------------------+
https://lab.dpdk.org/results/dashboard/patchsets/8058/
UNH-IOL DPDK Performance Test Lab
To manage your email subscriptions visit:
https://lab.dpdk.org/results/dashboard/preferences/subscriptions/
^ permalink raw reply [flat|nested] 3+ messages in thread
end of thread, other threads:[~2019-10-21 17:32 UTC | newest]
Thread overview: 3+ messages (download: mbox.gz / follow: Atom feed)
-- links below jump to the message on this page --
2019-10-21 17:32 [dpdk-test-report] |SUCCESS| pw61607-61611 [PATCH] [v7, 1/5] ipsec: add inbound SAD API dpdklab
-- strict thread matches above, loose matches on Subject: below --
2019-10-21 15:57 dpdklab
2019-10-21 15:16 dpdklab
This is a public inbox, see mirroring instructions
for how to clone and mirror all data and code used for this inbox;
as well as URLs for NNTP newsgroup(s).