* [dpdk-test-report] |SUCCESS| pw61613-61617 [PATCH] [v3, 1/5] crypto/qat: add sessionless implementation to asym pmd
@ 2019-10-21 19:16 dpdklab
0 siblings, 0 replies; 3+ messages in thread
From: dpdklab @ 2019-10-21 19:16 UTC (permalink / raw)
To: Test Report; +Cc: dpdk-test-reports
[-- Attachment #1: Type: text/plain, Size: 1353 bytes --]
Test-Label: iol-compilation
Test-Status: SUCCESS
http://dpdk.org/patch/61613
_Compile Testing PASS_
Submitter: Arek Kusztal <arkadiuszx.kusztal@intel.com>
Date: Monday, October 21 2019 18:09:15
DPDK git baseline: Repo:dpdk-next-crypto
Branch: master
CommitID:d995de3dd43a6053aa6334c3c2a9dababdfdac01
61613-61617 --> compile testing pass
Test environment and result as below:
+--------------+------------------+-------------------+--------------+
| Environment | dpdk_compile_ovs | dpdk_compile_spdk | dpdk_compile |
+==============+==================+===================+==============+
| Ubuntu 18.04 | PASS | PASS | PASS |
+--------------+------------------+-------------------+--------------+
| CentOS 8 | PASS | | PASS |
+--------------+------------------+-------------------+--------------+
| FreeBSD 11.2 | | PASS | PASS |
+--------------+------------------+-------------------+--------------+
Ubuntu 18.04
Kernel: 4.15.0-generic
GCC: 7.4
CentOS 8
Kernel: 4.18.0.el8_0
GCC: 8.2
FreeBSD 11.2
Kernel: 11.2
GCC: 8.3
https://lab.dpdk.org/results/dashboard/patchsets/8059/
UNH-IOL DPDK Performance Test Lab
To manage your email subscriptions visit:
https://lab.dpdk.org/results/dashboard/preferences/subscriptions/
^ permalink raw reply [flat|nested] 3+ messages in thread
* [dpdk-test-report] |SUCCESS| pw61613-61617 [PATCH] [v3, 1/5] crypto/qat: add sessionless implementation to asym pmd
@ 2019-10-21 19:32 dpdklab
0 siblings, 0 replies; 3+ messages in thread
From: dpdklab @ 2019-10-21 19:32 UTC (permalink / raw)
To: Ali Alnubani, Test Report; +Cc: dpdk-test-reports
[-- Attachment #1: Type: text/plain, Size: 3933 bytes --]
Test-Label: iol-mellanox-Performance
Test-Status: SUCCESS
http://dpdk.org/patch/61613
_Performance Testing PASS_
Submitter: Arek Kusztal <arkadiuszx.kusztal@intel.com>
Date: Monday, October 21 2019 18:09:15
DPDK git baseline: Repo:dpdk-next-crypto
Branch: master
CommitID:d995de3dd43a6053aa6334c3c2a9dababdfdac01
61613-61617 --> performance testing pass
Test environment and result as below:
Ubuntu 18.04
Kernel: 4.15.0-generic
GCC: 7.4
NIC: Mellanox ConnectX-4 Lx 25000 Mbps
Target: x86_64-native-linuxapp-gcc
Fail/Total: 0/6
Detail performance results:
+------------+---------+-------------------------------------+
| frame_size | txd/rxd | throughput difference from expected |
+============+=========+=====================================+
| 64 | 256 | 0.125 |
+------------+---------+-------------------------------------+
| 128 | 256 | -0.054 |
+------------+---------+-------------------------------------+
| 256 | 256 | -0.022 |
+------------+---------+-------------------------------------+
| 512 | 256 | 0.041 |
+------------+---------+-------------------------------------+
| 1024 | 256 | -0.004 |
+------------+---------+-------------------------------------+
| 1518 | 256 | -0.010 |
+------------+---------+-------------------------------------+
Ubuntu 18.04
Kernel: 4.15.0-generic
GCC: 7.4
NIC: Mellanox ConnectX-5 100000 Mbps
Target: x86_64-native-linuxapp-gcc
Fail/Total: 0/6
Detail performance results:
+------------+---------+-------------------------------------+
| frame_size | txd/rxd | throughput difference from expected |
+============+=========+=====================================+
| 64 | 256 | -0.009 |
+------------+---------+-------------------------------------+
| 128 | 256 | -0.012 |
+------------+---------+-------------------------------------+
| 256 | 256 | -0.039 |
+------------+---------+-------------------------------------+
| 512 | 256 | -0.144 |
+------------+---------+-------------------------------------+
| 1024 | 256 | 0.030 |
+------------+---------+-------------------------------------+
| 1518 | 256 | 0.005 |
+------------+---------+-------------------------------------+
Ubuntu 18.04
Kernel: 4.15.0-generic
GCC: 7.4
NIC: Mellanox ConnectX-4 Lx 40000 Mbps
Target: x86_64-native-linuxapp-gcc
Fail/Total: 0/6
Detail performance results:
+------------+---------+-------------------------------------+
| frame_size | txd/rxd | throughput difference from expected |
+============+=========+=====================================+
| 64 | 256 | -0.076 |
+------------+---------+-------------------------------------+
| 128 | 256 | 0.110 |
+------------+---------+-------------------------------------+
| 256 | 256 | 0.045 |
+------------+---------+-------------------------------------+
| 512 | 256 | 0.030 |
+------------+---------+-------------------------------------+
| 1024 | 256 | -0.002 |
+------------+---------+-------------------------------------+
| 1518 | 256 | 0.010 |
+------------+---------+-------------------------------------+
https://lab.dpdk.org/results/dashboard/patchsets/8059/
UNH-IOL DPDK Performance Test Lab
To manage your email subscriptions visit:
https://lab.dpdk.org/results/dashboard/preferences/subscriptions/
^ permalink raw reply [flat|nested] 3+ messages in thread
* [dpdk-test-report] |SUCCESS| pw61613-61617 [PATCH] [v3, 1/5] crypto/qat: add sessionless implementation to asym pmd
@ 2019-10-21 18:42 dpdklab
0 siblings, 0 replies; 3+ messages in thread
From: dpdklab @ 2019-10-21 18:42 UTC (permalink / raw)
To: Test Report; +Cc: dpdk-test-reports
[-- Attachment #1: Type: text/plain, Size: 2018 bytes --]
Test-Label: iol-intel-Performance
Test-Status: SUCCESS
http://dpdk.org/patch/61613
_Performance Testing PASS_
Submitter: Arek Kusztal <arkadiuszx.kusztal@intel.com>
Date: Monday, October 21 2019 18:09:15
DPDK git baseline: Repo:dpdk-next-crypto
Branch: master
CommitID:d995de3dd43a6053aa6334c3c2a9dababdfdac01
61613-61617 --> performance testing pass
Test environment and result as below:
Ubuntu 18.04
Kernel: 4.15.0-generic
GCC: 7.4
NIC: Intel Corporation Ethernet Converged Network Adapter 82599ES 10000 Mbps
Target: x86_64-native-linuxapp-gcc
Fail/Total: 0/3
Detail performance results:
+------------+---------+-------------------------------------+
| frame_size | txd/rxd | throughput difference from expected |
+============+=========+=====================================+
| 64 | 128 | -0.147 |
+------------+---------+-------------------------------------+
| 64 | 512 | 0.309 |
+------------+---------+-------------------------------------+
| 64 | 2048 | -0.053 |
+------------+---------+-------------------------------------+
Ubuntu 18.04
Kernel: 4.15.0-generic
GCC: 7.4
NIC: Intel Corporation Ethernet Converged Network Adapter XL710-QDA2 40000 Mbps
Target: x86_64-native-linuxapp-gcc
Fail/Total: 0/2
Detail performance results:
+------------+---------+-------------------------------------+
| frame_size | txd/rxd | throughput difference from expected |
+============+=========+=====================================+
| 64 | 512 | -0.329 |
+------------+---------+-------------------------------------+
| 64 | 2048 | -0.319 |
+------------+---------+-------------------------------------+
https://lab.dpdk.org/results/dashboard/patchsets/8059/
UNH-IOL DPDK Performance Test Lab
To manage your email subscriptions visit:
https://lab.dpdk.org/results/dashboard/preferences/subscriptions/
^ permalink raw reply [flat|nested] 3+ messages in thread
end of thread, other threads:[~2019-10-21 19:32 UTC | newest]
Thread overview: 3+ messages (download: mbox.gz / follow: Atom feed)
-- links below jump to the message on this page --
2019-10-21 19:16 [dpdk-test-report] |SUCCESS| pw61613-61617 [PATCH] [v3, 1/5] crypto/qat: add sessionless implementation to asym pmd dpdklab
-- strict thread matches above, loose matches on Subject: below --
2019-10-21 19:32 dpdklab
2019-10-21 18:42 dpdklab
This is a public inbox, see mirroring instructions
for how to clone and mirror all data and code used for this inbox;
as well as URLs for NNTP newsgroup(s).