* [dpdk-test-report] |SUCCESS| pw61622 [PATCH v10] ethdev: add HIGIG2 key field to flow API
[not found] <20191022041648.4812-1-kirankumark@marvell.com>
@ 2019-10-22 4:18 ` checkpatch
0 siblings, 0 replies; 4+ messages in thread
From: checkpatch @ 2019-10-22 4:18 UTC (permalink / raw)
To: test-report
Test-Label: checkpatch
Test-Status: SUCCESS
http://dpdk.org/patch/61622
_coding style OK_
^ permalink raw reply [flat|nested] 4+ messages in thread
* [dpdk-test-report] |SUCCESS| pw61622 [PATCH] [v10] ethdev: add HIGIG2 key field to flow API
@ 2019-10-22 5:22 dpdklab
0 siblings, 0 replies; 4+ messages in thread
From: dpdklab @ 2019-10-22 5:22 UTC (permalink / raw)
To: Ali Alnubani, Test Report; +Cc: dpdk-test-reports
[-- Attachment #1: Type: text/plain, Size: 3932 bytes --]
Test-Label: iol-mellanox-Performance
Test-Status: SUCCESS
http://dpdk.org/patch/61622
_Performance Testing PASS_
Submitter: Kiran Kumar Kokkilagadda <kirankumark@marvell.com>
Date: Tuesday, October 22 2019 04:16:48
DPDK git baseline: Repo:dpdk-next-net
Branch: master
CommitID:ddbbe3f5c85110a8486b5cafc2d47c2b38e13e57
61622 --> performance testing pass
Test environment and result as below:
Ubuntu 18.04
Kernel: 4.15.0-generic
GCC: 7.4
NIC: Mellanox ConnectX-4 Lx 40000 Mbps
Target: x86_64-native-linuxapp-gcc
Fail/Total: 0/6
Detail performance results:
+------------+---------+-------------------------------------+
| frame_size | txd/rxd | throughput difference from expected |
+============+=========+=====================================+
| 64 | 256 | -0.054 |
+------------+---------+-------------------------------------+
| 128 | 256 | -0.248 |
+------------+---------+-------------------------------------+
| 256 | 256 | 0.103 |
+------------+---------+-------------------------------------+
| 512 | 256 | 0 |
+------------+---------+-------------------------------------+
| 1024 | 256 | 0.002 |
+------------+---------+-------------------------------------+
| 1518 | 256 | 0 |
+------------+---------+-------------------------------------+
Ubuntu 18.04
Kernel: 4.15.0-generic
GCC: 7.4
NIC: Mellanox ConnectX-5 100000 Mbps
Target: x86_64-native-linuxapp-gcc
Fail/Total: 0/6
Detail performance results:
+------------+---------+-------------------------------------+
| frame_size | txd/rxd | throughput difference from expected |
+============+=========+=====================================+
| 64 | 256 | -0.078 |
+------------+---------+-------------------------------------+
| 128 | 256 | 0.148 |
+------------+---------+-------------------------------------+
| 256 | 256 | 0.043 |
+------------+---------+-------------------------------------+
| 512 | 256 | 0.007 |
+------------+---------+-------------------------------------+
| 1024 | 256 | 0.045 |
+------------+---------+-------------------------------------+
| 1518 | 256 | -0.004 |
+------------+---------+-------------------------------------+
Ubuntu 18.04
Kernel: 4.15.0-generic
GCC: 7.4
NIC: Mellanox ConnectX-4 Lx 25000 Mbps
Target: x86_64-native-linuxapp-gcc
Fail/Total: 0/6
Detail performance results:
+------------+---------+-------------------------------------+
| frame_size | txd/rxd | throughput difference from expected |
+============+=========+=====================================+
| 64 | 256 | 0.166 |
+------------+---------+-------------------------------------+
| 128 | 256 | 0.233 |
+------------+---------+-------------------------------------+
| 256 | 256 | 0.005 |
+------------+---------+-------------------------------------+
| 512 | 256 | -0.007 |
+------------+---------+-------------------------------------+
| 1024 | 256 | 0 |
+------------+---------+-------------------------------------+
| 1518 | 256 | 0.001 |
+------------+---------+-------------------------------------+
https://lab.dpdk.org/results/dashboard/patchsets/8062/
UNH-IOL DPDK Performance Test Lab
To manage your email subscriptions visit:
https://lab.dpdk.org/results/dashboard/preferences/subscriptions/
^ permalink raw reply [flat|nested] 4+ messages in thread
* [dpdk-test-report] |SUCCESS| pw61622 [PATCH] [v10] ethdev: add HIGIG2 key field to flow API
@ 2019-10-22 5:15 dpdklab
0 siblings, 0 replies; 4+ messages in thread
From: dpdklab @ 2019-10-22 5:15 UTC (permalink / raw)
To: Test Report; +Cc: dpdk-test-reports
[-- Attachment #1: Type: text/plain, Size: 1352 bytes --]
Test-Label: iol-compilation
Test-Status: SUCCESS
http://dpdk.org/patch/61622
_Compile Testing PASS_
Submitter: Kiran Kumar Kokkilagadda <kirankumark@marvell.com>
Date: Tuesday, October 22 2019 04:16:48
DPDK git baseline: Repo:dpdk-next-net
Branch: master
CommitID:ddbbe3f5c85110a8486b5cafc2d47c2b38e13e57
61622 --> compile testing pass
Test environment and result as below:
+--------------+--------------+-------------------+------------------+
| Environment | dpdk_compile | dpdk_compile_spdk | dpdk_compile_ovs |
+==============+==============+===================+==================+
| Ubuntu 18.04 | PASS | PASS | PASS |
+--------------+--------------+-------------------+------------------+
| FreeBSD 11.2 | PASS | PASS | |
+--------------+--------------+-------------------+------------------+
| CentOS 8 | PASS | | PASS |
+--------------+--------------+-------------------+------------------+
Ubuntu 18.04
Kernel: 4.15.0-generic
GCC: 7.4
FreeBSD 11.2
Kernel: 11.2
GCC: 8.3
CentOS 8
Kernel: 4.18.0.el8_0
GCC: 8.2
https://lab.dpdk.org/results/dashboard/patchsets/8062/
UNH-IOL DPDK Performance Test Lab
To manage your email subscriptions visit:
https://lab.dpdk.org/results/dashboard/preferences/subscriptions/
^ permalink raw reply [flat|nested] 4+ messages in thread
* [dpdk-test-report] |SUCCESS| pw61622 [PATCH] [v10] ethdev: add HIGIG2 key field to flow API
@ 2019-10-22 4:56 dpdklab
0 siblings, 0 replies; 4+ messages in thread
From: dpdklab @ 2019-10-22 4:56 UTC (permalink / raw)
To: Test Report; +Cc: dpdk-test-reports
[-- Attachment #1: Type: text/plain, Size: 2017 bytes --]
Test-Label: iol-intel-Performance
Test-Status: SUCCESS
http://dpdk.org/patch/61622
_Performance Testing PASS_
Submitter: Kiran Kumar Kokkilagadda <kirankumark@marvell.com>
Date: Tuesday, October 22 2019 04:16:48
DPDK git baseline: Repo:dpdk-next-net
Branch: master
CommitID:ddbbe3f5c85110a8486b5cafc2d47c2b38e13e57
61622 --> performance testing pass
Test environment and result as below:
Ubuntu 18.04
Kernel: 4.15.0-generic
GCC: 7.4
NIC: Intel Corporation Ethernet Converged Network Adapter 82599ES 10000 Mbps
Target: x86_64-native-linuxapp-gcc
Fail/Total: 0/3
Detail performance results:
+------------+---------+-------------------------------------+
| frame_size | txd/rxd | throughput difference from expected |
+============+=========+=====================================+
| 64 | 128 | -0.228 |
+------------+---------+-------------------------------------+
| 64 | 512 | 0.110 |
+------------+---------+-------------------------------------+
| 64 | 2048 | 0.032 |
+------------+---------+-------------------------------------+
Ubuntu 18.04
Kernel: 4.15.0-generic
GCC: 7.4
NIC: Intel Corporation Ethernet Converged Network Adapter XL710-QDA2 40000 Mbps
Target: x86_64-native-linuxapp-gcc
Fail/Total: 0/2
Detail performance results:
+------------+---------+-------------------------------------+
| frame_size | txd/rxd | throughput difference from expected |
+============+=========+=====================================+
| 64 | 512 | -0.627 |
+------------+---------+-------------------------------------+
| 64 | 2048 | -0.377 |
+------------+---------+-------------------------------------+
https://lab.dpdk.org/results/dashboard/patchsets/8062/
UNH-IOL DPDK Performance Test Lab
To manage your email subscriptions visit:
https://lab.dpdk.org/results/dashboard/preferences/subscriptions/
^ permalink raw reply [flat|nested] 4+ messages in thread
end of thread, other threads:[~2019-10-22 5:22 UTC | newest]
Thread overview: 4+ messages (download: mbox.gz / follow: Atom feed)
-- links below jump to the message on this page --
[not found] <20191022041648.4812-1-kirankumark@marvell.com>
2019-10-22 4:18 ` [dpdk-test-report] |SUCCESS| pw61622 [PATCH v10] ethdev: add HIGIG2 key field to flow API checkpatch
2019-10-22 4:56 [dpdk-test-report] |SUCCESS| pw61622 [PATCH] [v10] " dpdklab
2019-10-22 5:15 dpdklab
2019-10-22 5:22 dpdklab
This is a public inbox, see mirroring instructions
for how to clone and mirror all data and code used for this inbox;
as well as URLs for NNTP newsgroup(s).