* [dpdk-test-report] |SUCCESS| pw61632-61634 [PATCH] [1/8] eal: make lcore config private
@ 2019-10-22 13:01 dpdklab
0 siblings, 0 replies; 2+ messages in thread
From: dpdklab @ 2019-10-22 13:01 UTC (permalink / raw)
To: Test Report; +Cc: dpdk-test-reports
[-- Attachment #1: Type: text/plain, Size: 1341 bytes --]
Test-Label: iol-compilation
Test-Status: SUCCESS
http://dpdk.org/patch/61632
_Compile Testing PASS_
Submitter: David Marchand <david.marchand@redhat.com>
Date: Tuesday, October 22 2019 09:32:34
DPDK git baseline: Repo:dpdk
Branch: master
CommitID:08be0e0b68a5dedb1186b19dd61706da96a9ef19
61632-61634 --> compile testing pass
Test environment and result as below:
+--------------+--------------+-------------------+------------------+
| Environment | dpdk_compile | dpdk_compile_spdk | dpdk_compile_ovs |
+==============+==============+===================+==================+
| Ubuntu 18.04 | PASS | PASS | PASS |
+--------------+--------------+-------------------+------------------+
| FreeBSD 11.2 | PASS | PASS | |
+--------------+--------------+-------------------+------------------+
| CentOS 8 | PASS | | PASS |
+--------------+--------------+-------------------+------------------+
Ubuntu 18.04
Kernel: 4.15.0-generic
GCC: 7.4
FreeBSD 11.2
Kernel: 11.2
GCC: 8.3
CentOS 8
Kernel: 4.18.0.el8_0
GCC: 8.2
https://lab.dpdk.org/results/dashboard/patchsets/8069/
UNH-IOL DPDK Performance Test Lab
To manage your email subscriptions visit:
https://lab.dpdk.org/results/dashboard/preferences/subscriptions/
^ permalink raw reply [flat|nested] 2+ messages in thread
* [dpdk-test-report] |SUCCESS| pw61632-61634 [PATCH] [1/8] eal: make lcore config private
@ 2019-10-22 12:41 dpdklab
0 siblings, 0 replies; 2+ messages in thread
From: dpdklab @ 2019-10-22 12:41 UTC (permalink / raw)
To: Test Report; +Cc: dpdk-test-reports
[-- Attachment #1: Type: text/plain, Size: 2006 bytes --]
Test-Label: iol-intel-Performance
Test-Status: SUCCESS
http://dpdk.org/patch/61632
_Performance Testing PASS_
Submitter: David Marchand <david.marchand@redhat.com>
Date: Tuesday, October 22 2019 09:32:34
DPDK git baseline: Repo:dpdk
Branch: master
CommitID:08be0e0b68a5dedb1186b19dd61706da96a9ef19
61632-61634 --> performance testing pass
Test environment and result as below:
Ubuntu 18.04
Kernel: 4.15.0-generic
GCC: 7.4
NIC: Intel Corporation Ethernet Converged Network Adapter 82599ES 10000 Mbps
Target: x86_64-native-linuxapp-gcc
Fail/Total: 0/3
Detail performance results:
+------------+---------+-------------------------------------+
| frame_size | txd/rxd | throughput difference from expected |
+============+=========+=====================================+
| 64 | 128 | -0.111 |
+------------+---------+-------------------------------------+
| 64 | 512 | -0.054 |
+------------+---------+-------------------------------------+
| 64 | 2048 | -0.158 |
+------------+---------+-------------------------------------+
Ubuntu 18.04
Kernel: 4.15.0-generic
GCC: 7.4
NIC: Intel Corporation Ethernet Converged Network Adapter XL710-QDA2 40000 Mbps
Target: x86_64-native-linuxapp-gcc
Fail/Total: 0/2
Detail performance results:
+------------+---------+-------------------------------------+
| frame_size | txd/rxd | throughput difference from expected |
+============+=========+=====================================+
| 64 | 512 | 0.685 |
+------------+---------+-------------------------------------+
| 64 | 2048 | -0.186 |
+------------+---------+-------------------------------------+
https://lab.dpdk.org/results/dashboard/patchsets/8069/
UNH-IOL DPDK Performance Test Lab
To manage your email subscriptions visit:
https://lab.dpdk.org/results/dashboard/preferences/subscriptions/
^ permalink raw reply [flat|nested] 2+ messages in thread
end of thread, other threads:[~2019-10-22 13:01 UTC | newest]
Thread overview: 2+ messages (download: mbox.gz / follow: Atom feed)
-- links below jump to the message on this page --
2019-10-22 13:01 [dpdk-test-report] |SUCCESS| pw61632-61634 [PATCH] [1/8] eal: make lcore config private dpdklab
-- strict thread matches above, loose matches on Subject: below --
2019-10-22 12:41 dpdklab
This is a public inbox, see mirroring instructions
for how to clone and mirror all data and code used for this inbox;
as well as URLs for NNTP newsgroup(s).