* [dpdk-test-report] |SUCCESS| pw61655-61659 [PATCH] [v4, 1/5] crypto/qat: add sessionless implementation to asym pmd
@ 2019-10-22 14:48 dpdklab
0 siblings, 0 replies; 3+ messages in thread
From: dpdklab @ 2019-10-22 14:48 UTC (permalink / raw)
To: Test Report; +Cc: dpdk-test-reports
[-- Attachment #1: Type: text/plain, Size: 2019 bytes --]
Test-Label: iol-intel-Performance
Test-Status: SUCCESS
http://dpdk.org/patch/61655
_Performance Testing PASS_
Submitter: Arek Kusztal <arkadiuszx.kusztal@intel.com>
Date: Tuesday, October 22 2019 14:04:25
DPDK git baseline: Repo:dpdk-next-crypto
Branch: master
CommitID:d995de3dd43a6053aa6334c3c2a9dababdfdac01
61655-61659 --> performance testing pass
Test environment and result as below:
Ubuntu 18.04
Kernel: 4.15.0-generic
GCC: 7.4
NIC: Intel Corporation Ethernet Converged Network Adapter 82599ES 10000 Mbps
Target: x86_64-native-linuxapp-gcc
Fail/Total: 0/3
Detail performance results:
+------------+---------+-------------------------------------+
| frame_size | txd/rxd | throughput difference from expected |
+============+=========+=====================================+
| 64 | 128 | -0.166 |
+------------+---------+-------------------------------------+
| 64 | 512 | 0.069 |
+------------+---------+-------------------------------------+
| 64 | 2048 | -0.188 |
+------------+---------+-------------------------------------+
Ubuntu 18.04
Kernel: 4.15.0-generic
GCC: 7.4
NIC: Intel Corporation Ethernet Converged Network Adapter XL710-QDA2 40000 Mbps
Target: x86_64-native-linuxapp-gcc
Fail/Total: 0/2
Detail performance results:
+------------+---------+-------------------------------------+
| frame_size | txd/rxd | throughput difference from expected |
+============+=========+=====================================+
| 64 | 512 | -0.440 |
+------------+---------+-------------------------------------+
| 64 | 2048 | -0.242 |
+------------+---------+-------------------------------------+
https://lab.dpdk.org/results/dashboard/patchsets/8074/
UNH-IOL DPDK Performance Test Lab
To manage your email subscriptions visit:
https://lab.dpdk.org/results/dashboard/preferences/subscriptions/
^ permalink raw reply [flat|nested] 3+ messages in thread
* [dpdk-test-report] |SUCCESS| pw61655-61659 [PATCH] [v4, 1/5] crypto/qat: add sessionless implementation to asym pmd
@ 2019-10-22 16:04 dpdklab
0 siblings, 0 replies; 3+ messages in thread
From: dpdklab @ 2019-10-22 16:04 UTC (permalink / raw)
To: Test Report; +Cc: dpdk-test-reports
[-- Attachment #1: Type: text/plain, Size: 1354 bytes --]
Test-Label: iol-compilation
Test-Status: SUCCESS
http://dpdk.org/patch/61655
_Compile Testing PASS_
Submitter: Arek Kusztal <arkadiuszx.kusztal@intel.com>
Date: Tuesday, October 22 2019 14:04:25
DPDK git baseline: Repo:dpdk-next-crypto
Branch: master
CommitID:d995de3dd43a6053aa6334c3c2a9dababdfdac01
61655-61659 --> compile testing pass
Test environment and result as below:
+--------------+-------------------+------------------+--------------+
| Environment | dpdk_compile_spdk | dpdk_compile_ovs | dpdk_compile |
+==============+===================+==================+==============+
| FreeBSD 11.2 | PASS | | PASS |
+--------------+-------------------+------------------+--------------+
| Ubuntu 18.04 | PASS | PASS | PASS |
+--------------+-------------------+------------------+--------------+
| CentOS 8 | | PASS | PASS |
+--------------+-------------------+------------------+--------------+
FreeBSD 11.2
Kernel: 11.2
GCC: 8.3
Ubuntu 18.04
Kernel: 4.15.0-generic
GCC: 7.4
CentOS 8
Kernel: 4.18.0.el8_0
GCC: 8.2
https://lab.dpdk.org/results/dashboard/patchsets/8074/
UNH-IOL DPDK Performance Test Lab
To manage your email subscriptions visit:
https://lab.dpdk.org/results/dashboard/preferences/subscriptions/
^ permalink raw reply [flat|nested] 3+ messages in thread
* [dpdk-test-report] |SUCCESS| pw61655-61659 [PATCH] [v4, 1/5] crypto/qat: add sessionless implementation to asym pmd
@ 2019-10-22 17:08 dpdklab
0 siblings, 0 replies; 3+ messages in thread
From: dpdklab @ 2019-10-22 17:08 UTC (permalink / raw)
To: Ali Alnubani, Test Report; +Cc: dpdk-test-reports
[-- Attachment #1: Type: text/plain, Size: 3934 bytes --]
Test-Label: iol-mellanox-Performance
Test-Status: SUCCESS
http://dpdk.org/patch/61655
_Performance Testing PASS_
Submitter: Arek Kusztal <arkadiuszx.kusztal@intel.com>
Date: Tuesday, October 22 2019 14:04:25
DPDK git baseline: Repo:dpdk-next-crypto
Branch: master
CommitID:d995de3dd43a6053aa6334c3c2a9dababdfdac01
61655-61659 --> performance testing pass
Test environment and result as below:
Ubuntu 18.04
Kernel: 4.15.0-generic
GCC: 7.4
NIC: Mellanox ConnectX-4 Lx 40000 Mbps
Target: x86_64-native-linuxapp-gcc
Fail/Total: 0/6
Detail performance results:
+------------+---------+-------------------------------------+
| frame_size | txd/rxd | throughput difference from expected |
+============+=========+=====================================+
| 64 | 256 | 0.107 |
+------------+---------+-------------------------------------+
| 128 | 256 | -0.541 |
+------------+---------+-------------------------------------+
| 256 | 256 | 0.047 |
+------------+---------+-------------------------------------+
| 512 | 256 | 0.043 |
+------------+---------+-------------------------------------+
| 1024 | 256 | -0.008 |
+------------+---------+-------------------------------------+
| 1518 | 256 | 0.002 |
+------------+---------+-------------------------------------+
Ubuntu 18.04
Kernel: 4.15.0-generic
GCC: 7.4
NIC: Mellanox ConnectX-5 100000 Mbps
Target: x86_64-native-linuxapp-gcc
Fail/Total: 0/6
Detail performance results:
+------------+---------+-------------------------------------+
| frame_size | txd/rxd | throughput difference from expected |
+============+=========+=====================================+
| 64 | 256 | -0.357 |
+------------+---------+-------------------------------------+
| 128 | 256 | 0.019 |
+------------+---------+-------------------------------------+
| 256 | 256 | -0.075 |
+------------+---------+-------------------------------------+
| 512 | 256 | -0.002 |
+------------+---------+-------------------------------------+
| 1024 | 256 | 0.007 |
+------------+---------+-------------------------------------+
| 1518 | 256 | 0.017 |
+------------+---------+-------------------------------------+
Ubuntu 18.04
Kernel: 4.15.0-generic
GCC: 7.4
NIC: Mellanox ConnectX-4 Lx 25000 Mbps
Target: x86_64-native-linuxapp-gcc
Fail/Total: 0/6
Detail performance results:
+------------+---------+-------------------------------------+
| frame_size | txd/rxd | throughput difference from expected |
+============+=========+=====================================+
| 64 | 256 | -0.070 |
+------------+---------+-------------------------------------+
| 128 | 256 | 0.042 |
+------------+---------+-------------------------------------+
| 256 | 256 | -0.023 |
+------------+---------+-------------------------------------+
| 512 | 256 | 0.021 |
+------------+---------+-------------------------------------+
| 1024 | 256 | 0 |
+------------+---------+-------------------------------------+
| 1518 | 256 | 0 |
+------------+---------+-------------------------------------+
https://lab.dpdk.org/results/dashboard/patchsets/8074/
UNH-IOL DPDK Performance Test Lab
To manage your email subscriptions visit:
https://lab.dpdk.org/results/dashboard/preferences/subscriptions/
^ permalink raw reply [flat|nested] 3+ messages in thread
end of thread, other threads:[~2019-10-22 17:08 UTC | newest]
Thread overview: 3+ messages (download: mbox.gz / follow: Atom feed)
-- links below jump to the message on this page --
2019-10-22 14:48 [dpdk-test-report] |SUCCESS| pw61655-61659 [PATCH] [v4, 1/5] crypto/qat: add sessionless implementation to asym pmd dpdklab
2019-10-22 16:04 dpdklab
2019-10-22 17:08 dpdklab
This is a public inbox, see mirroring instructions
for how to clone and mirror all data and code used for this inbox;
as well as URLs for NNTP newsgroup(s).