* [dpdk-test-report] |SUCCESS| pw61677 [PATCH] eal: remove dead code on NUMA node detection
@ 2019-10-22 21:53 dpdklab
0 siblings, 0 replies; 4+ messages in thread
From: dpdklab @ 2019-10-22 21:53 UTC (permalink / raw)
To: Test Report; +Cc: dpdk-test-reports
[-- Attachment #1: Type: text/plain, Size: 1335 bytes --]
Test-Label: iol-compilation
Test-Status: SUCCESS
http://dpdk.org/patch/61677
_Compile Testing PASS_
Submitter: David Marchand <david.marchand@redhat.com>
Date: Tuesday, October 22 2019 19:34:17
DPDK git baseline: Repo:dpdk
Branch: master
CommitID:08be0e0b68a5dedb1186b19dd61706da96a9ef19
61677 --> compile testing pass
Test environment and result as below:
+--------------+------------------+-------------------+--------------+
| Environment | dpdk_compile_ovs | dpdk_compile_spdk | dpdk_compile |
+==============+==================+===================+==============+
| Ubuntu 18.04 | PASS | PASS | PASS |
+--------------+------------------+-------------------+--------------+
| CentOS 8 | PASS | | PASS |
+--------------+------------------+-------------------+--------------+
| FreeBSD 11.2 | | PASS | PASS |
+--------------+------------------+-------------------+--------------+
Ubuntu 18.04
Kernel: 4.15.0-generic
GCC: 7.4
CentOS 8
Kernel: 4.18.0.el8_0
GCC: 8.2
FreeBSD 11.2
Kernel: 11.2
GCC: 8.3
https://lab.dpdk.org/results/dashboard/patchsets/8080/
UNH-IOL DPDK Performance Test Lab
To manage your email subscriptions visit:
https://lab.dpdk.org/results/dashboard/preferences/subscriptions/
^ permalink raw reply [flat|nested] 4+ messages in thread
* [dpdk-test-report] |SUCCESS| pw61677 [PATCH] eal: remove dead code on NUMA node detection
@ 2019-10-22 22:26 dpdklab
0 siblings, 0 replies; 4+ messages in thread
From: dpdklab @ 2019-10-22 22:26 UTC (permalink / raw)
To: Ali Alnubani, Test Report; +Cc: dpdk-test-reports
[-- Attachment #1: Type: text/plain, Size: 3915 bytes --]
Test-Label: iol-mellanox-Performance
Test-Status: SUCCESS
http://dpdk.org/patch/61677
_Performance Testing PASS_
Submitter: David Marchand <david.marchand@redhat.com>
Date: Tuesday, October 22 2019 19:34:17
DPDK git baseline: Repo:dpdk
Branch: master
CommitID:08be0e0b68a5dedb1186b19dd61706da96a9ef19
61677 --> performance testing pass
Test environment and result as below:
Ubuntu 18.04
Kernel: 4.15.0-generic
GCC: 7.4
NIC: Mellanox ConnectX-5 100000 Mbps
Target: x86_64-native-linuxapp-gcc
Fail/Total: 0/6
Detail performance results:
+------------+---------+-------------------------------------+
| frame_size | txd/rxd | throughput difference from expected |
+============+=========+=====================================+
| 64 | 256 | -0.279 |
+------------+---------+-------------------------------------+
| 128 | 256 | 0.019 |
+------------+---------+-------------------------------------+
| 256 | 256 | -0.097 |
+------------+---------+-------------------------------------+
| 512 | 256 | 0.036 |
+------------+---------+-------------------------------------+
| 1024 | 256 | 0.036 |
+------------+---------+-------------------------------------+
| 1518 | 256 | 0 |
+------------+---------+-------------------------------------+
Ubuntu 18.04
Kernel: 4.15.0-generic
GCC: 7.4
NIC: Mellanox ConnectX-4 Lx 40000 Mbps
Target: x86_64-native-linuxapp-gcc
Fail/Total: 0/6
Detail performance results:
+------------+---------+-------------------------------------+
| frame_size | txd/rxd | throughput difference from expected |
+============+=========+=====================================+
| 64 | 256 | 0.073 |
+------------+---------+-------------------------------------+
| 128 | 256 | -0.983 |
+------------+---------+-------------------------------------+
| 256 | 256 | -0.013 |
+------------+---------+-------------------------------------+
| 512 | 256 | 0.003 |
+------------+---------+-------------------------------------+
| 1024 | 256 | -0.001 |
+------------+---------+-------------------------------------+
| 1518 | 256 | 0.016 |
+------------+---------+-------------------------------------+
Ubuntu 18.04
Kernel: 4.15.0-generic
GCC: 7.4
NIC: Mellanox ConnectX-4 Lx 25000 Mbps
Target: x86_64-native-linuxapp-gcc
Fail/Total: 0/6
Detail performance results:
+------------+---------+-------------------------------------+
| frame_size | txd/rxd | throughput difference from expected |
+============+=========+=====================================+
| 64 | 256 | -0.378 |
+------------+---------+-------------------------------------+
| 128 | 256 | 0.033 |
+------------+---------+-------------------------------------+
| 256 | 256 | -0.037 |
+------------+---------+-------------------------------------+
| 512 | 256 | -0.007 |
+------------+---------+-------------------------------------+
| 1024 | 256 | 0.003 |
+------------+---------+-------------------------------------+
| 1518 | 256 | -0.004 |
+------------+---------+-------------------------------------+
https://lab.dpdk.org/results/dashboard/patchsets/8080/
UNH-IOL DPDK Performance Test Lab
To manage your email subscriptions visit:
https://lab.dpdk.org/results/dashboard/preferences/subscriptions/
^ permalink raw reply [flat|nested] 4+ messages in thread
* [dpdk-test-report] |SUCCESS| pw61677 [PATCH] eal: remove dead code on NUMA node detection
@ 2019-10-22 21:13 dpdklab
0 siblings, 0 replies; 4+ messages in thread
From: dpdklab @ 2019-10-22 21:13 UTC (permalink / raw)
To: Test Report; +Cc: dpdk-test-reports
[-- Attachment #1: Type: text/plain, Size: 2000 bytes --]
Test-Label: iol-intel-Performance
Test-Status: SUCCESS
http://dpdk.org/patch/61677
_Performance Testing PASS_
Submitter: David Marchand <david.marchand@redhat.com>
Date: Tuesday, October 22 2019 19:34:17
DPDK git baseline: Repo:dpdk
Branch: master
CommitID:08be0e0b68a5dedb1186b19dd61706da96a9ef19
61677 --> performance testing pass
Test environment and result as below:
Ubuntu 18.04
Kernel: 4.15.0-generic
GCC: 7.4
NIC: Intel Corporation Ethernet Converged Network Adapter 82599ES 10000 Mbps
Target: x86_64-native-linuxapp-gcc
Fail/Total: 0/3
Detail performance results:
+------------+---------+-------------------------------------+
| frame_size | txd/rxd | throughput difference from expected |
+============+=========+=====================================+
| 64 | 128 | 0.097 |
+------------+---------+-------------------------------------+
| 64 | 512 | 0.053 |
+------------+---------+-------------------------------------+
| 64 | 2048 | -0.287 |
+------------+---------+-------------------------------------+
Ubuntu 18.04
Kernel: 4.15.0-generic
GCC: 7.4
NIC: Intel Corporation Ethernet Converged Network Adapter XL710-QDA2 40000 Mbps
Target: x86_64-native-linuxapp-gcc
Fail/Total: 0/2
Detail performance results:
+------------+---------+-------------------------------------+
| frame_size | txd/rxd | throughput difference from expected |
+============+=========+=====================================+
| 64 | 512 | -0.179 |
+------------+---------+-------------------------------------+
| 64 | 2048 | -0.158 |
+------------+---------+-------------------------------------+
https://lab.dpdk.org/results/dashboard/patchsets/8080/
UNH-IOL DPDK Performance Test Lab
To manage your email subscriptions visit:
https://lab.dpdk.org/results/dashboard/preferences/subscriptions/
^ permalink raw reply [flat|nested] 4+ messages in thread
[parent not found: <1571772857-18287-1-git-send-email-david.marchand@redhat.com>]
end of thread, other threads:[~2019-10-22 22:26 UTC | newest]
Thread overview: 4+ messages (download: mbox.gz / follow: Atom feed)
-- links below jump to the message on this page --
2019-10-22 21:53 [dpdk-test-report] |SUCCESS| pw61677 [PATCH] eal: remove dead code on NUMA node detection dpdklab
-- strict thread matches above, loose matches on Subject: below --
2019-10-22 22:26 dpdklab
2019-10-22 21:13 dpdklab
[not found] <1571772857-18287-1-git-send-email-david.marchand@redhat.com>
2019-10-22 19:34 ` checkpatch
This is a public inbox, see mirroring instructions
for how to clone and mirror all data and code used for this inbox;
as well as URLs for NNTP newsgroup(s).